{"text_format":"1","workbook":"xlsx","n_sheets":8,"sheets":["Help","MEtreh","Analiz","D2","Anb","Manabeh","Report","desk"],"not_rendered":{"charts":0,"images":18,"macros":1,"external_links":1,"defined_names":16,"comments":0,"pivot_tables":0},"unopened":[],"bounds":{"document_bytes":16777216,"sheet_cells":100000,"rows_first":2000,"rows_last":500,"rows_between":2000,"halvings":0,"cell_chars":16384,"cell_head_chars":4096},"cells_cut":0,"cells_raw":0,"read":"whole","date_system":"1900"}

{"sheet":"Help","index":0,"n_rows":52,"n_cols":8,"rows_kept":52,"cut":false,"hidden":false,"merged":[]}
[]
[]
[null,null,null,null,null,null,null,"دموی برنامه آنالیز و برآورد قیمت دانا"]
[]
[null,null,null,null,null,null,null,"آنالیز ردیفهای فهرست بها در چهاربخش (نیروی انسانی ، ماشین آلات ، تهیه مصالح و حمل مصالح ) بر اساس آخرین آنالیز اعلام شده از سوی سازمان مدیریت و برنامه ریزی کشور و دیگر قابلیتهای مورد نیاز برای تهیه آنالیز بها پروژه"]
[]
[null,null,null,null,null,null,null,{"$f":"\" بر اساس \"&'D2'!C1","v":" بر اساس فهرست بهای ابنیه 97"}]
[null,null,null,null,null,null,null,"ویرایش چهارم                                                                                                                                                 نسخه 4.0.1   "]
[]
[]
[null,null,null,null,null,null,null,"توضیحات برنامه"]
[null,null,null,null,null,null,null,"ضمن تشکر از حسن انتخاب شما کاربر گرامی بسیار خرسندیم از اینکه سعادتی شد تا در خدمدتان باشیم ، امید واریم بتوانیم همراه خوبی برایتان باشیم."]
[null,null,null,null,null,null,null,"قبل از شروع بکار با برنامه در صورتیکه فونتهای گروه B روی سیستم شما نصب نباشد می توانید از طریق لینک زیر فونتها را  دانلود کرده و نصب کنید. "]
[]
[null,null,null,null,null,null,null,"بعد از فعال سازی برنامه یک کپی از فایل خام تهیه کنید و بصورت بک آپ ذخیره کنید تا در صورت انجام پروژه جدید از آن کپی گرفته و استفاده نمایید."]
[null,null,null,null,null,null,null,"نسخه نمایشی است و فقط آنالیز 7 آیتم قرار داده شده است.      010101 - 010102 - 010111 - 010112 - 010113 - 010114 - 010115"]
[null,null,null,null,null,null,null,"معرفی برنامه"]
[]
[null,null,null,null,"پروژه نمونه",null,null,"اين برنامه با عنوان آنالیز و برآورد قیمت دانا جهت تنظيم آناليز ردیفهای فهرست بها و برآورد قيمت اجرای پروژه های عمرانی بر مبنای (جدول شماره 5 - تجزیه بهای اقلام کار ) مطابق با بخشنامه 96/1232579 مورخ 96/03/31 سازمان  مدیریت و برنامه ریزی کشور (جایگزین بخشنامه 4951) جهت تهیه اسناد مناقصه و یا تهیه قیمت جدید تنظيم شده است."]
[null,null,null,null,"کارفرمای نمونه"]
[null,null,null,null,"مشاور نمونه"]
[null,null,null,null,"پیمانکار نمونه"]
[]
[null,null,null,null,null,null,null,"از آنجایکه این برنامه با استفاده از فرمول نویسی تحت اکسل و ماکرو نویسی در محیط VBA  طراحی و پیاده سازی شده است. برای اجرای کدهای آن نیاز است که ماکرو در اکسل فعال باشد در تصویر زیر نحوه فعال کردن ماکرو بصورت تصویری آورده شده است با طی این مراحل ماکرو در اکسل فعال خواهد شد."]
[]
[]
[]
[]
[]
[]
[null,null,null,null,null,null,null,"پس از طی مراحل فوق برای اعمال تغییرات اکسل را ببندید و دوباره باز کنید."]
[null,null,null,null,null,null,null,"در صورت وجود ابهام از لینک مقابل استفاده کنید."]
[]
[null,null,null,null,null,null,null,"راهنمای برنامه"]
[]
[null,null,null,null,null,null,null,"بعد از فعال کردن ماکرو و فعال سازی بخشهای مختلف برنامه قابل مشاهده خواهد شد. که در ادامه کاربرد هر یک از بخشها بصورت  کلی و مختصر بیان شده است. و در انتها لینک دانلود کتابچه راهنما قرار داده شده است."]
[]
[]
[null,null,null,null,null,null,null,"از طریق دکمه «اطلاعات پروژه» مشخصات  پروژه (شامل : عنوان پروژه ،نام كارفرما يا دستگاه اجرايي ، نام پيمانكار و نام مشاو) را  وارد کنید. "]
[null,null,null,null,null,null,null,"شماره رديفهاي مورد نياز جهت آناليز را وارد كرده ، مقدار و ضرایب آنها را نيز مشخص كنيد.و از طریق دکمه « فرم آنالیز» آنالیز ردیفها را مشاهده و کرده و آنها را آنالیز کنید."]
[]
[]
[null,null,null,null,null,null,null,"از آنالیز ردیفها گزارش گیری کرده و چاپ کنید و یا خروجی PDF یا  اکسل قابل ویرایش تهیه کنید."]
[]
[]
[null,null,null,null,null,null,null,"لیست کل منابع فهرست بها ویا پروژه را با قیمتهای نت، آمار و روز  و مقادیر مورد نیاز از هر یک را در پروژه ببینید و هزینه ها را مطالعه و بررسی کنید."]
[null,null,null,null,null,null,null,"نکته : از آنجایی که اطلاعات، منابع و مقادیر مورد نیاز پروژه از برگه Report فرا خوانی می شود حتما بایستی قبلاً گزارش گیری کرده باشید."]
[]
[null,null,null,null,null,null,null,"راهنمای جامع نحوه کار با برنامه را از طریق لینک مقابل دانلود کنید"]
[null,null,null,null,null,null,null,"کلیه حقوق مادی و معنوی این اثر متعلق به پدید آورنده آن می باشد"]
[null,null,null,null,null,null,null,"پدید آورنده : اميد شيخا                                                   "]
[null,null,null,null,null,null,null,"نیرو گرفته از قدرت اکسل"]

{"sheet":"MEtreh","index":1,"n_rows":1003,"n_cols":14,"rows_kept":1003,"cut":false,"hidden":true,"merged":[[0,4,0,10],[1,0,2,0],[1,12,1,13],[1,1,2,1],[1,2,2,2],[1,3,2,3],[1,4,2,4],[1,8,2,8],[1,10,2,10],[1,5,2,5],[1,6,2,6],[1,7,2,7]]}
[null,{"$f":"COUNTA(B4:B1003)","v":3},"\n",null,{"$f":"'D2'!B1","v":"نسخه نمایشی فهرست بهای واحد پایه رشته ابنیه رسته ساختمان سال 97"}]
["ردیف","شماره آیتم","شرح","واحد","بهاي رديف","ضریب A","ضریب B","ضریب C","مقدار","بهای کل برآوردی","بهاي واحد پيشنهادي","بهاي كل پيشنهادي","درصد رشد"]
[null,null,null,null,null,null,null,null,null,{"$f":"SUM(J4:J1003)","v":210300},null,{"$f":"SUM(L4:L1003)","v":210563.47999999998},"اضافه","تخفيف"]
[1,"010101",{"$f":"IFERROR(VLOOKUP(B4,ItemDB,2,0),\"\")","v":" بوته کني در زمينهاي پوشيده شده از بوته و خارج کردن ريشه‌هاي آن از محل عمليات."},{"$f":"IFERROR(VLOOKUP(B4,ItemDB,3,0),\"\")","v":"مترمربع"},{"$f":"PRODUCT(IFERROR(VLOOKUP(B4,ItemDB,4,0),0),F4:H4)","v":215},null,null,null,20,{"$f":"I4*E4","v":4300},{"$f":"IFERROR(VLOOKUP(\"شمـاره رديف آنـاليــز :   \"&B4,Anareport,9,0),0)","v":212.08199999999999},{"$f":"K4*I4","v":4241.6399999999994},{"$f":"IF(K4>E4,K4/E4-1,\"\")","v":""},{"$f":"IF(K4<E4,K4/E4-1,\"\")","v":-1.3572093023255793E-2}]
[2,"010102"," کندن و يا بريدن و در صورت لزوم ريشه کن کردن درخت از هر نوع، در صورتي که محيط تنه درخت در سطح زمين تا 15 سانتي متر باشد، به ازاي هر 5 سانتي متر محيط تنه (کسر 5 سانتي متر به تناسب محاسبه مي‌شود) و حمل آن به خارج محل عمليات.","اصله",10300,null,null,null,20,206000,10316.091999999999,206321.83999999997,1.5623300970872833E-3,""]
[3,"010114"," پر کردن و کوبيدن جاي ريشه با خاک مناسب در صورتي که محيط تنه درخت در سطح زمين بيش از 60 تا 90 سانتي متر باشد.","اصله",214500,null,null,null,null,0,0,0,{"$f":"IF(K6>E6,K6/E6-1,\"\")","v":""},{"$f":"IF(K6<E6,K6/E6-1,\"\")","v":-1}]
[4,null,{"$f":"IFERROR(VLOOKUP(B7,ItemDB,2,0),\"\")","v":""},"",0,null,null,null,null,0,0,0,"",""]
[5,null,"","",0,null,null,null,null,0,0,0,"",""]
[6,null,"","",0,null,null,null,null,0,0,0,"",""]
[7,null,"","",0,null,null,null,null,0,0,0,"",""]
[8,null,"","",0,null,null,null,null,0,0,0,"",""]
[9,null,"","",0,null,null,null,null,0,0,0,"",""]
[10,null,"","",0,null,null,null,null,0,0,0,"",""]
[11,null,"","",0,null,null,null,null,0,0,0,"",""]
[12,null,"","",0,null,null,null,null,0,0,0,"",""]
[13,null,"","",0,null,null,null,null,0,0,0,"",""]
[14,null,"","",0,null,null,null,null,0,0,0,"",""]
[15,null,"","",0,null,null,null,null,0,0,0,"",""]
[16,null,"","",0,null,null,null,null,0,0,0,"",""]
[17,null,"","",0,null,null,null,null,0,0,0,"",""]
[18,null,"","",0,null,null,null,null,0,0,0,"",""]
[19,null,"","",0,null,null,null,null,0,0,0,"",""]
[20,null,"","",0,null,null,null,null,0,0,0,"",""]
[21,null,"","",0,null,null,null,null,0,0,0,"",""]
[22,null,"","",0,null,null,null,null,0,0,0,"",""]
[23,null,"","",0,null,null,null,null,0,0,0,"",""]
[24,null,"","",0,null,null,null,null,0,0,0,"",""]
[25,null,"","",0,null,null,null,null,0,0,0,"",""]
[26,null,"","",0,null,null,null,null,0,0,0,"",""]
[27,null,"","",0,null,null,null,null,0,0,0,"",""]
[28,null,"","",0,null,null,null,null,0,0,0,"",""]
[29,null,"","",0,null,null,null,null,0,0,0,"",""]
[30,null,"","",0,null,null,null,null,0,0,0,"",""]
[31,null,"","",0,null,null,null,null,0,0,0,"",""]
[32,null,"","",0,null,null,null,null,0,0,0,"",""]
[33,null,"","",0,null,null,null,null,0,0,0,"",""]
[34,null,"","",0,null,null,null,null,0,0,0,"",""]
[35,null,"","",0,null,null,null,null,0,0,0,"",""]
[36,null,"","",0,null,null,null,null,0,0,0,"",""]
[37,null,"","",0,null,null,null,null,0,0,0,"",""]
[38,null,"","",0,null,null,null,null,0,0,0,"",""]
[39,null,"","",0,null,null,null,null,0,0,0,"",""]
[40,null,"","",0,null,null,null,null,0,0,0,"",""]
[41,null,"","",0,null,null,null,null,0,0,0,"",""]
[42,null,"","",0,null,null,null,null,0,0,0,"",""]
[43,null,"","",0,null,null,null,null,0,0,0,"",""]
[44,null,"","",0,null,null,null,null,0,0,0,"",""]
[45,null,"","",0,null,null,null,null,0,0,0,"",""]
[46,null,"","",0,null,null,null,null,0,0,0,"",""]
[47,null,"","",0,null,null,null,null,0,0,0,"",""]
[48,null,"","",0,null,null,null,null,0,0,0,"",""]
[49,null,"","",0,null,null,null,null,0,0,0,"",""]
[50,null,"","",0,null,null,null,null,0,0,0,"",""]
[51,null,"","",0,null,null,null,null,0,0,0,"",""]
[52,null,"","",0,null,null,null,null,0,0,0,"",""]
[53,null,"","",0,null,null,null,null,0,0,0,"",""]
[54,null,"","",0,null,null,null,null,0,0,0,"",""]
[55,null,"","",0,null,null,null,null,0,0,0,"",""]
[56,null,"","",0,null,null,null,null,0,0,0,"",""]
[57,null,"","",0,null,null,null,null,0,0,0,"",""]
[58,null,"","",0,null,null,null,null,0,0,0,"",""]
[59,null,"","",0,null,null,null,null,0,0,0,"",""]
[60,null,"","",0,null,null,null,null,0,0,0,"",""]
[61,null,"","",0,null,null,null,null,0,0,0,"",""]
[62,null,"","",0,null,null,null,null,0,0,0,"",""]
[63,null,"","",0,null,null,null,null,0,0,0,"",""]
[64,null,"","",0,null,null,null,null,0,0,0,"",""]
[65,null,{"$f":"IFERROR(VLOOKUP(B68,ItemDB,2,0),\"\")","v":""},{"$f":"IFERROR(VLOOKUP(B68,ItemDB,3,0),\"\")","v":""},{"$f":"PRODUCT(IFERROR(VLOOKUP(B68,ItemDB,4,0),0),F68:H68)","v":0},null,null,null,null,{"$f":"I68*E68","v":0},{"$f":"IFERROR(VLOOKUP(\"شمـاره رديف آنـاليــز :   \"&B68,Anareport,9,0),0)","v":0},{"$f":"K68*I68","v":0},"",""]
[66,null,"","",0,null,null,null,null,0,0,0,"",""]
[67,null,"","",0,null,null,null,null,0,0,0,{"$f":"IF(K70>E70,K70/E70-1,\"\")","v":""},{"$f":"IF(K70<E70,K70/E70-1,\"\")","v":""}]
[68,null,"","",0,null,null,null,null,0,0,0,"",""]
[69,null,"","",0,null,null,null,null,0,0,0,"",""]
[70,null,"","",0,null,null,null,null,0,0,0,"",""]
[71,null,"","",0,null,null,null,null,0,0,0,"",""]
[72,null,"","",0,null,null,null,null,0,0,0,"",""]
[73,null,"","",0,null,null,null,null,0,0,0,"",""]
[74,null,"","",0,null,null,null,null,0,0,0,"",""]
[75,null,"","",0,null,null,null,null,0,0,0,"",""]
[76,null,"","",0,null,null,null,null,0,0,0,"",""]
[77,null,"","",0,null,null,null,null,0,0,0,"",""]
[78,null,"","",0,null,null,null,null,0,0,0,"",""]
[79,null,"","",0,null,null,null,null,0,0,0,"",""]
[80,null,"","",0,null,null,null,null,0,0,0,"",""]
[81,null,"","",0,null,null,null,null,0,0,0,"",""]
[82,null,"","",0,null,null,null,null,0,0,0,"",""]
[83,null,"","",0,null,null,null,null,0,0,0,"",""]
[84,null,"","",0,null,null,null,null,0,0,0,"",""]
[85,null,"","",0,null,null,null,null,0,0,0,"",""]
[86,null,"","",0,null,null,null,null,0,0,0,"",""]
[87,null,"","",0,null,null,null,null,0,0,0,"",""]
[88,null,"","",0,null,null,null,null,0,0,0,"",""]
[89,null,"","",0,null,null,null,null,0,0,0,"",""]
[90,null,"","",0,null,null,null,null,0,0,0,"",""]
[91,null,"","",0,null,null,null,null,0,0,0,"",""]
[92,null,"","",0,null,null,null,null,0,0,0,"",""]
[93,null,"","",0,null,null,null,null,0,0,0,"",""]
[94,null,"","",0,null,null,null,null,0,0,0,"",""]
[95,null,"","",0,null,null,null,null,0,0,0,"",""]
[96,null,"","",0,null,null,null,null,0,0,0,"",""]
[97,null,"","",0,null,null,null,null,0,0,0,"",""]
[98,null,"","",0,null,null,null,null,0,0,0,"",""]
[99,null,"","",0,null,null,null,null,0,0,0,"",""]
[100,null,"","",0,null,null,null,null,0,0,0,"",""]
[101,null,"","",0,null,null,null,null,0,0,0,"",""]
[102,null,"","",0,null,null,null,null,0,0,0,"",""]
[103,null,"","",0,null,null,null,null,0,0,0,"",""]
[104,null,"","",0,null,null,null,null,0,0,0,"",""]
[105,null,"","",0,null,null,null,null,0,0,0,"",""]
[106,null,"","",0,null,null,null,null,0,0,0,"",""]
[107,null,"","",0,null,null,null,null,0,0,0,"",""]
[108,null,"","",0,null,null,null,null,0,0,0,"",""]
[109,null,"","",0,null,null,null,null,0,0,0,"",""]
[110,null,"","",0,null,null,null,null,0,0,0,"",""]
[111,null,"","",0,null,null,null,null,0,0,0,"",""]
[112,null,"","",0,null,null,null,null,0,0,0,"",""]
[113,null,"","",0,null,null,null,null,0,0,0,"",""]
[114,null,"","",0,null,null,null,null,0,0,0,"",""]
[115,null,"","",0,null,null,null,null,0,0,0,"",""]
[116,null,"","",0,null,null,null,null,0,0,0,"",""]
[117,null,"","",0,null,null,null,null,0,0,0,"",""]
[118,null,"","",0,null,null,null,null,0,0,0,"",""]
[119,null,"","",0,null,null,null,null,0,0,0,"",""]
[120,null,"","",0,null,null,null,null,0,0,0,"",""]
[121,null,"","",0,null,null,null,null,0,0,0,"",""]
[122,null,"","",0,null,null,null,null,0,0,0,"",""]
[123,null,"","",0,null,null,null,null,0,0,0,"",""]
[124,null,"","",0,null,null,null,null,0,0,0,"",""]
[125,null,"","",0,null,null,null,null,0,0,0,"",""]
[126,null,"","",0,null,null,null,null,0,0,0,"",""]
[127,null,"","",0,null,null,null,null,0,0,0,"",""]
[128,null,"","",0,null,null,null,null,0,0,0,"",""]
[129,null,{"$f":"IFERROR(VLOOKUP(B132,ItemDB,2,0),\"\")","v":""},{"$f":"IFERROR(VLOOKUP(B132,ItemDB,3,0),\"\")","v":""},{"$f":"PRODUCT(IFERROR(VLOOKUP(B132,ItemDB,4,0),0),F132:H132)","v":0},null,null,null,null,{"$f":"I132*E132","v":0},{"$f":"IFERROR(VLOOKUP(\"شمـاره رديف آنـاليــز :   \"&B132,Anareport,9,0),0)","v":0},{"$f":"K132*I132","v":0},"",""]
[130,null,"","",0,null,null,null,null,0,0,0,"",""]
[131,null,"","",0,null,null,null,null,0,0,0,{"$f":"IF(K134>E134,K134/E134-1,\"\")","v":""},{"$f":"IF(K134<E134,K134/E134-1,\"\")","v":""}]
[132,null,"","",0,null,null,null,null,0,0,0,"",""]
[133,null,"","",0,null,null,null,null,0,0,0,"",""]
[134,null,"","",0,null,null,null,null,0,0,0,"",""]
[135,null,"","",0,null,null,null,null,0,0,0,"",""]
[136,null,"","",0,null,null,null,null,0,0,0,"",""]
[137,null,"","",0,null,null,null,null,0,0,0,"",""]
[138,null,"","",0,null,null,null,null,0,0,0,"",""]
[139,null,"","",0,null,null,null,null,0,0,0,"",""]
[140,null,"","",0,null,null,null,null,0,0,0,"",""]
[141,null,"","",0,null,null,null,null,0,0,0,"",""]
[142,null,"","",0,null,null,null,null,0,0,0,"",""]
[143,null,"","",0,null,null,null,null,0,0,0,"",""]
[144,null,"","",0,null,null,null,null,0,0,0,"",""]
[145,null,"","",0,null,null,null,null,0,0,0,"",""]
[146,null,"","",0,null,null,null,null,0,0,0,"",""]
[147,null,"","",0,null,null,null,null,0,0,0,"",""]
[148,null,"","",0,null,null,null,null,0,0,0,"",""]
[149,null,"","",0,null,null,null,null,0,0,0,"",""]
[150,null,"","",0,null,null,null,null,0,0,0,"",""]
[151,null,"","",0,null,null,null,null,0,0,0,"",""]
[152,null,"","",0,null,null,null,null,0,0,0,"",""]
[153,null,"","",0,null,null,null,null,0,0,0,"",""]
[154,null,"","",0,null,null,null,null,0,0,0,"",""]
[155,null,"","",0,null,null,null,null,0,0,0,"",""]
[156,null,"","",0,null,null,null,null,0,0,0,"",""]
[157,null,"","",0,null,null,null,null,0,0,0,"",""]
[158,null,"","",0,null,null,null,null,0,0,0,"",""]
[159,null,"","",0,null,null,null,null,0,0,0,"",""]
[160,null,"","",0,null,null,null,null,0,0,0,"",""]
[161,null,"","",0,null,null,null,null,0,0,0,"",""]
[162,null,"","",0,null,null,null,null,0,0,0,"",""]
[163,null,"","",0,null,null,null,null,0,0,0,"",""]
[164,null,"","",0,null,null,null,null,0,0,0,"",""]
[165,null,"","",0,null,null,null,null,0,0,0,"",""]
[166,null,"","",0,null,null,null,null,0,0,0,"",""]
[167,null,"","",0,null,null,null,null,0,0,0,"",""]
[168,null,"","",0,null,null,null,null,0,0,0,"",""]
[169,null,"","",0,null,null,null,null,0,0,0,"",""]
[170,null,"","",0,null,null,null,null,0,0,0,"",""]
[171,null,"","",0,null,null,null,null,0,0,0,"",""]
[172,null,"","",0,null,null,null,null,0,0,0,"",""]
[173,null,"","",0,null,null,null,null,0,0,0,"",""]
[174,null,"","",0,null,null,null,null,0,0,0,"",""]
[175,null,"","",0,null,null,null,null,0,0,0,"",""]
[176,null,"","",0,null,null,null,null,0,0,0,"",""]
[177,null,"","",0,null,null,null,null,0,0,0,"",""]
[178,null,"","",0,null,null,null,null,0,0,0,"",""]
[179,null,"","",0,null,null,null,null,0,0,0,"",""]
[180,null,"","",0,null,null,null,null,0,0,0,"",""]
[181,null,"","",0,null,null,null,null,0,0,0,"",""]
[182,null,"","",0,null,null,null,null,0,0,0,"",""]
[183,null,"","",0,null,null,null,null,0,0,0,"",""]
[184,null,"","",0,null,null,null,null,0,0,0,"",""]
[185,null,"","",0,null,null,null,null,0,0,0,"",""]
[186,null,"","",0,null,null,null,null,0,0,0,"",""]
[187,null,"","",0,null,null,null,null,0,0,0,"",""]
[188,null,"","",0,null,null,null,null,0,0,0,"",""]
[189,null,"","",0,null,null,null,null,0,0,0,"",""]
[190,null,"","",0,null,null,null,null,0,0,0,"",""]
[191,null,"","",0,null,null,null,null,0,0,0,"",""]
[192,null,"","",0,null,null,null,null,0,0,0,"",""]
[193,null,{"$f":"IFERROR(VLOOKUP(B196,ItemDB,2,0),\"\")","v":""},{"$f":"IFERROR(VLOOKUP(B196,ItemDB,3,0),\"\")","v":""},{"$f":"PRODUCT(IFERROR(VLOOKUP(B196,ItemDB,4,0),0),F196:H196)","v":0},null,null,null,null,{"$f":"I196*E196","v":0},{"$f":"IFERROR(VLOOKUP(\"شمـاره رديف آنـاليــز :   \"&B196,Anareport,9,0),0)","v":0},{"$f":"K196*I196","v":0},"",""]
[194,null,"","",0,null,null,null,null,0,0,0,"",""]
[195,null,"","",0,null,null,null,null,0,0,0,{"$f":"IF(K198>E198,K198/E198-1,\"\")","v":""},{"$f":"IF(K198<E198,K198/E198-1,\"\")","v":""}]
[196,null,"","",0,null,null,null,null,0,0,0,"",""]
[197,null,"","",0,null,null,null,null,0,0,0,"",""]
[198,null,"","",0,null,null,null,null,0,0,0,"",""]
[199,null,"","",0,null,null,null,null,0,0,0,"",""]
[200,null,"","",0,null,null,null,null,0,0,0,"",""]
[201,null,"","",0,null,null,null,null,0,0,0,"",""]
[202,null,"","",0,null,null,null,null,0,0,0,"",""]
[203,null,"","",0,null,null,null,null,0,0,0,"",""]
[204,null,"","",0,null,null,null,null,0,0,0,"",""]
[205,null,"","",0,null,null,null,null,0,0,0,"",""]
[206,null,"","",0,null,null,null,null,0,0,0,"",""]
[207,null,"","",0,null,null,null,null,0,0,0,"",""]
[208,null,"","",0,null,null,null,null,0,0,0,"",""]
[209,null,"","",0,null,null,null,null,0,0,0,"",""]
[210,null,"","",0,null,null,null,null,0,0,0,"",""]
[211,null,"","",0,null,null,null,null,0,0,0,"",""]
[212,null,"","",0,null,null,null,null,0,0,0,"",""]
[213,null,"","",0,null,null,null,null,0,0,0,"",""]
[214,null,"","",0,null,null,null,null,0,0,0,"",""]
[215,null,"","",0,null,null,null,null,0,0,0,"",""]
[216,null,"","",0,null,null,null,null,0,0,0,"",""]
[217,null,"","",0,null,null,null,null,0,0,0,"",""]
[218,null,"","",0,null,null,null,null,0,0,0,"",""]
[219,null,"","",0,null,null,null,null,0,0,0,"",""]
[220,null,"","",0,null,null,null,null,0,0,0,"",""]
[221,null,"","",0,null,null,null,null,0,0,0,"",""]
[222,null,"","",0,null,null,null,null,0,0,0,"",""]
[223,null,"","",0,null,null,null,null,0,0,0,"",""]
[224,null,"","",0,null,null,null,null,0,0,0,"",""]
[225,null,"","",0,null,null,null,null,0,0,0,"",""]
[226,null,"","",0,null,null,null,null,0,0,0,"",""]
[227,null,"","",0,null,null,null,null,0,0,0,"",""]
[228,null,"","",0,null,null,null,null,0,0,0,"",""]
[229,null,"","",0,null,null,null,null,0,0,0,"",""]
[230,null,"","",0,null,null,null,null,0,0,0,"",""]
[231,null,"","",0,null,null,null,null,0,0,0,"",""]
[232,null,"","",0,null,null,null,null,0,0,0,"",""]
[233,null,"","",0,null,null,null,null,0,0,0,"",""]
[234,null,"","",0,null,null,null,null,0,0,0,"",""]
[235,null,"","",0,null,null,null,null,0,0,0,"",""]
[236,null,"","",0,null,null,null,null,0,0,0,"",""]
[237,null,"","",0,null,null,null,null,0,0,0,"",""]
[238,null,"","",0,null,null,null,null,0,0,0,"",""]
[239,null,"","",0,null,null,null,null,0,0,0,"",""]
[240,null,"","",0,null,null,null,null,0,0,0,"",""]
[241,null,"","",0,null,null,null,null,0,0,0,"",""]
[242,null,"","",0,null,null,null,null,0,0,0,"",""]
[243,null,"","",0,null,null,null,null,0,0,0,"",""]
[244,null,"","",0,null,null,null,null,0,0,0,"",""]
[245,null,"","",0,null,null,null,null,0,0,0,"",""]
[246,null,"","",0,null,null,null,null,0,0,0,"",""]
[247,null,"","",0,null,null,null,null,0,0,0,"",""]
[248,null,"","",0,null,null,null,null,0,0,0,"",""]
[249,null,"","",0,null,null,null,null,0,0,0,"",""]
[250,null,"","",0,null,null,null,null,0,0,0,"",""]
[251,null,"","",0,null,null,null,null,0,0,0,"",""]
[252,null,"","",0,null,null,null,null,0,0,0,"",""]
[253,null,"","",0,null,null,null,null,0,0,0,"",""]
[254,null,"","",0,null,null,null,null,0,0,0,"",""]
[255,null,"","",0,null,null,null,null,0,0,0,"",""]
[256,null,"","",0,null,null,null,null,0,0,0,"",""]
[257,null,{"$f":"IFERROR(VLOOKUP(B260,ItemDB,2,0),\"\")","v":""},{"$f":"IFERROR(VLOOKUP(B260,ItemDB,3,0),\"\")","v":""},{"$f":"PRODUCT(IFERROR(VLOOKUP(B260,ItemDB,4,0),0),F260:H260)","v":0},null,null,null,null,{"$f":"I260*E260","v":0},{"$f":"IFERROR(VLOOKUP(\"شمـاره رديف آنـاليــز :   \"&B260,Anareport,9,0),0)","v":0},{"$f":"K260*I260","v":0},"",""]
[258,null,"","",0,null,null,null,null,0,0,0,"",""]
[259,null,"","",0,null,null,null,null,0,0,0,{"$f":"IF(K262>E262,K262/E262-1,\"\")","v":""},{"$f":"IF(K262<E262,K262/E262-1,\"\")","v":""}]
[260,null,"","",0,null,null,null,null,0,0,0,"",""]
[261,null,"","",0,null,null,null,null,0,0,0,"",""]
[262,null,"","",0,null,null,null,null,0,0,0,"",""]
[263,null,"","",0,null,null,null,null,0,0,0,"",""]
[264,null,"","",0,null,null,null,null,0,0,0,"",""]
[265,null,"","",0,null,null,null,null,0,0,0,"",""]
[266,null,"","",0,null,null,null,null,0,0,0,"",""]
[267,null,"","",0,null,null,null,null,0,0,0,"",""]
[268,null,"","",0,null,null,null,null,0,0,0,"",""]
[269,null,"","",0,null,null,null,null,0,0,0,"",""]
[270,null,"","",0,null,null,null,null,0,0,0,"",""]
[271,null,"","",0,null,null,null,null,0,0,0,"",""]
[272,null,"","",0,null,null,null,null,0,0,0,"",""]
[273,null,"","",0,null,null,null,null,0,0,0,"",""]
[274,null,"","",0,null,null,null,null,0,0,0,"",""]
[275,null,"","",0,null,null,null,null,0,0,0,"",""]
[276,null,"","",0,null,null,null,null,0,0,0,"",""]
[277,null,"","",0,null,null,null,null,0,0,0,"",""]
[278,null,"","",0,null,null,null,null,0,0,0,"",""]
[279,null,"","",0,null,null,null,null,0,0,0,"",""]
[280,null,"","",0,null,null,null,null,0,0,0,"",""]
[281,null,"","",0,null,null,null,null,0,0,0,"",""]
[282,null,"","",0,null,null,null,null,0,0,0,"",""]
[283,null,"","",0,null,null,null,null,0,0,0,"",""]
[284,null,"","",0,null,null,null,null,0,0,0,"",""]
[285,null,"","",0,null,null,null,null,0,0,0,"",""]
[286,null,"","",0,null,null,null,null,0,0,0,"",""]
[287,null,"","",0,null,null,null,null,0,0,0,"",""]
[288,null,"","",0,null,null,null,null,0,0,0,"",""]
[289,null,"","",0,null,null,null,null,0,0,0,"",""]
[290,null,"","",0,null,null,null,null,0,0,0,"",""]
[291,null,"","",0,null,null,null,null,0,0,0,"",""]
[292,null,"","",0,null,null,null,null,0,0,0,"",""]
[293,null,"","",0,null,null,null,null,0,0,0,"",""]
[294,null,"","",0,null,null,null,null,0,0,0,"",""]
[295,null,"","",0,null,null,null,null,0,0,0,"",""]
[296,null,"","",0,null,null,null,null,0,0,0,"",""]
[297,null,"","",0,null,null,null,null,0,0,0,"",""]
[298,null,"","",0,null,null,null,null,0,0,0,"",""]
[299,null,"","",0,null,null,null,null,0,0,0,"",""]
[300,null,"","",0,null,null,null,null,0,0,0,"",""]
[301,null,"","",0,null,null,null,null,0,0,0,"",""]
[302,null,"","",0,null,null,null,null,0,0,0,"",""]
[303,null,"","",0,null,null,null,null,0,0,0,"",""]
[304,null,"","",0,null,null,null,null,0,0,0,"",""]
[305,null,"","",0,null,null,null,null,0,0,0,"",""]
[306,null,"","",0,null,null,null,null,0,0,0,"",""]
[307,null,"","",0,null,null,null,null,0,0,0,"",""]
[308,null,"","",0,null,null,null,null,0,0,0,"",""]
[309,null,"","",0,null,null,null,null,0,0,0,"",""]
[310,null,"","",0,null,null,null,null,0,0,0,"",""]
[311,null,"","",0,null,null,null,null,0,0,0,"",""]
[312,null,"","",0,null,null,null,null,0,0,0,"",""]
[313,null,"","",0,null,null,null,null,0,0,0,"",""]
[314,null,"","",0,null,null,null,null,0,0,0,"",""]
[315,null,"","",0,null,null,null,null,0,0,0,"",""]
[316,null,"","",0,null,null,null,null,0,0,0,"",""]
[317,null,"","",0,null,null,null,null,0,0,0,"",""]
[318,null,"","",0,null,null,null,null,0,0,0,"",""]
[319,null,"","",0,null,null,null,null,0,0,0,"",""]
[320,null,"","",0,null,null,null,null,0,0,0,"",""]
[321,null,{"$f":"IFERROR(VLOOKUP(B324,ItemDB,2,0),\"\")","v":""},{"$f":"IFERROR(VLOOKUP(B324,ItemDB,3,0),\"\")","v":""},{"$f":"PRODUCT(IFERROR(VLOOKUP(B324,ItemDB,4,0),0),F324:H324)","v":0},null,null,null,null,{"$f":"I324*E324","v":0},{"$f":"IFERROR(VLOOKUP(\"شمـاره رديف آنـاليــز :   \"&B324,Anareport,9,0),0)","v":0},{"$f":"K324*I324","v":0},"",""]
[322,null,"","",0,null,null,null,null,0,0,0,"",""]
[323,null,"","",0,null,null,null,null,0,0,0,{"$f":"IF(K326>E326,K326/E326-1,\"\")","v":""},{"$f":"IF(K326<E326,K326/E326-1,\"\")","v":""}]
[324,null,"","",0,null,null,null,null,0,0,0,"",""]
[325,null,"","",0,null,null,null,null,0,0,0,"",""]
[326,null,"","",0,null,null,null,null,0,0,0,"",""]
[327,null,"","",0,null,null,null,null,0,0,0,"",""]
[328,null,"","",0,null,null,null,null,0,0,0,"",""]
[329,null,"","",0,null,null,null,null,0,0,0,"",""]
[330,null,"","",0,null,null,null,null,0,0,0,"",""]
[331,null,"","",0,null,null,null,null,0,0,0,"",""]
[332,null,"","",0,null,null,null,null,0,0,0,"",""]
[333,null,"","",0,null,null,null,null,0,0,0,"",""]
[334,null,"","",0,null,null,null,null,0,0,0,"",""]
[335,null,"","",0,null,null,null,null,0,0,0,"",""]
[336,null,"","",0,null,null,null,null,0,0,0,"",""]
[337,null,"","",0,null,null,null,null,0,0,0,"",""]
[338,null,"","",0,null,null,null,null,0,0,0,"",""]
[339,null,"","",0,null,null,null,null,0,0,0,"",""]
[340,null,"","",0,null,null,null,null,0,0,0,"",""]
[341,null,"","",0,null,null,null,null,0,0,0,"",""]
[342,null,"","",0,null,null,null,null,0,0,0,"",""]
[343,null,"","",0,null,null,null,null,0,0,0,"",""]
[344,null,"","",0,null,null,null,null,0,0,0,"",""]
[345,null,"","",0,null,null,null,null,0,0,0,"",""]
[346,null,"","",0,null,null,null,null,0,0,0,"",""]
[347,null,"","",0,null,null,null,null,0,0,0,"",""]
[348,null,"","",0,null,null,null,null,0,0,0,"",""]
[349,null,"","",0,null,null,null,null,0,0,0,"",""]
[350,null,"","",0,null,null,null,null,0,0,0,"",""]
[351,null,"","",0,null,null,null,null,0,0,0,"",""]
[352,null,"","",0,null,null,null,null,0,0,0,"",""]
[353,null,"","",0,null,null,null,null,0,0,0,"",""]
[354,null,"","",0,null,null,null,null,0,0,0,"",""]
[355,null,"","",0,null,null,null,null,0,0,0,"",""]
[356,null,"","",0,null,null,null,null,0,0,0,"",""]
[357,null,"","",0,null,null,null,null,0,0,0,"",""]
[358,null,"","",0,null,null,null,null,0,0,0,"",""]
[359,null,"","",0,null,null,null,null,0,0,0,"",""]
[360,null,"","",0,null,null,null,null,0,0,0,"",""]
[361,null,"","",0,null,null,null,null,0,0,0,"",""]
[362,null,"","",0,null,null,null,null,0,0,0,"",""]
[363,null,"","",0,null,null,null,null,0,0,0,"",""]
[364,null,"","",0,null,null,null,null,0,0,0,"",""]
[365,null,"","",0,null,null,null,null,0,0,0,"",""]
[366,null,"","",0,null,null,null,null,0,0,0,"",""]
[367,null,"","",0,null,null,null,null,0,0,0,"",""]
[368,null,"","",0,null,null,null,null,0,0,0,"",""]
[369,null,"","",0,null,null,null,null,0,0,0,"",""]
[370,null,"","",0,null,null,null,null,0,0,0,"",""]
[371,null,"","",0,null,null,null,null,0,0,0,"",""]
[372,null,"","",0,null,null,null,null,0,0,0,"",""]
[373,null,"","",0,null,null,null,null,0,0,0,"",""]
[374,null,"","",0,null,null,null,null,0,0,0,"",""]
[375,null,"","",0,null,null,null,null,0,0,0,"",""]
[376,null,"","",0,null,null,null,null,0,0,0,"",""]
[377,null,"","",0,null,null,null,null,0,0,0,"",""]
[378,null,"","",0,null,null,null,null,0,0,0,"",""]
[379,null,"","",0,null,null,null,null,0,0,0,"",""]
[380,null,"","",0,null,null,null,null,0,0,0,"",""]
[381,null,"","",0,null,null,null,null,0,0,0,"",""]
[382,null,"","",0,null,null,null,null,0,0,0,"",""]
[383,null,"","",0,null,null,null,null,0,0,0,"",""]
[384,null,"","",0,null,null,null,null,0,0,0,"",""]
[385,null,{"$f":"IFERROR(VLOOKUP(B388,ItemDB,2,0),\"\")","v":""},{"$f":"IFERROR(VLOOKUP(B388,ItemDB,3,0),\"\")","v":""},{"$f":"PRODUCT(IFERROR(VLOOKUP(B388,ItemDB,4,0),0),F388:H388)","v":0},null,null,null,null,{"$f":"I388*E388","v":0},{"$f":"IFERROR(VLOOKUP(\"شمـاره رديف آنـاليــز :   \"&B388,Anareport,9,0),0)","v":0},{"$f":"K388*I388","v":0},"",""]
[386,null,"","",0,null,null,null,null,0,0,0,"",""]
[387,null,"","",0,null,null,null,null,0,0,0,{"$f":"IF(K390>E390,K390/E390-1,\"\")","v":""},{"$f":"IF(K390<E390,K390/E390-1,\"\")","v":""}]
[388,null,"","",0,null,null,null,null,0,0,0,"",""]
[389,null,"","",0,null,null,null,null,0,0,0,"",""]
[390,null,"","",0,null,null,null,null,0,0,0,"",""]
[391,null,"","",0,null,null,null,null,0,0,0,"",""]
[392,null,"","",0,null,null,null,null,0,0,0,"",""]
[393,null,"","",0,null,null,null,null,0,0,0,"",""]
[394,null,"","",0,null,null,null,null,0,0,0,"",""]
[395,null,"","",0,null,null,null,null,0,0,0,"",""]
[396,null,"","",0,null,null,null,null,0,0,0,"",""]
[397,null,"","",0,null,null,null,null,0,0,0,"",""]
[398,null,"","",0,null,null,null,null,0,0,0,"",""]
[399,null,"","",0,null,null,null,null,0,0,0,"",""]
[400,null,"","",0,null,null,null,null,0,0,0,"",""]
[401,null,"","",0,null,null,null,null,0,0,0,"",""]
[402,null,"","",0,null,null,null,null,0,0,0,"",""]
[403,null,"","",0,null,null,null,null,0,0,0,"",""]
[404,null,"","",0,null,null,null,null,0,0,0,"",""]
[405,null,"","",0,null,null,null,null,0,0,0,"",""]
[406,null,"","",0,null,null,null,null,0,0,0,"",""]
[407,null,"","",0,null,null,null,null,0,0,0,"",""]
[408,null,"","",0,null,null,null,null,0,0,0,"",""]
[409,null,"","",0,null,null,null,null,0,0,0,"",""]
[410,null,"","",0,null,null,null,null,0,0,0,"",""]
[411,null,"","",0,null,null,null,null,0,0,0,"",""]
[412,null,"","",0,null,null,null,null,0,0,0,"",""]
[413,null,"","",0,null,null,null,null,0,0,0,"",""]
[414,null,"","",0,null,null,null,null,0,0,0,"",""]
[415,null,"","",0,null,null,null,null,0,0,0,"",""]
[416,null,"","",0,null,null,null,null,0,0,0,"",""]
[417,null,"","",0,null,null,null,null,0,0,0,"",""]
[418,null,"","",0,null,null,null,null,0,0,0,"",""]
[419,null,"","",0,null,null,null,null,0,0,0,"",""]
[420,null,"","",0,null,null,null,null,0,0,0,"",""]
[421,null,"","",0,null,null,null,null,0,0,0,"",""]
[422,null,"","",0,null,null,null,null,0,0,0,"",""]
[423,null,"","",0,null,null,null,null,0,0,0,"",""]
[424,null,"","",0,null,null,null,null,0,0,0,"",""]
[425,null,"","",0,null,null,null,null,0,0,0,"",""]
[426,null,"","",0,null,null,null,null,0,0,0,"",""]
[427,null,"","",0,null,null,null,null,0,0,0,"",""]
[428,null,"","",0,null,null,null,null,0,0,0,"",""]
[429,null,"","",0,null,null,null,null,0,0,0,"",""]
[430,null,"","",0,null,null,null,null,0,0,0,"",""]
[431,null,"","",0,null,null,null,null,0,0,0,"",""]
[432,null,"","",0,null,null,null,null,0,0,0,"",""]
[433,null,"","",0,null,null,null,null,0,0,0,"",""]
[434,null,"","",0,null,null,null,null,0,0,0,"",""]
[435,null,"","",0,null,null,null,null,0,0,0,"",""]
[436,null,"","",0,null,null,null,null,0,0,0,"",""]
[437,null,"","",0,null,null,null,null,0,0,0,"",""]
[438,null,"","",0,null,null,null,null,0,0,0,"",""]
[439,null,"","",0,null,null,null,null,0,0,0,"",""]
[440,null,"","",0,null,null,null,null,0,0,0,"",""]
[441,null,"","",0,null,null,null,null,0,0,0,"",""]
[442,null,"","",0,null,null,null,null,0,0,0,"",""]
[443,null,"","",0,null,null,null,null,0,0,0,"",""]
[444,null,"","",0,null,null,null,null,0,0,0,"",""]
[445,null,"","",0,null,null,null,null,0,0,0,"",""]
[446,null,"","",0,null,null,null,null,0,0,0,"",""]
[447,null,"","",0,null,null,null,null,0,0,0,"",""]
[448,null,"","",0,null,null,null,null,0,0,0,"",""]
[449,null,{"$f":"IFERROR(VLOOKUP(B452,ItemDB,2,0),\"\")","v":""},{"$f":"IFERROR(VLOOKUP(B452,ItemDB,3,0),\"\")","v":""},{"$f":"PRODUCT(IFERROR(VLOOKUP(B452,ItemDB,4,0),0),F452:H452)","v":0},null,null,null,null,{"$f":"I452*E452","v":0},{"$f":"IFERROR(VLOOKUP(\"شمـاره رديف آنـاليــز :   \"&B452,Anareport,9,0),0)","v":0},{"$f":"K452*I452","v":0},"",""]
[450,null,"","",0,null,null,null,null,0,0,0,"",""]
[451,null,"","",0,null,null,null,null,0,0,0,{"$f":"IF(K454>E454,K454/E454-1,\"\")","v":""},{"$f":"IF(K454<E454,K454/E454-1,\"\")","v":""}]
[452,null,"","",0,null,null,null,null,0,0,0,"",""]
[453,null,"","",0,null,null,null,null,0,0,0,"",""]
[454,null,"","",0,null,null,null,null,0,0,0,"",""]
[455,null,"","",0,null,null,null,null,0,0,0,"",""]
[456,null,"","",0,null,null,null,null,0,0,0,"",""]
[457,null,"","",0,null,null,null,null,0,0,0,"",""]
[458,null,"","",0,null,null,null,null,0,0,0,"",""]
[459,null,"","",0,null,null,null,null,0,0,0,"",""]
[460,null,"","",0,null,null,null,null,0,0,0,"",""]
[461,null,"","",0,null,null,null,null,0,0,0,"",""]
[462,null,"","",0,null,null,null,null,0,0,0,"",""]
[463,null,"","",0,null,null,null,null,0,0,0,"",""]
[464,null,"","",0,null,null,null,null,0,0,0,"",""]
[465,null,"","",0,null,null,null,null,0,0,0,"",""]
[466,null,"","",0,null,null,null,null,0,0,0,"",""]
[467,null,"","",0,null,null,null,null,0,0,0,"",""]
[468,null,"","",0,null,null,null,null,0,0,0,"",""]
[469,null,"","",0,null,null,null,null,0,0,0,"",""]
[470,null,"","",0,null,null,null,null,0,0,0,"",""]
[471,null,"","",0,null,null,null,null,0,0,0,"",""]
[472,null,"","",0,null,null,null,null,0,0,0,"",""]
[473,null,"","",0,null,null,null,null,0,0,0,"",""]
[474,null,"","",0,null,null,null,null,0,0,0,"",""]
[475,null,"","",0,null,null,null,null,0,0,0,"",""]
[476,null,"","",0,null,null,null,null,0,0,0,"",""]
[477,null,"","",0,null,null,null,null,0,0,0,"",""]
[478,null,"","",0,null,null,null,null,0,0,0,"",""]
[479,null,"","",0,null,null,null,null,0,0,0,"",""]
[480,null,"","",0,null,null,null,null,0,0,0,"",""]
[481,null,"","",0,null,null,null,null,0,0,0,"",""]
[482,null,"","",0,null,null,null,null,0,0,0,"",""]
[483,null,"","",0,null,null,null,null,0,0,0,"",""]
[484,null,"","",0,null,null,null,null,0,0,0,"",""]
[485,null,"","",0,null,null,null,null,0,0,0,"",""]
[486,null,"","",0,null,null,null,null,0,0,0,"",""]
[487,null,"","",0,null,null,null,null,0,0,0,"",""]
[488,null,"","",0,null,null,null,null,0,0,0,"",""]
[489,null,"","",0,null,null,null,null,0,0,0,"",""]
[490,null,"","",0,null,null,null,null,0,0,0,"",""]
[491,null,"","",0,null,null,null,null,0,0,0,"",""]
[492,null,"","",0,null,null,null,null,0,0,0,"",""]
[493,null,"","",0,null,null,null,null,0,0,0,"",""]
[494,null,"","",0,null,null,null,null,0,0,0,"",""]
[495,null,"","",0,null,null,null,null,0,0,0,"",""]
[496,null,"","",0,null,null,null,null,0,0,0,"",""]
[497,null,"","",0,null,null,null,null,0,0,0,"",""]
[498,null,"","",0,null,null,null,null,0,0,0,"",""]
[499,null,"","",0,null,null,null,null,0,0,0,"",""]
[500,null,"","",0,null,null,null,null,0,0,0,"",""]
[501,null,"","",0,null,null,null,null,0,0,0,"",""]
[502,null,"","",0,null,null,null,null,0,0,0,"",""]
[503,null,"","",0,null,null,null,null,0,0,0,"",""]
[504,null,"","",0,null,null,null,null,0,0,0,"",""]
[505,null,"","",0,null,null,null,null,0,0,0,"",""]
[506,null,"","",0,null,null,null,null,0,0,0,"",""]
[507,null,"","",0,null,null,null,null,0,0,0,"",""]
[508,null,"","",0,null,null,null,null,0,0,0,"",""]
[509,null,"","",0,null,null,null,null,0,0,0,"",""]
[510,null,"","",0,null,null,null,null,0,0,0,"",""]
[511,null,"","",0,null,null,null,null,0,0,0,"",""]
[512,null,"","",0,null,null,null,null,0,0,0,"",""]
[513,null,{"$f":"IFERROR(VLOOKUP(B516,ItemDB,2,0),\"\")","v":""},{"$f":"IFERROR(VLOOKUP(B516,ItemDB,3,0),\"\")","v":""},{"$f":"PRODUCT(IFERROR(VLOOKUP(B516,ItemDB,4,0),0),F516:H516)","v":0},null,null,null,null,{"$f":"I516*E516","v":0},{"$f":"IFERROR(VLOOKUP(\"شمـاره رديف آنـاليــز :   \"&B516,Anareport,9,0),0)","v":0},{"$f":"K516*I516","v":0},"",""]
[514,null,"","",0,null,null,null,null,0,0,0,"",""]
[515,null,"","",0,null,null,null,null,0,0,0,{"$f":"IF(K518>E518,K518/E518-1,\"\")","v":""},{"$f":"IF(K518<E518,K518/E518-1,\"\")","v":""}]
[516,null,"","",0,null,null,null,null,0,0,0,"",""]
[517,null,"","",0,null,null,null,null,0,0,0,"",""]
[518,null,"","",0,null,null,null,null,0,0,0,"",""]
[519,null,"","",0,null,null,null,null,0,0,0,"",""]
[520,null,"","",0,null,null,null,null,0,0,0,"",""]
[521,null,"","",0,null,null,null,null,0,0,0,"",""]
[522,null,"","",0,null,null,null,null,0,0,0,"",""]
[523,null,"","",0,null,null,null,null,0,0,0,"",""]
[524,null,"","",0,null,null,null,null,0,0,0,"",""]
[525,null,"","",0,null,null,null,null,0,0,0,"",""]
[526,null,"","",0,null,null,null,null,0,0,0,"",""]
[527,null,"","",0,null,null,null,null,0,0,0,"",""]
[528,null,"","",0,null,null,null,null,0,0,0,"",""]
[529,null,"","",0,null,null,null,null,0,0,0,"",""]
[530,null,"","",0,null,null,null,null,0,0,0,"",""]
[531,null,"","",0,null,null,null,null,0,0,0,"",""]
[532,null,"","",0,null,null,null,null,0,0,0,"",""]
[533,null,"","",0,null,null,null,null,0,0,0,"",""]
[534,null,"","",0,null,null,null,null,0,0,0,"",""]
[535,null,"","",0,null,null,null,null,0,0,0,"",""]
[536,null,"","",0,null,null,null,null,0,0,0,"",""]
[537,null,"","",0,null,null,null,null,0,0,0,"",""]
[538,null,"","",0,null,null,null,null,0,0,0,"",""]
[539,null,"","",0,null,null,null,null,0,0,0,"",""]
[540,null,"","",0,null,null,null,null,0,0,0,"",""]
[541,null,"","",0,null,null,null,null,0,0,0,"",""]
[542,null,"","",0,null,null,null,null,0,0,0,"",""]
[543,null,"","",0,null,null,null,null,0,0,0,"",""]
[544,null,"","",0,null,null,null,null,0,0,0,"",""]
[545,null,"","",0,null,null,null,null,0,0,0,"",""]
[546,null,"","",0,null,null,null,null,0,0,0,"",""]
[547,null,"","",0,null,null,null,null,0,0,0,"",""]
[548,null,"","",0,null,null,null,null,0,0,0,"",""]
[549,null,"","",0,null,null,null,null,0,0,0,"",""]
[550,null,"","",0,null,null,null,null,0,0,0,"",""]
[551,null,"","",0,null,null,null,null,0,0,0,"",""]
[552,null,"","",0,null,null,null,null,0,0,0,"",""]
[553,null,"","",0,null,null,null,null,0,0,0,"",""]
[554,null,"","",0,null,null,null,null,0,0,0,"",""]
[555,null,"","",0,null,null,null,null,0,0,0,"",""]
[556,null,"","",0,null,null,null,null,0,0,0,"",""]
[557,null,"","",0,null,null,null,null,0,0,0,"",""]
[558,null,"","",0,null,null,null,null,0,0,0,"",""]
[559,null,"","",0,null,null,null,null,0,0,0,"",""]
[560,null,"","",0,null,null,null,null,0,0,0,"",""]
[561,null,"","",0,null,null,null,null,0,0,0,"",""]
[562,null,"","",0,null,null,null,null,0,0,0,"",""]
[563,null,"","",0,null,null,null,null,0,0,0,"",""]
[564,null,"","",0,null,null,null,null,0,0,0,"",""]
[565,null,"","",0,null,null,null,null,0,0,0,"",""]
[566,null,"","",0,null,null,null,null,0,0,0,"",""]
[567,null,"","",0,null,null,null,null,0,0,0,"",""]
[568,null,"","",0,null,null,null,null,0,0,0,"",""]
[569,null,"","",0,null,null,null,null,0,0,0,"",""]
[570,null,"","",0,null,null,null,null,0,0,0,"",""]
[571,null,"","",0,null,null,null,null,0,0,0,"",""]
[572,null,"","",0,null,null,null,null,0,0,0,"",""]
[573,null,"","",0,null,null,null,null,0,0,0,"",""]
[574,null,"","",0,null,null,null,null,0,0,0,"",""]
[575,null,"","",0,null,null,null,null,0,0,0,"",""]
[576,null,"","",0,null,null,null,null,0,0,0,"",""]
[577,null,{"$f":"IFERROR(VLOOKUP(B580,ItemDB,2,0),\"\")","v":""},{"$f":"IFERROR(VLOOKUP(B580,ItemDB,3,0),\"\")","v":""},{"$f":"PRODUCT(IFERROR(VLOOKUP(B580,ItemDB,4,0),0),F580:H580)","v":0},null,null,null,null,{"$f":"I580*E580","v":0},{"$f":"IFERROR(VLOOKUP(\"شمـاره رديف آنـاليــز :   \"&B580,Anareport,9,0),0)","v":0},{"$f":"K580*I580","v":0},"",""]
[578,null,"","",0,null,null,null,null,0,0,0,"",""]
[579,null,"","",0,null,null,null,null,0,0,0,{"$f":"IF(K582>E582,K582/E582-1,\"\")","v":""},{"$f":"IF(K582<E582,K582/E582-1,\"\")","v":""}]
[580,null,"","",0,null,null,null,null,0,0,0,"",""]
[581,null,"","",0,null,null,null,null,0,0,0,"",""]
[582,null,"","",0,null,null,null,null,0,0,0,"",""]
[583,null,"","",0,null,null,null,null,0,0,0,"",""]
[584,null,"","",0,null,null,null,null,0,0,0,"",""]
[585,null,"","",0,null,null,null,null,0,0,0,"",""]
[586,null,"","",0,null,null,null,null,0,0,0,"",""]
[587,null,"","",0,null,null,null,null,0,0,0,"",""]
[588,null,"","",0,null,null,null,null,0,0,0,"",""]
[589,null,"","",0,null,null,null,null,0,0,0,"",""]
[590,null,"","",0,null,null,null,null,0,0,0,"",""]
[591,null,"","",0,null,null,null,null,0,0,0,"",""]
[592,null,"","",0,null,null,null,null,0,0,0,"",""]
[593,null,"","",0,null,null,null,null,0,0,0,"",""]
[594,null,"","",0,null,null,null,null,0,0,0,"",""]
[595,null,"","",0,null,null,null,null,0,0,0,"",""]
[596,null,"","",0,null,null,null,null,0,0,0,"",""]
[597,null,"","",0,null,null,null,null,0,0,0,"",""]
[598,null,"","",0,null,null,null,null,0,0,0,"",""]
[599,null,"","",0,null,null,null,null,0,0,0,"",""]
[600,null,"","",0,null,null,null,null,0,0,0,"",""]
[601,null,"","",0,null,null,null,null,0,0,0,"",""]
[602,null,"","",0,null,null,null,null,0,0,0,"",""]
[603,null,"","",0,null,null,null,null,0,0,0,"",""]
[604,null,"","",0,null,null,null,null,0,0,0,"",""]
[605,null,"","",0,null,null,null,null,0,0,0,"",""]
[606,null,"","",0,null,null,null,null,0,0,0,"",""]
[607,null,"","",0,null,null,null,null,0,0,0,"",""]
[608,null,"","",0,null,null,null,null,0,0,0,"",""]
[609,null,"","",0,null,null,null,null,0,0,0,"",""]
[610,null,"","",0,null,null,null,null,0,0,0,"",""]
[611,null,"","",0,null,null,null,null,0,0,0,"",""]
[612,null,"","",0,null,null,null,null,0,0,0,"",""]
[613,null,"","",0,null,null,null,null,0,0,0,"",""]
[614,null,"","",0,null,null,null,null,0,0,0,"",""]
[615,null,"","",0,null,null,null,null,0,0,0,"",""]
[616,null,"","",0,null,null,null,null,0,0,0,"",""]
[617,null,"","",0,null,null,null,null,0,0,0,"",""]
[618,null,"","",0,null,null,null,null,0,0,0,"",""]
[619,null,"","",0,null,null,null,null,0,0,0,"",""]
[620,null,"","",0,null,null,null,null,0,0,0,"",""]
[621,null,"","",0,null,null,null,null,0,0,0,"",""]
[622,null,"","",0,null,null,null,null,0,0,0,"",""]
[623,null,"","",0,null,null,null,null,0,0,0,"",""]
[624,null,"","",0,null,null,null,null,0,0,0,"",""]
[625,null,"","",0,null,null,null,null,0,0,0,"",""]
[626,null,"","",0,null,null,null,null,0,0,0,"",""]
[627,null,"","",0,null,null,null,null,0,0,0,"",""]
[628,null,"","",0,null,null,null,null,0,0,0,"",""]
[629,null,"","",0,null,null,null,null,0,0,0,"",""]
[630,null,"","",0,null,null,null,null,0,0,0,"",""]
[631,null,"","",0,null,null,null,null,0,0,0,"",""]
[632,null,"","",0,null,null,null,null,0,0,0,"",""]
[633,null,"","",0,null,null,null,null,0,0,0,"",""]
[634,null,"","",0,null,null,null,null,0,0,0,"",""]
[635,null,"","",0,null,null,null,null,0,0,0,"",""]
[636,null,"","",0,null,null,null,null,0,0,0,"",""]
[637,null,"","",0,null,null,null,null,0,0,0,"",""]
[638,null,"","",0,null,null,null,null,0,0,0,"",""]
[639,null,"","",0,null,null,null,null,0,0,0,"",""]
[640,null,"","",0,null,null,null,null,0,0,0,"",""]
[641,null,{"$f":"IFERROR(VLOOKUP(B644,ItemDB,2,0),\"\")","v":""},{"$f":"IFERROR(VLOOKUP(B644,ItemDB,3,0),\"\")","v":""},{"$f":"PRODUCT(IFERROR(VLOOKUP(B644,ItemDB,4,0),0),F644:H644)","v":0},null,null,null,null,{"$f":"I644*E644","v":0},{"$f":"IFERROR(VLOOKUP(\"شمـاره رديف آنـاليــز :   \"&B644,Anareport,9,0),0)","v":0},{"$f":"K644*I644","v":0},"",""]
[642,null,"","",0,null,null,null,null,0,0,0,"",""]
[643,null,"","",0,null,null,null,null,0,0,0,{"$f":"IF(K646>E646,K646/E646-1,\"\")","v":""},{"$f":"IF(K646<E646,K646/E646-1,\"\")","v":""}]
[644,null,"","",0,null,null,null,null,0,0,0,"",""]
[645,null,"","",0,null,null,null,null,0,0,0,"",""]
[646,null,"","",0,null,null,null,null,0,0,0,"",""]
[647,null,"","",0,null,null,null,null,0,0,0,"",""]
[648,null,"","",0,null,null,null,null,0,0,0,"",""]
[649,null,"","",0,null,null,null,null,0,0,0,"",""]
[650,null,"","",0,null,null,null,null,0,0,0,"",""]
[651,null,"","",0,null,null,null,null,0,0,0,"",""]
[652,null,"","",0,null,null,null,null,0,0,0,"",""]
[653,null,"","",0,null,null,null,null,0,0,0,"",""]
[654,null,"","",0,null,null,null,null,0,0,0,"",""]
[655,null,"","",0,null,null,null,null,0,0,0,"",""]
[656,null,"","",0,null,null,null,null,0,0,0,"",""]
[657,null,"","",0,null,null,null,null,0,0,0,"",""]
[658,null,"","",0,null,null,null,null,0,0,0,"",""]
[659,null,"","",0,null,null,null,null,0,0,0,"",""]
[660,null,"","",0,null,null,null,null,0,0,0,"",""]
[661,null,"","",0,null,null,null,null,0,0,0,"",""]
[662,null,"","",0,null,null,null,null,0,0,0,"",""]
[663,null,"","",0,null,null,null,null,0,0,0,"",""]
[664,null,"","",0,null,null,null,null,0,0,0,"",""]
[665,null,"","",0,null,null,null,null,0,0,0,"",""]
[666,null,"","",0,null,null,null,null,0,0,0,"",""]
[667,null,"","",0,null,null,null,null,0,0,0,"",""]
[668,null,"","",0,null,null,null,null,0,0,0,"",""]
[669,null,"","",0,null,null,null,null,0,0,0,"",""]
[670,null,"","",0,null,null,null,null,0,0,0,"",""]
[671,null,"","",0,null,null,null,null,0,0,0,"",""]
[672,null,"","",0,null,null,null,null,0,0,0,"",""]
[673,null,"","",0,null,null,null,null,0,0,0,"",""]
[674,null,"","",0,null,null,null,null,0,0,0,"",""]
[675,null,"","",0,null,null,null,null,0,0,0,"",""]
[676,null,"","",0,null,null,null,null,0,0,0,"",""]
[677,null,"","",0,null,null,null,null,0,0,0,"",""]
[678,null,"","",0,null,null,null,null,0,0,0,"",""]
[679,null,"","",0,null,null,null,null,0,0,0,"",""]
[680,null,"","",0,null,null,null,null,0,0,0,"",""]
[681,null,"","",0,null,null,null,null,0,0,0,"",""]
[682,null,"","",0,null,null,null,null,0,0,0,"",""]
[683,null,"","",0,null,null,null,null,0,0,0,"",""]
[684,null,"","",0,null,null,null,null,0,0,0,"",""]
[685,null,"","",0,null,null,null,null,0,0,0,"",""]
[686,null,"","",0,null,null,null,null,0,0,0,"",""]
[687,null,"","",0,null,null,null,null,0,0,0,"",""]
[688,null,"","",0,null,null,null,null,0,0,0,"",""]
[689,null,"","",0,null,null,null,null,0,0,0,"",""]
[690,null,"","",0,null,null,null,null,0,0,0,"",""]
[691,null,"","",0,null,null,null,null,0,0,0,"",""]
[692,null,"","",0,null,null,null,null,0,0,0,"",""]
[693,null,"","",0,null,null,null,null,0,0,0,"",""]
[694,null,"","",0,null,null,null,null,0,0,0,"",""]
[695,null,"","",0,null,null,null,null,0,0,0,"",""]
[696,null,"","",0,null,null,null,null,0,0,0,"",""]
[697,null,"","",0,null,null,null,null,0,0,0,"",""]
[698,null,"","",0,null,null,null,null,0,0,0,"",""]
[699,null,"","",0,null,null,null,null,0,0,0,"",""]
[700,null,"","",0,null,null,null,null,0,0,0,"",""]
[701,null,"","",0,null,null,null,null,0,0,0,"",""]
[702,null,"","",0,null,null,null,null,0,0,0,"",""]
[703,null,"","",0,null,null,null,null,0,0,0,"",""]
[704,null,"","",0,null,null,null,null,0,0,0,"",""]
[705,null,{"$f":"IFERROR(VLOOKUP(B708,ItemDB,2,0),\"\")","v":""},{"$f":"IFERROR(VLOOKUP(B708,ItemDB,3,0),\"\")","v":""},{"$f":"PRODUCT(IFERROR(VLOOKUP(B708,ItemDB,4,0),0),F708:H708)","v":0},null,null,null,null,{"$f":"I708*E708","v":0},{"$f":"IFERROR(VLOOKUP(\"شمـاره رديف آنـاليــز :   \"&B708,Anareport,9,0),0)","v":0},{"$f":"K708*I708","v":0},"",""]
[706,null,"","",0,null,null,null,null,0,0,0,"",""]
[707,null,"","",0,null,null,null,null,0,0,0,{"$f":"IF(K710>E710,K710/E710-1,\"\")","v":""},{"$f":"IF(K710<E710,K710/E710-1,\"\")","v":""}]
[708,null,"","",0,null,null,null,null,0,0,0,"",""]
[709,null,"","",0,null,null,null,null,0,0,0,"",""]
[710,null,"","",0,null,null,null,null,0,0,0,"",""]
[711,null,"","",0,null,null,null,null,0,0,0,"",""]
[712,null,"","",0,null,null,null,null,0,0,0,"",""]
[713,null,"","",0,null,null,null,null,0,0,0,"",""]
[714,null,"","",0,null,null,null,null,0,0,0,"",""]
[715,null,"","",0,null,null,null,null,0,0,0,"",""]
[716,null,"","",0,null,null,null,null,0,0,0,"",""]
[717,null,"","",0,null,null,null,null,0,0,0,"",""]
[718,null,"","",0,null,null,null,null,0,0,0,"",""]
[719,null,"","",0,null,null,null,null,0,0,0,"",""]
[720,null,"","",0,null,null,null,null,0,0,0,"",""]
[721,null,"","",0,null,null,null,null,0,0,0,"",""]
[722,null,"","",0,null,null,null,null,0,0,0,"",""]
[723,null,"","",0,null,null,null,null,0,0,0,"",""]
[724,null,"","",0,null,null,null,null,0,0,0,"",""]
[725,null,"","",0,null,null,null,null,0,0,0,"",""]
[726,null,"","",0,null,null,null,null,0,0,0,"",""]
[727,null,"","",0,null,null,null,null,0,0,0,"",""]
[728,null,"","",0,null,null,null,null,0,0,0,"",""]
[729,null,"","",0,null,null,null,null,0,0,0,"",""]
[730,null,"","",0,null,null,null,null,0,0,0,"",""]
[731,null,"","",0,null,null,null,null,0,0,0,"",""]
[732,null,"","",0,null,null,null,null,0,0,0,"",""]
[733,null,"","",0,null,null,null,null,0,0,0,"",""]
[734,null,"","",0,null,null,null,null,0,0,0,"",""]
[735,null,"","",0,null,null,null,null,0,0,0,"",""]
[736,null,"","",0,null,null,null,null,0,0,0,"",""]
[737,null,"","",0,null,null,null,null,0,0,0,"",""]
[738,null,"","",0,null,null,null,null,0,0,0,"",""]
[739,null,"","",0,null,null,null,null,0,0,0,"",""]
[740,null,"","",0,null,null,null,null,0,0,0,"",""]
[741,null,"","",0,null,null,null,null,0,0,0,"",""]
[742,null,"","",0,null,null,null,null,0,0,0,"",""]
[743,null,"","",0,null,null,null,null,0,0,0,"",""]
[744,null,"","",0,null,null,null,null,0,0,0,"",""]
[745,null,"","",0,null,null,null,null,0,0,0,"",""]
[746,null,"","",0,null,null,null,null,0,0,0,"",""]
[747,null,"","",0,null,null,null,null,0,0,0,"",""]
[748,null,"","",0,null,null,null,null,0,0,0,"",""]
[749,null,"","",0,null,null,null,null,0,0,0,"",""]
[750,null,"","",0,null,null,null,null,0,0,0,"",""]
[751,null,"","",0,null,null,null,null,0,0,0,"",""]
[752,null,"","",0,null,null,null,null,0,0,0,"",""]
[753,null,"","",0,null,null,null,null,0,0,0,"",""]
[754,null,"","",0,null,null,null,null,0,0,0,"",""]
[755,null,"","",0,null,null,null,null,0,0,0,"",""]
[756,null,"","",0,null,null,null,null,0,0,0,"",""]
[757,null,"","",0,null,null,null,null,0,0,0,"",""]
[758,null,"","",0,null,null,null,null,0,0,0,"",""]
[759,null,"","",0,null,null,null,null,0,0,0,"",""]
[760,null,"","",0,null,null,null,null,0,0,0,"",""]
[761,null,"","",0,null,null,null,null,0,0,0,"",""]
[762,null,"","",0,null,null,null,null,0,0,0,"",""]
[763,null,"","",0,null,null,null,null,0,0,0,"",""]
[764,null,"","",0,null,null,null,null,0,0,0,"",""]
[765,null,"","",0,null,null,null,null,0,0,0,"",""]
[766,null,"","",0,null,null,null,null,0,0,0,"",""]
[767,null,"","",0,null,null,null,null,0,0,0,"",""]
[768,null,"","",0,null,null,null,null,0,0,0,"",""]
[769,null,{"$f":"IFERROR(VLOOKUP(B772,ItemDB,2,0),\"\")","v":""},{"$f":"IFERROR(VLOOKUP(B772,ItemDB,3,0),\"\")","v":""},{"$f":"PRODUCT(IFERROR(VLOOKUP(B772,ItemDB,4,0),0),F772:H772)","v":0},null,null,null,null,{"$f":"I772*E772","v":0},{"$f":"IFERROR(VLOOKUP(\"شمـاره رديف آنـاليــز :   \"&B772,Anareport,9,0),0)","v":0},{"$f":"K772*I772","v":0},"",""]
[770,null,"","",0,null,null,null,null,0,0,0,"",""]
[771,null,"","",0,null,null,null,null,0,0,0,{"$f":"IF(K774>E774,K774/E774-1,\"\")","v":""},{"$f":"IF(K774<E774,K774/E774-1,\"\")","v":""}]
[772,null,"","",0,null,null,null,null,0,0,0,"",""]
[773,null,"","",0,null,null,null,null,0,0,0,"",""]
[774,null,"","",0,null,null,null,null,0,0,0,"",""]
[775,null,"","",0,null,null,null,null,0,0,0,"",""]
[776,null,"","",0,null,null,null,null,0,0,0,"",""]
[777,null,"","",0,null,null,null,null,0,0,0,"",""]
[778,null,"","",0,null,null,null,null,0,0,0,"",""]
[779,null,"","",0,null,null,null,null,0,0,0,"",""]
[780,null,"","",0,null,null,null,null,0,0,0,"",""]
[781,null,"","",0,null,null,null,null,0,0,0,"",""]
[782,null,"","",0,null,null,null,null,0,0,0,"",""]
[783,null,"","",0,null,null,null,null,0,0,0,"",""]
[784,null,"","",0,null,null,null,null,0,0,0,"",""]
[785,null,"","",0,null,null,null,null,0,0,0,"",""]
[786,null,"","",0,null,null,null,null,0,0,0,"",""]
[787,null,"","",0,null,null,null,null,0,0,0,"",""]
[788,null,"","",0,null,null,null,null,0,0,0,"",""]
[789,null,"","",0,null,null,null,null,0,0,0,"",""]
[790,null,"","",0,null,null,null,null,0,0,0,"",""]
[791,null,"","",0,null,null,null,null,0,0,0,"",""]
[792,null,"","",0,null,null,null,null,0,0,0,"",""]
[793,null,"","",0,null,null,null,null,0,0,0,"",""]
[794,null,"","",0,null,null,null,null,0,0,0,"",""]
[795,null,"","",0,null,null,null,null,0,0,0,"",""]
[796,null,"","",0,null,null,null,null,0,0,0,"",""]
[797,null,"","",0,null,null,null,null,0,0,0,"",""]
[798,null,"","",0,null,null,null,null,0,0,0,"",""]
[799,null,"","",0,null,null,null,null,0,0,0,"",""]
[800,null,"","",0,null,null,null,null,0,0,0,"",""]
[801,null,"","",0,null,null,null,null,0,0,0,"",""]
[802,null,"","",0,null,null,null,null,0,0,0,"",""]
[803,null,"","",0,null,null,null,null,0,0,0,"",""]
[804,null,"","",0,null,null,null,null,0,0,0,"",""]
[805,null,"","",0,null,null,null,null,0,0,0,"",""]
[806,null,"","",0,null,null,null,null,0,0,0,"",""]
[807,null,"","",0,null,null,null,null,0,0,0,"",""]
[808,null,"","",0,null,null,null,null,0,0,0,"",""]
[809,null,"","",0,null,null,null,null,0,0,0,"",""]
[810,null,"","",0,null,null,null,null,0,0,0,"",""]
[811,null,"","",0,null,null,null,null,0,0,0,"",""]
[812,null,"","",0,null,null,null,null,0,0,0,"",""]
[813,null,"","",0,null,null,null,null,0,0,0,"",""]
[814,null,"","",0,null,null,null,null,0,0,0,"",""]
[815,null,"","",0,null,null,null,null,0,0,0,"",""]
[816,null,"","",0,null,null,null,null,0,0,0,"",""]
[817,null,"","",0,null,null,null,null,0,0,0,"",""]
[818,null,"","",0,null,null,null,null,0,0,0,"",""]
[819,null,"","",0,null,null,null,null,0,0,0,"",""]
[820,null,"","",0,null,null,null,null,0,0,0,"",""]
[821,null,"","",0,null,null,null,null,0,0,0,"",""]
[822,null,"","",0,null,null,null,null,0,0,0,"",""]
[823,null,"","",0,null,null,null,null,0,0,0,"",""]
[824,null,"","",0,null,null,null,null,0,0,0,"",""]
[825,null,"","",0,null,null,null,null,0,0,0,"",""]
[826,null,"","",0,null,null,null,null,0,0,0,"",""]
[827,null,"","",0,null,null,null,null,0,0,0,"",""]
[828,null,"","",0,null,null,null,null,0,0,0,"",""]
[829,null,"","",0,null,null,null,null,0,0,0,"",""]
[830,null,"","",0,null,null,null,null,0,0,0,"",""]
[831,null,"","",0,null,null,null,null,0,0,0,"",""]
[832,null,"","",0,null,null,null,null,0,0,0,"",""]
[833,null,{"$f":"IFERROR(VLOOKUP(B836,ItemDB,2,0),\"\")","v":""},{"$f":"IFERROR(VLOOKUP(B836,ItemDB,3,0),\"\")","v":""},{"$f":"PRODUCT(IFERROR(VLOOKUP(B836,ItemDB,4,0),0),F836:H836)","v":0},null,null,null,null,{"$f":"I836*E836","v":0},{"$f":"IFERROR(VLOOKUP(\"شمـاره رديف آنـاليــز :   \"&B836,Anareport,9,0),0)","v":0},{"$f":"K836*I836","v":0},"",""]
[834,null,"","",0,null,null,null,null,0,0,0,"",""]
[835,null,"","",0,null,null,null,null,0,0,0,{"$f":"IF(K838>E838,K838/E838-1,\"\")","v":""},{"$f":"IF(K838<E838,K838/E838-1,\"\")","v":""}]
[836,null,"","",0,null,null,null,null,0,0,0,"",""]
[837,null,"","",0,null,null,null,null,0,0,0,"",""]
[838,null,"","",0,null,null,null,null,0,0,0,"",""]
[839,null,"","",0,null,null,null,null,0,0,0,"",""]
[840,null,"","",0,null,null,null,null,0,0,0,"",""]
[841,null,"","",0,null,null,null,null,0,0,0,"",""]
[842,null,"","",0,null,null,null,null,0,0,0,"",""]
[843,null,"","",0,null,null,null,null,0,0,0,"",""]
[844,null,"","",0,null,null,null,null,0,0,0,"",""]
[845,null,"","",0,null,null,null,null,0,0,0,"",""]
[846,null,"","",0,null,null,null,null,0,0,0,"",""]
[847,null,"","",0,null,null,null,null,0,0,0,"",""]
[848,null,"","",0,null,null,null,null,0,0,0,"",""]
[849,null,"","",0,null,null,null,null,0,0,0,"",""]
[850,null,"","",0,null,null,null,null,0,0,0,"",""]
[851,null,"","",0,null,null,null,null,0,0,0,"",""]
[852,null,"","",0,null,null,null,null,0,0,0,"",""]
[853,null,"","",0,null,null,null,null,0,0,0,"",""]
[854,null,"","",0,null,null,null,null,0,0,0,"",""]
[855,null,"","",0,null,null,null,null,0,0,0,"",""]
[856,null,"","",0,null,null,null,null,0,0,0,"",""]
[857,null,"","",0,null,null,null,null,0,0,0,"",""]
[858,null,"","",0,null,null,null,null,0,0,0,"",""]
[859,null,"","",0,null,null,null,null,0,0,0,"",""]
[860,null,"","",0,null,null,null,null,0,0,0,"",""]
[861,null,"","",0,null,null,null,null,0,0,0,"",""]
[862,null,"","",0,null,null,null,null,0,0,0,"",""]
[863,null,"","",0,null,null,null,null,0,0,0,"",""]
[864,null,"","",0,null,null,null,null,0,0,0,"",""]
[865,null,"","",0,null,null,null,null,0,0,0,"",""]
[866,null,"","",0,null,null,null,null,0,0,0,"",""]
[867,null,"","",0,null,null,null,null,0,0,0,"",""]
[868,null,"","",0,null,null,null,null,0,0,0,"",""]
[869,null,"","",0,null,null,null,null,0,0,0,"",""]
[870,null,"","",0,null,null,null,null,0,0,0,"",""]
[871,null,"","",0,null,null,null,null,0,0,0,"",""]
[872,null,"","",0,null,null,null,null,0,0,0,"",""]
[873,null,"","",0,null,null,null,null,0,0,0,"",""]
[874,null,"","",0,null,null,null,null,0,0,0,"",""]
[875,null,"","",0,null,null,null,null,0,0,0,"",""]
[876,null,"","",0,null,null,null,null,0,0,0,"",""]
[877,null,"","",0,null,null,null,null,0,0,0,"",""]
[878,null,"","",0,null,null,null,null,0,0,0,"",""]
[879,null,"","",0,null,null,null,null,0,0,0,"",""]
[880,null,"","",0,null,null,null,null,0,0,0,"",""]
[881,null,"","",0,null,null,null,null,0,0,0,"",""]
[882,null,"","",0,null,null,null,null,0,0,0,"",""]
[883,null,"","",0,null,null,null,null,0,0,0,"",""]
[884,null,"","",0,null,null,null,null,0,0,0,"",""]
[885,null,"","",0,null,null,null,null,0,0,0,"",""]
[886,null,"","",0,null,null,null,null,0,0,0,"",""]
[887,null,"","",0,null,null,null,null,0,0,0,"",""]
[888,null,"","",0,null,null,null,null,0,0,0,"",""]
[889,null,"","",0,null,null,null,null,0,0,0,"",""]
[890,null,"","",0,null,null,null,null,0,0,0,"",""]
[891,null,"","",0,null,null,null,null,0,0,0,"",""]
[892,null,"","",0,null,null,null,null,0,0,0,"",""]
[893,null,"","",0,null,null,null,null,0,0,0,"",""]
[894,null,"","",0,null,null,null,null,0,0,0,"",""]
[895,null,"","",0,null,null,null,null,0,0,0,"",""]
[896,null,"","",0,null,null,null,null,0,0,0,"",""]
[897,null,{"$f":"IFERROR(VLOOKUP(B900,ItemDB,2,0),\"\")","v":""},{"$f":"IFERROR(VLOOKUP(B900,ItemDB,3,0),\"\")","v":""},{"$f":"PRODUCT(IFERROR(VLOOKUP(B900,ItemDB,4,0),0),F900:H900)","v":0},null,null,null,null,{"$f":"I900*E900","v":0},{"$f":"IFERROR(VLOOKUP(\"شمـاره رديف آنـاليــز :   \"&B900,Anareport,9,0),0)","v":0},{"$f":"K900*I900","v":0},"",""]
[898,null,"","",0,null,null,null,null,0,0,0,"",""]
[899,null,"","",0,null,null,null,null,0,0,0,{"$f":"IF(K902>E902,K902/E902-1,\"\")","v":""},{"$f":"IF(K902<E902,K902/E902-1,\"\")","v":""}]
[900,null,"","",0,null,null,null,null,0,0,0,"",""]
[901,null,"","",0,null,null,null,null,0,0,0,"",""]
[902,null,"","",0,null,null,null,null,0,0,0,"",""]
[903,null,"","",0,null,null,null,null,0,0,0,"",""]
[904,null,"","",0,null,null,null,null,0,0,0,"",""]
[905,null,"","",0,null,null,null,null,0,0,0,"",""]
[906,null,"","",0,null,null,null,null,0,0,0,"",""]
[907,null,"","",0,null,null,null,null,0,0,0,"",""]
[908,null,"","",0,null,null,null,null,0,0,0,"",""]
[909,null,"","",0,null,null,null,null,0,0,0,"",""]
[910,null,"","",0,null,null,null,null,0,0,0,"",""]
[911,null,"","",0,null,null,null,null,0,0,0,"",""]
[912,null,"","",0,null,null,null,null,0,0,0,"",""]
[913,null,"","",0,null,null,null,null,0,0,0,"",""]
[914,null,"","",0,null,null,null,null,0,0,0,"",""]
[915,null,"","",0,null,null,null,null,0,0,0,"",""]
[916,null,"","",0,null,null,null,null,0,0,0,"",""]
[917,null,"","",0,null,null,null,null,0,0,0,"",""]
[918,null,"","",0,null,null,null,null,0,0,0,"",""]
[919,null,"","",0,null,null,null,null,0,0,0,"",""]
[920,null,"","",0,null,null,null,null,0,0,0,"",""]
[921,null,"","",0,null,null,null,null,0,0,0,"",""]
[922,null,"","",0,null,null,null,null,0,0,0,"",""]
[923,null,"","",0,null,null,null,null,0,0,0,"",""]
[924,null,"","",0,null,null,null,null,0,0,0,"",""]
[925,null,"","",0,null,null,null,null,0,0,0,"",""]
[926,null,"","",0,null,null,null,null,0,0,0,"",""]
[927,null,"","",0,null,null,null,null,0,0,0,"",""]
[928,null,"","",0,null,null,null,null,0,0,0,"",""]
[929,null,"","",0,null,null,null,null,0,0,0,"",""]
[930,null,"","",0,null,null,null,null,0,0,0,"",""]
[931,null,"","",0,null,null,null,null,0,0,0,"",""]
[932,null,"","",0,null,null,null,null,0,0,0,"",""]
[933,null,"","",0,null,null,null,null,0,0,0,"",""]
[934,null,"","",0,null,null,null,null,0,0,0,"",""]
[935,null,"","",0,null,null,null,null,0,0,0,"",""]
[936,null,"","",0,null,null,null,null,0,0,0,"",""]
[937,null,"","",0,null,null,null,null,0,0,0,"",""]
[938,null,"","",0,null,null,null,null,0,0,0,"",""]
[939,null,"","",0,null,null,null,null,0,0,0,"",""]
[940,null,"","",0,null,null,null,null,0,0,0,"",""]
[941,null,"","",0,null,null,null,null,0,0,0,"",""]
[942,null,"","",0,null,null,null,null,0,0,0,"",""]
[943,null,"","",0,null,null,null,null,0,0,0,"",""]
[944,null,"","",0,null,null,null,null,0,0,0,"",""]
[945,null,"","",0,null,null,null,null,0,0,0,"",""]
[946,null,"","",0,null,null,null,null,0,0,0,"",""]
[947,null,"","",0,null,null,null,null,0,0,0,"",""]
[948,null,"","",0,null,null,null,null,0,0,0,"",""]
[949,null,"","",0,null,null,null,null,0,0,0,"",""]
[950,null,"","",0,null,null,null,null,0,0,0,"",""]
[951,null,"","",0,null,null,null,null,0,0,0,"",""]
[952,null,"","",0,null,null,null,null,0,0,0,"",""]
[953,null,"","",0,null,null,null,null,0,0,0,"",""]
[954,null,"","",0,null,null,null,null,0,0,0,"",""]
[955,null,"","",0,null,null,null,null,0,0,0,"",""]
[956,null,"","",0,null,null,null,null,0,0,0,"",""]
[957,null,"","",0,null,null,null,null,0,0,0,"",""]
[958,null,"","",0,null,null,null,null,0,0,0,"",""]
[959,null,"","",0,null,null,null,null,0,0,0,"",""]
[960,null,"","",0,null,null,null,null,0,0,0,"",""]
[961,null,{"$f":"IFERROR(VLOOKUP(B964,ItemDB,2,0),\"\")","v":""},{"$f":"IFERROR(VLOOKUP(B964,ItemDB,3,0),\"\")","v":""},{"$f":"PRODUCT(IFERROR(VLOOKUP(B964,ItemDB,4,0),0),F964:H964)","v":0},null,null,null,null,{"$f":"I964*E964","v":0},{"$f":"IFERROR(VLOOKUP(\"شمـاره رديف آنـاليــز :   \"&B964,Anareport,9,0),0)","v":0},{"$f":"K964*I964","v":0},"",""]
[962,null,"","",0,null,null,null,null,0,0,0,"",""]
[963,null,"","",0,null,null,null,null,0,0,0,{"$f":"IF(K966>E966,K966/E966-1,\"\")","v":""},{"$f":"IF(K966<E966,K966/E966-1,\"\")","v":""}]
[964,null,"","",0,null,null,null,null,0,0,0,"",""]
[965,null,"","",0,null,null,null,null,0,0,0,"",""]
[966,null,"","",0,null,null,null,null,0,0,0,"",""]
[967,null,"","",0,null,null,null,null,0,0,0,"",""]
[968,null,"","",0,null,null,null,null,0,0,0,"",""]
[969,null,"","",0,null,null,null,null,0,0,0,"",""]
[970,null,"","",0,null,null,null,null,0,0,0,"",""]
[971,null,"","",0,null,null,null,null,0,0,0,"",""]
[972,null,"","",0,null,null,null,null,0,0,0,"",""]
[973,null,"","",0,null,null,null,null,0,0,0,"",""]
[974,null,"","",0,null,null,null,null,0,0,0,"",""]
[975,null,"","",0,null,null,null,null,0,0,0,"",""]
[976,null,"","",0,null,null,null,null,0,0,0,"",""]
[977,null,"","",0,null,null,null,null,0,0,0,"",""]
[978,null,"","",0,null,null,null,null,0,0,0,"",""]
[979,null,"","",0,null,null,null,null,0,0,0,"",""]
[980,null,"","",0,null,null,null,null,0,0,0,"",""]
[981,null,"","",0,null,null,null,null,0,0,0,"",""]
[982,null,"","",0,null,null,null,null,0,0,0,"",""]
[983,null,"","",0,null,null,null,null,0,0,0,"",""]
[984,null,"","",0,null,null,null,null,0,0,0,"",""]
[985,null,"","",0,null,null,null,null,0,0,0,"",""]
[986,null,"","",0,null,null,null,null,0,0,0,"",""]
[987,null,"","",0,null,null,null,null,0,0,0,"",""]
[988,null,"","",0,null,null,null,null,0,0,0,"",""]
[989,null,"","",0,null,null,null,null,0,0,0,"",""]
[990,null,"","",0,null,null,null,null,0,0,0,"",""]
[991,null,"","",0,null,null,null,null,0,0,0,"",""]
[992,null,"","",0,null,null,null,null,0,0,0,"",""]
[993,null,"","",0,null,null,null,null,0,0,0,"",""]
[994,null,"","",0,null,null,null,null,0,0,0,"",""]
[995,null,"","",0,null,null,null,null,0,0,0,"",""]
[996,null,"","",0,null,null,null,null,0,0,0,"",""]
[997,null,"","",0,null,null,null,null,0,0,0,"",""]
[998,null,"","",0,null,null,null,null,0,0,0,"",""]
[999,null,"","",0,null,null,null,null,0,0,0,"",""]
[1000,null,"","",0,null,null,null,null,0,0,0,"",""]

{"sheet":"Analiz","index":2,"n_rows":115,"n_cols":26,"rows_kept":115,"cut":false,"hidden":true,"merged":[[111,11,111,14],[112,11,112,14],[113,11,113,14],[113,8,113,9],[5,11,7,15],[34,8,34,10],[34,13,34,14],[61,8,61,10],[61,13,61,14],[88,8,88,10],[88,13,88,14],[110,8,110,10],[110,13,110,14],[111,8,111,10],[5,8,5,10],[112,8,112,9]]}
[null,{"$f":"C7","v":2},null,null,null,"جدید (مقیاس)",{"$f":"IF(F1=F3,TRUE,FALSE)","v":true},null,null,null,null,null,null,null,null,null,null,null,"ضریب عامل","مقدار/ مقیاس"]
[null,2,null,null,null,"قدیم (4951)",null,null,null,null,null,{"$f":"IF(G1,N9,M9)","v":"مقدار/مقیاس"},null,null,null,null,null,"ضرایب ثابت آنالیز سازمان",null,null,"نت"]
[null,2,null,null,null,"جدید (مقیاس)",null,null,null,null,null,null,null,null,null,null,null,"اعمال درصد(مینوس/پلوس)معکوس",null,null,"آمار"]
["-",2,null,null,null,null,{"$f":"VLOOKUP(E7,ItemDB,3,0)","v":"اصله"},null,null,null,null,null,null,null,null,null,null,null,"COL_INEDX",null,"روز"]
[null,{"$f":"B7","v":2},null,null,"010102",null,null,null,{"$f":"VLOOKUP(F6,FsolDB,2,0)","v":" فصل 1 . عملیات تخریب"},null,null,null,null,null,null," نسخه نمایشی",null,"ضرایب ثابت آنالیز سازمان",{"$f":"IF(G1,4,+IF(R5=\"ضرایب ثابت آنالیز سازمان\",7,6))","v":4},null,"نت",5]
[null,{"$f":"C7","v":2},null,null,"030102",{"$f":"ROUND(E7*0.0001,0)","v":1},null,null,"شرح ردیف : ",null,null,{"$f":"IFERROR(VLOOKUP(E7,ItemDB,2,0),\"\")","v":" کندن و يا بريدن و در صورت لزوم ريشه کن کردن درخت از هر نوع، در صورتي که محيط تنه درخت در سطح زمين تا 15 سانتي متر باشد، به ازاي هر 5 سانتي متر محيط تنه (کسر 5 سانتي متر به تناسب محاسبه مي‌شود) و حمل آن به خارج محل عمليات."},null,null,null,null,{"$f":"P112","v":10316.091999999999},"مقدار",{"$f":"IF(G1,+IF(R5=\"ضرایب ثابت آنالیز سازمان\",3,2),10)","v":3},null,null,{"$f":"V5/100+1","v":1.05}]
[null,{"$f":"C7","v":2},{"$f":"IF(F6>0,2,0)","v":2},null,{"$f":"E5","v":"010102"},null,null,null,{"$f":"\"شمـاره رديف آنـاليــز :   \"&E7","v":"شمـاره رديف آنـاليــز :   010102"},null,null,null,null,null,null,null,{"$f":"P112","v":10316.091999999999},"بهای واحد",{"$f":"IF(U5=\"نت\",4,IF(U5=\"آمار\",5,6))","v":4}]
[null,2,null,null,null,null,null,null,{"$f":"\"واحـد :   \"&VLOOKUP(E7,ItemDB,3,0)","v":"واحـد :   اصله"},null,{"$f":"\" مقدار :            \"&Q8","v":" مقدار :            20"},null,null,null,null,null,{"$f":"VLOOKUP(E7,metreh,8,0)","v":20},null,null,null,"ضريب صفر","ضريب پيشنهاد",null,null,"مقدار/مقیاس صفر","مقدار مقیاس پیشنهادی"]
[null,{"$f":"IF(I10>0,2,0)","v":2},null,null,null,null,null,null,"رديف","کد عامل","نيروي انساني","واحد",{"$f":"IF(G1,\"مقیاس1\",\"ضریب عامل\")","v":"مقیاس1"},{"$f":"IF(G1,\"مقدار/مقیاس\",\"مقدار\")","v":"مقدار/مقیاس"},"بهای واحد عامل","بهاي کل",null,null,"قيمت نت در مقداردر ضريب","ضريب سازمان",{"$f":"V9","v":10316.091999999999},{"$f":"P112","v":10316.091999999999},"قيمت درمقیاس در مقدار/مقیاس","مقدار / مقیاس"]
[{"$f":"B10*C10","v":10102.000000010001},{"$f":"COUNTIF(Anb!A:A,C10)","v":1},{"$f":"D10+(G10*F10)","v":10102.000000010001},{"$f":"$E$7","v":"010102"},null,1E-8,1,null,{"$f":"VLOOKUP(A10,AnalizDB,16,0)","v":1},{"$f":"VLOOKUP(A10,AnalizDB,13,0)","v":14010102},{"$f":"VLOOKUP(A10,AnalizDB,12,0)","v":"كارگر ساده"},{"$f":"VLOOKUP(A10,AnalizDB,11,0)","v":"نفر- ساعت"},{"$f":"VLOOKUP(A10,AnalizDB,$S$5,0)","v":1},{"$f":"VLOOKUP(A10,AnalizDB,$S$6,0)","v":0.105},{"$f":"VLOOKUP(J10,ManabehDB,$S$7,0)","v":57013},{"$f":"IFERROR(O10*N10*M10,0)","v":5986.3649999999998},{"$f":"VLOOKUP(A10,AnalizDB,10,0)*$Q$8","v":2.1},null,{"$f":"IFERROR(O10*N10*T10,0)","v":5986.3649999999998},{"$f":"VLOOKUP(A10,AnalizDB,7,0)","v":1},{"$f":"$S$114*T10","v":0.99844010697074059},{"$f":"$V$6*U10","v":1.0483621123192777},{"$f":"IFERROR(X10*O10,0)","v":5986.3649999999998},{"$f":"VLOOKUP(A10,AnalizDB,3,0)","v":0.105},{"$f":"$W$114*X10","v":0.10483621123192775},{"$f":"Y10*$V$6","v":0.11007802179352415}]
[10102.00000002,{"$f":"COUNTIF(Anb!A:A,C11)","v":1},10102.00000002,{"$f":"$E$7","v":"010102"},null,1E-8,2,null,2,14120101,"نجار در و پنجره ساز درجه یک","نفر ساعت",{"$f":"VLOOKUP(A11,AnalizDB,$S$5,0)","v":1},{"$f":"VLOOKUP(A11,AnalizDB,$S$6,0)","v":1.0500000000000001E-2},99236,{"$f":"IFERROR(O11*N11*M11,0)","v":1041.9780000000001},0.21000000000000002,null,{"$f":"IFERROR(O11*N11*T11,0)","v":1041.9780000000001},1,{"$f":"$S$114*T11","v":0.99844010697074059},{"$f":"$V$6*U11","v":1.0483621123192777},{"$f":"IFERROR(X11*O11,0)","v":1041.9780000000001},1.0500000000000001E-2,{"$f":"$W$114*X11","v":1.0483621123192777E-2},{"$f":"Y11*$V$6","v":1.1007802179352417E-2}]
[10102.000000030001,{"$f":"COUNTIF(Anb!A:A,C12)","v":1},10102.000000030001,"010102",null,1E-8,3,null,3,14120401,"کمک نجار","نفر - ساعت",1,{"$f":"VLOOKUP(A12,AnalizDB,$S$6,0)","v":5.2999999999999999E-2},60297,{"$f":"IFERROR(O12*N12*M12,0)","v":3195.741},1.06,null,3195.741,1,{"$f":"$S$114*T12","v":0.99844010697074059},{"$f":"$V$6*U12","v":1.0483621123192777},3195.741,5.2999999999999999E-2,5.2917325669449247E-2,{"$f":"Y12*$V$6","v":5.5563191952921712E-2}]
[0,{"$f":"COUNTIF(Anb!A:A,C13)","v":0},10102.00000004,"010102",null,1E-8,4,null,{"$f":"VLOOKUP(A13,AnalizDB,16,0)","v":{"$error":"#N/A"}},{"$error":"#N/A"},{"$error":"#N/A"},{"$error":"#N/A"},{"$error":"#N/A"},{"$error":"#N/A"},{"$error":"#N/A"},0,{"$error":"#N/A"},null,0,{"$error":"#N/A"},{"$error":"#N/A"},{"$error":"#N/A"},0,{"$error":"#N/A"},{"$error":"#N/A"},{"$error":"#N/A"}]
[0,{"$f":"COUNTIF(Anb!A:A,C14)","v":0},10102.00000005,"010102",null,1E-8,5,null,{"$error":"#N/A"},{"$error":"#N/A"},{"$error":"#N/A"},{"$error":"#N/A"},{"$error":"#N/A"},{"$error":"#N/A"},{"$error":"#N/A"},0,{"$error":"#N/A"},null,0,{"$error":"#N/A"},{"$error":"#N/A"},{"$error":"#N/A"},0,{"$error":"#N/A"},{"$error":"#N/A"},{"$error":"#N/A"}]
[0,{"$f":"COUNTIF(Anb!A:A,C15)","v":0},10102.000000059999,"010102",null,1E-8,6,null,{"$error":"#N/A"},{"$error":"#N/A"},{"$error":"#N/A"},{"$error":"#N/A"},{"$error":"#N/A"},{"$error":"#N/A"},{"$error":"#N/A"},0,{"$error":"#N/A"},null,0,{"$error":"#N/A"},{"$error":"#N/A"},{"$error":"#N/A"},0,{"$error":"#N/A"},{"$error":"#N/A"},{"$error":"#N/A"}]
[0,{"$f":"COUNTIF(Anb!A:A,C16)","v":0},10102.00000007,"010102",null,1E-8,7,null,{"$error":"#N/A"},{"$error":"#N/A"},{"$error":"#N/A"},{"$error":"#N/A"},{"$error":"#N/A"},{"$error":"#N/A"},{"$error":"#N/A"},0,{"$error":"#N/A"},null,0,{"$error":"#N/A"},{"$error":"#N/A"},{"$error":"#N/A"},0,{"$error":"#N/A"},{"$error":"#N/A"},{"$error":"#N/A"}]
[0,{"$f":"COUNTIF(Anb!A:A,C17)","v":0},10102.000000079999,"010102",null,1E-8,8,null,{"$error":"#N/A"},{"$error":"#N/A"},{"$error":"#N/A"},{"$error":"#N/A"},{"$error":"#N/A"},{"$error":"#N/A"},{"$error":"#N/A"},0,{"$error":"#N/A"},null,0,{"$error":"#N/A"},{"$error":"#N/A"},{"$error":"#N/A"},0,{"$error":"#N/A"},{"$error":"#N/A"},{"$error":"#N/A"}]
[0,{"$f":"COUNTIF(Anb!A:A,C18)","v":0},10102.00000009,"010102",null,1E-8,9,null,{"$error":"#N/A"},{"$error":"#N/A"},{"$error":"#N/A"},{"$error":"#N/A"},{"$error":"#N/A"},{"$error":"#N/A"},{"$error":"#N/A"},0,{"$error":"#N/A"},null,0,{"$error":"#N/A"},{"$error":"#N/A"},{"$error":"#N/A"},0,{"$error":"#N/A"},{"$error":"#N/A"},{"$error":"#N/A"}]
[0,{"$f":"COUNTIF(Anb!A:A,C19)","v":0},10102.000000100001,"010102",null,1E-8,10,null,{"$error":"#N/A"},{"$error":"#N/A"},{"$error":"#N/A"},{"$error":"#N/A"},{"$error":"#N/A"},{"$error":"#N/A"},{"$error":"#N/A"},0,{"$error":"#N/A"},null,0,{"$error":"#N/A"},{"$error":"#N/A"},{"$error":"#N/A"},0,{"$error":"#N/A"},{"$error":"#N/A"},{"$error":"#N/A"}]
[0,{"$f":"COUNTIF(Anb!A:A,C20)","v":0},10102.00000011,"010102",null,1E-8,11,null,{"$error":"#N/A"},{"$error":"#N/A"},{"$error":"#N/A"},{"$error":"#N/A"},{"$error":"#N/A"},{"$error":"#N/A"},{"$error":"#N/A"},0,{"$error":"#N/A"},null,0,{"$error":"#N/A"},{"$error":"#N/A"},{"$error":"#N/A"},0,{"$error":"#N/A"},{"$error":"#N/A"},{"$error":"#N/A"}]
[0,{"$f":"COUNTIF(Anb!A:A,C21)","v":0},10102.000000120001,"010102",null,1E-8,12,null,{"$error":"#N/A"},{"$error":"#N/A"},{"$error":"#N/A"},{"$error":"#N/A"},{"$error":"#N/A"},{"$error":"#N/A"},{"$error":"#N/A"},0,{"$error":"#N/A"},null,0,{"$error":"#N/A"},{"$error":"#N/A"},{"$error":"#N/A"},0,{"$error":"#N/A"},{"$error":"#N/A"},{"$error":"#N/A"}]
[0,{"$f":"COUNTIF(Anb!A:A,C22)","v":0},10102.00000013,"010102",null,1E-8,13,null,{"$error":"#N/A"},{"$error":"#N/A"},{"$error":"#N/A"},{"$error":"#N/A"},{"$error":"#N/A"},{"$error":"#N/A"},{"$error":"#N/A"},0,{"$error":"#N/A"},null,0,{"$error":"#N/A"},{"$error":"#N/A"},{"$error":"#N/A"},0,{"$error":"#N/A"},{"$error":"#N/A"},{"$error":"#N/A"}]
[0,{"$f":"COUNTIF(Anb!A:A,C23)","v":0},10102.00000014,"010102",null,1E-8,14,null,{"$error":"#N/A"},{"$error":"#N/A"},{"$error":"#N/A"},{"$error":"#N/A"},{"$error":"#N/A"},{"$error":"#N/A"},{"$error":"#N/A"},0,{"$error":"#N/A"},null,0,{"$error":"#N/A"},{"$error":"#N/A"},{"$error":"#N/A"},0,{"$error":"#N/A"},{"$error":"#N/A"},{"$error":"#N/A"}]
[0,{"$f":"COUNTIF(Anb!A:A,C24)","v":0},10102.000000149999,"010102",null,1E-8,15,null,{"$error":"#N/A"},{"$error":"#N/A"},{"$error":"#N/A"},{"$error":"#N/A"},{"$error":"#N/A"},{"$error":"#N/A"},{"$error":"#N/A"},0,{"$error":"#N/A"},null,0,{"$error":"#N/A"},{"$error":"#N/A"},{"$error":"#N/A"},0,{"$error":"#N/A"},{"$error":"#N/A"},{"$error":"#N/A"}]
[0,{"$f":"COUNTIF(Anb!A:A,C25)","v":0},10102.00000016,"010102",null,1E-8,16,null,{"$error":"#N/A"},{"$error":"#N/A"},{"$error":"#N/A"},{"$error":"#N/A"},{"$error":"#N/A"},{"$error":"#N/A"},{"$error":"#N/A"},0,{"$error":"#N/A"},null,0,{"$error":"#N/A"},{"$error":"#N/A"},{"$error":"#N/A"},0,{"$error":"#N/A"},{"$error":"#N/A"},{"$error":"#N/A"}]
[0,{"$f":"COUNTIF(Anb!A:A,C26)","v":0},10102.000000169999,"010102",null,1E-8,17,null,{"$error":"#N/A"},{"$error":"#N/A"},{"$error":"#N/A"},{"$error":"#N/A"},{"$error":"#N/A"},{"$error":"#N/A"},{"$error":"#N/A"},0,{"$error":"#N/A"},null,0,{"$error":"#N/A"},{"$error":"#N/A"},{"$error":"#N/A"},0,{"$error":"#N/A"},{"$error":"#N/A"},{"$error":"#N/A"}]
[0,{"$f":"COUNTIF(Anb!A:A,C27)","v":0},10102.00000018,"010102",null,1E-8,18,null,{"$error":"#N/A"},{"$error":"#N/A"},{"$error":"#N/A"},{"$error":"#N/A"},{"$error":"#N/A"},{"$error":"#N/A"},{"$error":"#N/A"},0,{"$error":"#N/A"},null,0,{"$error":"#N/A"},{"$error":"#N/A"},{"$error":"#N/A"},0,{"$error":"#N/A"},{"$error":"#N/A"},{"$error":"#N/A"}]
[0,{"$f":"COUNTIF(Anb!A:A,C28)","v":0},10102.000000190001,"010102",null,1E-8,19,null,{"$error":"#N/A"},{"$error":"#N/A"},{"$error":"#N/A"},{"$error":"#N/A"},{"$error":"#N/A"},{"$error":"#N/A"},{"$error":"#N/A"},0,{"$error":"#N/A"},null,0,{"$error":"#N/A"},{"$error":"#N/A"},{"$error":"#N/A"},0,{"$error":"#N/A"},{"$error":"#N/A"},{"$error":"#N/A"}]
[0,{"$f":"COUNTIF(Anb!A:A,C29)","v":0},10102.0000002,"010102",null,1E-8,20,null,{"$error":"#N/A"},{"$error":"#N/A"},{"$error":"#N/A"},{"$error":"#N/A"},{"$error":"#N/A"},{"$error":"#N/A"},{"$error":"#N/A"},0,{"$error":"#N/A"},null,0,{"$error":"#N/A"},{"$error":"#N/A"},{"$error":"#N/A"},0,{"$error":"#N/A"},{"$error":"#N/A"},{"$error":"#N/A"}]
[0,{"$f":"COUNTIF(Anb!A:A,C30)","v":0},10102.000000210001,"010102",null,1E-8,21,null,{"$error":"#N/A"},{"$error":"#N/A"},{"$error":"#N/A"},{"$error":"#N/A"},{"$error":"#N/A"},{"$error":"#N/A"},{"$error":"#N/A"},0,{"$error":"#N/A"},null,0,{"$error":"#N/A"},{"$error":"#N/A"},{"$error":"#N/A"},0,{"$error":"#N/A"},{"$error":"#N/A"},{"$error":"#N/A"}]
[0,{"$f":"COUNTIF(Anb!A:A,C31)","v":0},10102.000000219999,"010102",null,1E-8,22,null,{"$error":"#N/A"},{"$error":"#N/A"},{"$error":"#N/A"},{"$error":"#N/A"},{"$error":"#N/A"},{"$error":"#N/A"},{"$error":"#N/A"},0,{"$error":"#N/A"},null,0,{"$error":"#N/A"},{"$error":"#N/A"},{"$error":"#N/A"},0,{"$error":"#N/A"},{"$error":"#N/A"},{"$error":"#N/A"}]
[0,{"$f":"COUNTIF(Anb!A:A,C32)","v":0},10102.00000023,"010102",null,1E-8,23,null,{"$error":"#N/A"},{"$error":"#N/A"},{"$error":"#N/A"},{"$error":"#N/A"},{"$error":"#N/A"},{"$error":"#N/A"},{"$error":"#N/A"},0,{"$error":"#N/A"},null,0,{"$error":"#N/A"},{"$error":"#N/A"},{"$error":"#N/A"},0,{"$error":"#N/A"},{"$error":"#N/A"},{"$error":"#N/A"}]
[0,{"$f":"COUNTIF(Anb!A:A,C33)","v":0},10102.000000239999,"010102",null,1E-8,24,null,{"$error":"#N/A"},{"$error":"#N/A"},{"$error":"#N/A"},{"$error":"#N/A"},{"$error":"#N/A"},{"$error":"#N/A"},{"$error":"#N/A"},0,{"$error":"#N/A"},null,0,{"$error":"#N/A"},{"$error":"#N/A"},{"$error":"#N/A"},0,{"$error":"#N/A"},{"$error":"#N/A"},{"$error":"#N/A"}]
[0,{"$f":"COUNTIF(Anb!A:A,C34)","v":0},10102.00000025,"010102",null,1E-8,25,null,{"$error":"#N/A"},{"$error":"#N/A"},{"$error":"#N/A"},{"$error":"#N/A"},{"$error":"#N/A"},{"$error":"#N/A"},{"$error":"#N/A"},0,{"$error":"#N/A"},null,0,{"$error":"#N/A"},{"$error":"#N/A"},{"$error":"#N/A"},0,{"$error":"#N/A"},{"$error":"#N/A"},{"$error":"#N/A"}]
[null,{"$f":"IF(SUM(B10:B34)>0,2,0)","v":2},null,"010102",null,null,null,null,"درصد وزنی",null,null,{"$f":"ROUND(IFERROR(P35/P112,0),4)","v":0.99109999999999998},null,"جمع نيروي انساني",null,{"$f":"SUM(P10:P34)","v":10224.083999999999},null,null,null,null,0,0,0,null,0,0]
[null,{"$f":"B37","v":1},null,"010102",null,null,null,null,"رديف","کد عامل","ماشين آلات 2","واحد",{"$f":"M9","v":"مقیاس1"},{"$f":"N9","v":"مقدار/مقیاس"},{"$f":"O9","v":"بهای واحد عامل"},"بهاي کل",null,null,null,null,0,0,0,null,0,0]
[{"$f":"B37*C37","v":10102.000001},{"$f":"COUNTIF(Anb!A:A,C37)","v":1},{"$f":"D37+(G37*F37)","v":10102.000001},"010102",null,9.9999999999999995E-7,1,null,{"$f":"VLOOKUP(A37,AnalizDB,16,0)","v":1},{"$f":"VLOOKUP(A37,AnalizDB,13,0)","v":28060203},{"$f":"VLOOKUP(A37,AnalizDB,12,0)","v":"اره بنزینی متحرک چوب"},{"$f":"VLOOKUP(A37,AnalizDB,11,0)","v":"دستگاه ساعت"},{"$f":"VLOOKUP(A37,AnalizDB,$S$5,0)","v":1},{"$f":"VLOOKUP(A37,AnalizDB,$S$6,0)","v":5.2999999999999999E-2},{"$f":"VLOOKUP(J37,ManabehDB,$S$7,0)","v":1736},{"$f":"IFERROR(O37*N37*M37,0)","v":92.007999999999996},{"$f":"VLOOKUP(A37,AnalizDB,10,0)*$Q$8","v":1.06},null,{"$f":"IFERROR(O37*N37*T37,0)","v":92.007999999999996},{"$f":"VLOOKUP(A37,AnalizDB,7,0)","v":1},0.99844010697074059,1.0483621123192777,92.007999999999996,{"$f":"VLOOKUP(A37,AnalizDB,3,0)","v":5.2999999999999999E-2},5.2917325669449247E-2,5.5563191952921712E-2]
[0,{"$f":"COUNTIF(Anb!A:A,C38)","v":0},10102.000002000001,"010102",null,9.9999999999999995E-7,2,null,{"$error":"#N/A"},{"$error":"#N/A"},{"$error":"#N/A"},{"$error":"#N/A"},{"$error":"#N/A"},{"$f":"VLOOKUP(A38,AnalizDB,$S$6,0)","v":{"$error":"#N/A"}},{"$error":"#N/A"},0,{"$error":"#N/A"},null,{"$f":"IFERROR(O38*N38*T38,0)","v":0},{"$error":"#N/A"},{"$error":"#N/A"},{"$error":"#N/A"},0,{"$error":"#N/A"},{"$error":"#N/A"},{"$error":"#N/A"}]
[0,{"$f":"COUNTIF(Anb!A:A,C39)","v":0},10102.000002999999,"010102",null,9.9999999999999995E-7,3,null,{"$error":"#N/A"},{"$error":"#N/A"},{"$error":"#N/A"},{"$error":"#N/A"},{"$error":"#N/A"},{"$error":"#N/A"},{"$error":"#N/A"},0,{"$error":"#N/A"},null,0,{"$error":"#N/A"},{"$error":"#N/A"},{"$error":"#N/A"},0,{"$error":"#N/A"},{"$error":"#N/A"},{"$error":"#N/A"}]
[0,{"$f":"COUNTIF(Anb!A:A,C40)","v":0},10102.000004,"010102",null,9.9999999999999995E-7,4,null,{"$error":"#N/A"},{"$error":"#N/A"},{"$error":"#N/A"},{"$error":"#N/A"},{"$error":"#N/A"},{"$error":"#N/A"},{"$error":"#N/A"},0,{"$error":"#N/A"},null,0,{"$error":"#N/A"},{"$error":"#N/A"},{"$error":"#N/A"},0,{"$error":"#N/A"},{"$error":"#N/A"},{"$error":"#N/A"}]
[0,{"$f":"COUNTIF(Anb!A:A,C41)","v":0},10102.000005,"010102",null,9.9999999999999995E-7,5,null,{"$error":"#N/A"},{"$error":"#N/A"},{"$error":"#N/A"},{"$error":"#N/A"},{"$error":"#N/A"},{"$error":"#N/A"},{"$error":"#N/A"},0,{"$error":"#N/A"},null,0,{"$error":"#N/A"},{"$error":"#N/A"},{"$error":"#N/A"},0,{"$error":"#N/A"},{"$error":"#N/A"},{"$error":"#N/A"}]
[0,{"$f":"COUNTIF(Anb!A:A,C42)","v":0},10102.000006,"010102",null,9.9999999999999995E-7,6,null,{"$error":"#N/A"},{"$error":"#N/A"},{"$error":"#N/A"},{"$error":"#N/A"},{"$error":"#N/A"},{"$error":"#N/A"},{"$error":"#N/A"},0,{"$error":"#N/A"},null,0,{"$error":"#N/A"},{"$f":"$S$114*T42","v":{"$error":"#N/A"}},{"$f":"$V$6*U42","v":{"$error":"#N/A"}},0,{"$error":"#N/A"},{"$error":"#N/A"},{"$error":"#N/A"}]
[0,{"$f":"COUNTIF(Anb!A:A,C43)","v":0},10102.000007000001,"010102",null,9.9999999999999995E-7,7,null,{"$error":"#N/A"},{"$error":"#N/A"},{"$error":"#N/A"},{"$error":"#N/A"},{"$error":"#N/A"},{"$error":"#N/A"},{"$error":"#N/A"},0,{"$error":"#N/A"},null,0,{"$error":"#N/A"},{"$error":"#N/A"},{"$error":"#N/A"},0,{"$error":"#N/A"},{"$error":"#N/A"},{"$error":"#N/A"}]
[0,{"$f":"COUNTIF(Anb!A:A,C44)","v":0},10102.000008000001,"010102",null,9.9999999999999995E-7,8,null,{"$error":"#N/A"},{"$error":"#N/A"},{"$error":"#N/A"},{"$error":"#N/A"},{"$error":"#N/A"},{"$error":"#N/A"},{"$error":"#N/A"},0,{"$error":"#N/A"},null,0,{"$error":"#N/A"},{"$error":"#N/A"},{"$error":"#N/A"},0,{"$error":"#N/A"},{"$error":"#N/A"},{"$error":"#N/A"}]
[0,{"$f":"COUNTIF(Anb!A:A,C45)","v":0},10102.000008999999,"010102",null,9.9999999999999995E-7,9,null,{"$error":"#N/A"},{"$error":"#N/A"},{"$error":"#N/A"},{"$error":"#N/A"},{"$error":"#N/A"},{"$error":"#N/A"},{"$error":"#N/A"},0,{"$error":"#N/A"},null,0,{"$error":"#N/A"},{"$error":"#N/A"},{"$error":"#N/A"},0,{"$error":"#N/A"},{"$error":"#N/A"},{"$error":"#N/A"}]
[0,{"$f":"COUNTIF(Anb!A:A,C46)","v":0},10102.00001,"010102",null,9.9999999999999995E-7,10,null,{"$error":"#N/A"},{"$error":"#N/A"},{"$error":"#N/A"},{"$error":"#N/A"},{"$error":"#N/A"},{"$error":"#N/A"},{"$error":"#N/A"},0,{"$error":"#N/A"},null,0,{"$error":"#N/A"},{"$error":"#N/A"},{"$error":"#N/A"},0,{"$error":"#N/A"},{"$error":"#N/A"},{"$error":"#N/A"}]
[0,{"$f":"COUNTIF(Anb!A:A,C47)","v":0},10102.000011,"010102",null,9.9999999999999995E-7,11,null,{"$error":"#N/A"},{"$error":"#N/A"},{"$error":"#N/A"},{"$error":"#N/A"},{"$error":"#N/A"},{"$error":"#N/A"},{"$error":"#N/A"},0,{"$error":"#N/A"},null,0,{"$error":"#N/A"},{"$error":"#N/A"},{"$error":"#N/A"},0,{"$error":"#N/A"},{"$error":"#N/A"},{"$error":"#N/A"}]
[0,{"$f":"COUNTIF(Anb!A:A,C48)","v":0},10102.000012,"010102",null,9.9999999999999995E-7,12,null,{"$error":"#N/A"},{"$error":"#N/A"},{"$error":"#N/A"},{"$error":"#N/A"},{"$error":"#N/A"},{"$error":"#N/A"},{"$error":"#N/A"},0,{"$error":"#N/A"},null,0,{"$error":"#N/A"},{"$error":"#N/A"},{"$error":"#N/A"},0,{"$error":"#N/A"},{"$error":"#N/A"},{"$error":"#N/A"}]
[0,{"$f":"COUNTIF(Anb!A:A,C49)","v":0},10102.000013000001,"010102",null,9.9999999999999995E-7,13,null,{"$error":"#N/A"},{"$error":"#N/A"},{"$error":"#N/A"},{"$error":"#N/A"},{"$error":"#N/A"},{"$error":"#N/A"},{"$error":"#N/A"},0,{"$error":"#N/A"},null,0,{"$error":"#N/A"},{"$error":"#N/A"},{"$error":"#N/A"},0,{"$error":"#N/A"},{"$error":"#N/A"},{"$error":"#N/A"}]
[0,{"$f":"COUNTIF(Anb!A:A,C50)","v":0},10102.000013999999,"010102",null,9.9999999999999995E-7,14,null,{"$error":"#N/A"},{"$error":"#N/A"},{"$error":"#N/A"},{"$error":"#N/A"},{"$error":"#N/A"},{"$error":"#N/A"},{"$error":"#N/A"},0,{"$error":"#N/A"},null,0,{"$error":"#N/A"},{"$error":"#N/A"},{"$error":"#N/A"},0,{"$error":"#N/A"},{"$error":"#N/A"},{"$error":"#N/A"}]
[0,{"$f":"COUNTIF(Anb!A:A,C51)","v":0},10102.000015,"010102",null,9.9999999999999995E-7,15,null,{"$error":"#N/A"},{"$error":"#N/A"},{"$error":"#N/A"},{"$error":"#N/A"},{"$error":"#N/A"},{"$error":"#N/A"},{"$error":"#N/A"},0,{"$error":"#N/A"},null,0,{"$error":"#N/A"},{"$error":"#N/A"},{"$error":"#N/A"},0,{"$error":"#N/A"},{"$error":"#N/A"},{"$error":"#N/A"}]
[0,{"$f":"COUNTIF(Anb!A:A,C52)","v":0},10102.000016,"010102",null,9.9999999999999995E-7,16,null,{"$error":"#N/A"},{"$error":"#N/A"},{"$error":"#N/A"},{"$error":"#N/A"},{"$error":"#N/A"},{"$error":"#N/A"},{"$error":"#N/A"},0,{"$error":"#N/A"},null,0,{"$error":"#N/A"},{"$error":"#N/A"},{"$error":"#N/A"},0,{"$error":"#N/A"},{"$error":"#N/A"},{"$error":"#N/A"}]
[0,{"$f":"COUNTIF(Anb!A:A,C53)","v":0},10102.000017,"010102",null,9.9999999999999995E-7,17,null,{"$error":"#N/A"},{"$error":"#N/A"},{"$error":"#N/A"},{"$error":"#N/A"},{"$error":"#N/A"},{"$error":"#N/A"},{"$error":"#N/A"},0,{"$error":"#N/A"},null,0,{"$error":"#N/A"},{"$error":"#N/A"},{"$error":"#N/A"},0,{"$error":"#N/A"},{"$error":"#N/A"},{"$error":"#N/A"}]
[0,{"$f":"COUNTIF(Anb!A:A,C54)","v":0},10102.000018000001,"010102",null,9.9999999999999995E-7,18,null,{"$error":"#N/A"},{"$error":"#N/A"},{"$error":"#N/A"},{"$error":"#N/A"},{"$error":"#N/A"},{"$error":"#N/A"},{"$error":"#N/A"},0,{"$error":"#N/A"},null,0,{"$error":"#N/A"},{"$error":"#N/A"},{"$error":"#N/A"},0,{"$error":"#N/A"},{"$error":"#N/A"},{"$error":"#N/A"}]
[0,{"$f":"COUNTIF(Anb!A:A,C55)","v":0},10102.000018999999,"010102",null,9.9999999999999995E-7,19,null,{"$error":"#N/A"},{"$error":"#N/A"},{"$error":"#N/A"},{"$error":"#N/A"},{"$error":"#N/A"},{"$error":"#N/A"},{"$error":"#N/A"},0,{"$error":"#N/A"},null,0,{"$error":"#N/A"},{"$error":"#N/A"},{"$error":"#N/A"},0,{"$error":"#N/A"},{"$error":"#N/A"},{"$error":"#N/A"}]
[0,{"$f":"COUNTIF(Anb!A:A,C56)","v":0},10102.000019999999,"010102",null,9.9999999999999995E-7,20,null,{"$error":"#N/A"},{"$error":"#N/A"},{"$error":"#N/A"},{"$error":"#N/A"},{"$error":"#N/A"},{"$error":"#N/A"},{"$error":"#N/A"},0,{"$error":"#N/A"},null,0,{"$error":"#N/A"},{"$error":"#N/A"},{"$error":"#N/A"},0,{"$error":"#N/A"},{"$error":"#N/A"},{"$error":"#N/A"}]
[0,{"$f":"COUNTIF(Anb!A:A,C57)","v":0},10102.000021,"010102",null,9.9999999999999995E-7,21,null,{"$error":"#N/A"},{"$error":"#N/A"},{"$error":"#N/A"},{"$error":"#N/A"},{"$error":"#N/A"},{"$error":"#N/A"},{"$error":"#N/A"},0,{"$error":"#N/A"},null,0,{"$error":"#N/A"},{"$error":"#N/A"},{"$error":"#N/A"},0,{"$error":"#N/A"},{"$error":"#N/A"},{"$error":"#N/A"}]
[0,{"$f":"COUNTIF(Anb!A:A,C58)","v":0},10102.000022,"010102",null,9.9999999999999995E-7,22,null,{"$error":"#N/A"},{"$error":"#N/A"},{"$error":"#N/A"},{"$error":"#N/A"},{"$error":"#N/A"},{"$error":"#N/A"},{"$error":"#N/A"},0,{"$error":"#N/A"},null,0,{"$error":"#N/A"},{"$error":"#N/A"},{"$error":"#N/A"},0,{"$error":"#N/A"},{"$error":"#N/A"},{"$error":"#N/A"}]
[0,{"$f":"COUNTIF(Anb!A:A,C59)","v":0},10102.000023000001,"010102",null,9.9999999999999995E-7,23,null,{"$error":"#N/A"},{"$error":"#N/A"},{"$error":"#N/A"},{"$error":"#N/A"},{"$error":"#N/A"},{"$error":"#N/A"},{"$error":"#N/A"},0,{"$error":"#N/A"},null,0,{"$error":"#N/A"},{"$error":"#N/A"},{"$error":"#N/A"},0,{"$error":"#N/A"},{"$error":"#N/A"},{"$error":"#N/A"}]
[0,{"$f":"COUNTIF(Anb!A:A,C60)","v":0},10102.000024000001,"010102",null,9.9999999999999995E-7,24,null,{"$error":"#N/A"},{"$error":"#N/A"},{"$error":"#N/A"},{"$error":"#N/A"},{"$error":"#N/A"},{"$error":"#N/A"},{"$error":"#N/A"},0,{"$error":"#N/A"},null,0,{"$error":"#N/A"},{"$error":"#N/A"},{"$error":"#N/A"},0,{"$error":"#N/A"},{"$error":"#N/A"},{"$error":"#N/A"}]
[0,{"$f":"COUNTIF(Anb!A:A,C61)","v":0},10102.000024999999,"010102",null,9.9999999999999995E-7,25,null,{"$error":"#N/A"},{"$error":"#N/A"},{"$error":"#N/A"},{"$error":"#N/A"},{"$error":"#N/A"},{"$error":"#N/A"},{"$error":"#N/A"},0,{"$error":"#N/A"},null,0,{"$error":"#N/A"},{"$error":"#N/A"},{"$error":"#N/A"},0,{"$error":"#N/A"},{"$error":"#N/A"},{"$error":"#N/A"}]
[null,{"$f":"IF(SUM(B37:B61)>0,2,0)","v":2},null,null,null,null,null,null,"درصد وزنی",null,null,{"$f":"ROUND(IFERROR(P62/P112,0),4)","v":8.8999999999999999E-3},null,"جمع ماشين آلات ",null,{"$f":"SUM(P37:P61)","v":92.007999999999996},null,null,null,null,0,0,0,null,0,0]
[null,{"$f":"B64","v":0},null,null,null,null,null,null,"رديف","کد عامل","مصالح","واحد",{"$f":"M36","v":"مقیاس1"},{"$f":"N36","v":"مقدار/مقیاس"},{"$f":"O36","v":"بهای واحد عامل"},"بهاي کل",null,null,null,null,0,0,0,null,0,0]
[{"$f":"B64*C64","v":0},{"$f":"COUNTIF(Anb!A:A,C64)","v":0},{"$f":"D64+(G64*F64)","v":10102.000099999999},{"$f":"$E$7","v":"010102"},null,1E-4,1,null,{"$f":"VLOOKUP(A64,AnalizDB,16,0)","v":{"$error":"#N/A"}},{"$f":"VLOOKUP(A64,AnalizDB,13,0)","v":{"$error":"#N/A"}},{"$f":"VLOOKUP(A64,AnalizDB,12,0)","v":{"$error":"#N/A"}},{"$f":"VLOOKUP(A64,AnalizDB,11,0)","v":{"$error":"#N/A"}},{"$f":"VLOOKUP(A64,AnalizDB,$S$5,0)","v":{"$error":"#N/A"}},{"$f":"VLOOKUP(A64,AnalizDB,$S$6,0)","v":{"$error":"#N/A"}},{"$f":"VLOOKUP(J64,ManabehDB,$S$7,0)","v":{"$error":"#N/A"}},{"$f":"IFERROR(O64*N64*M64,0)","v":0},{"$f":"VLOOKUP(A64,AnalizDB,10,0)*$Q$8","v":{"$error":"#N/A"}},null,{"$f":"IFERROR(O64*N64*T64,0)","v":0},{"$f":"VLOOKUP(A64,AnalizDB,7,0)","v":{"$error":"#N/A"}},{"$error":"#N/A"},{"$error":"#N/A"},0,{"$f":"VLOOKUP(A64,AnalizDB,3,0)","v":{"$error":"#N/A"}},{"$error":"#N/A"},{"$error":"#N/A"}]
[0,{"$f":"COUNTIF(Anb!A:A,C65)","v":0},10102.0002,"010102",null,1E-4,2,null,{"$error":"#N/A"},{"$error":"#N/A"},{"$error":"#N/A"},{"$error":"#N/A"},{"$error":"#N/A"},{"$error":"#N/A"},{"$error":"#N/A"},0,{"$error":"#N/A"},null,{"$f":"IFERROR(O65*N65*T65,0)","v":0},{"$error":"#N/A"},{"$error":"#N/A"},{"$error":"#N/A"},0,{"$error":"#N/A"},{"$error":"#N/A"},{"$error":"#N/A"}]
[0,{"$f":"COUNTIF(Anb!A:A,C66)","v":0},10102.0003,"010102",null,1E-4,3,null,{"$error":"#N/A"},{"$error":"#N/A"},{"$error":"#N/A"},{"$error":"#N/A"},{"$error":"#N/A"},{"$error":"#N/A"},{"$error":"#N/A"},0,{"$error":"#N/A"},null,0,{"$error":"#N/A"},{"$error":"#N/A"},{"$error":"#N/A"},0,{"$error":"#N/A"},{"$error":"#N/A"},{"$error":"#N/A"}]
[0,{"$f":"COUNTIF(Anb!A:A,C67)","v":0},10102.000400000001,"010102",null,1E-4,4,null,{"$error":"#N/A"},{"$error":"#N/A"},{"$error":"#N/A"},{"$error":"#N/A"},{"$error":"#N/A"},{"$error":"#N/A"},{"$error":"#N/A"},0,{"$error":"#N/A"},null,0,{"$error":"#N/A"},{"$error":"#N/A"},{"$error":"#N/A"},0,{"$error":"#N/A"},{"$error":"#N/A"},{"$error":"#N/A"}]
[0,{"$f":"COUNTIF(Anb!A:A,C68)","v":0},10102.0005,"010102",null,1E-4,5,null,{"$error":"#N/A"},{"$error":"#N/A"},{"$error":"#N/A"},{"$error":"#N/A"},{"$error":"#N/A"},{"$error":"#N/A"},{"$error":"#N/A"},0,{"$error":"#N/A"},null,0,{"$error":"#N/A"},{"$error":"#N/A"},{"$error":"#N/A"},0,{"$error":"#N/A"},{"$error":"#N/A"},{"$error":"#N/A"}]
[0,{"$f":"COUNTIF(Anb!A:A,C69)","v":0},10102.000599999999,"010102",null,1E-4,6,null,{"$error":"#N/A"},{"$error":"#N/A"},{"$error":"#N/A"},{"$error":"#N/A"},{"$error":"#N/A"},{"$error":"#N/A"},{"$error":"#N/A"},0,{"$error":"#N/A"},null,0,{"$error":"#N/A"},{"$error":"#N/A"},{"$error":"#N/A"},0,{"$error":"#N/A"},{"$error":"#N/A"},{"$error":"#N/A"}]
[0,{"$f":"COUNTIF(Anb!A:A,C70)","v":0},10102.000700000001,"010102",null,1E-4,7,null,{"$error":"#N/A"},{"$error":"#N/A"},{"$error":"#N/A"},{"$error":"#N/A"},{"$error":"#N/A"},{"$error":"#N/A"},{"$error":"#N/A"},0,{"$error":"#N/A"},null,0,{"$error":"#N/A"},{"$error":"#N/A"},{"$error":"#N/A"},0,{"$error":"#N/A"},{"$error":"#N/A"},{"$error":"#N/A"}]
[0,{"$f":"COUNTIF(Anb!A:A,C71)","v":0},10102.0008,"010102",null,1E-4,8,null,{"$error":"#N/A"},{"$error":"#N/A"},{"$error":"#N/A"},{"$error":"#N/A"},{"$error":"#N/A"},{"$error":"#N/A"},{"$error":"#N/A"},0,{"$error":"#N/A"},null,0,{"$error":"#N/A"},{"$error":"#N/A"},{"$error":"#N/A"},0,{"$error":"#N/A"},{"$error":"#N/A"},{"$error":"#N/A"}]
[0,{"$f":"COUNTIF(Anb!A:A,C72)","v":0},10102.000899999999,"010102",null,1E-4,9,null,{"$error":"#N/A"},{"$error":"#N/A"},{"$error":"#N/A"},{"$error":"#N/A"},{"$error":"#N/A"},{"$error":"#N/A"},{"$error":"#N/A"},0,{"$error":"#N/A"},null,0,{"$error":"#N/A"},{"$error":"#N/A"},{"$error":"#N/A"},0,{"$error":"#N/A"},{"$error":"#N/A"},{"$error":"#N/A"}]
[0,{"$f":"COUNTIF(Anb!A:A,C73)","v":0},10102.001,"010102",null,1E-4,10,null,{"$error":"#N/A"},{"$error":"#N/A"},{"$error":"#N/A"},{"$error":"#N/A"},{"$error":"#N/A"},{"$error":"#N/A"},{"$error":"#N/A"},0,{"$error":"#N/A"},null,0,{"$error":"#N/A"},{"$error":"#N/A"},{"$error":"#N/A"},0,{"$error":"#N/A"},{"$error":"#N/A"},{"$error":"#N/A"}]
[0,{"$f":"COUNTIF(Anb!A:A,C74)","v":0},10102.001099999999,"010102",null,1E-4,11,null,{"$error":"#N/A"},{"$error":"#N/A"},{"$error":"#N/A"},{"$error":"#N/A"},{"$error":"#N/A"},{"$error":"#N/A"},{"$error":"#N/A"},0,{"$error":"#N/A"},null,0,{"$error":"#N/A"},{"$f":"$S$114*T74","v":{"$error":"#N/A"}},{"$f":"$V$6*U74","v":{"$error":"#N/A"}},0,{"$error":"#N/A"},{"$error":"#N/A"},{"$error":"#N/A"}]
[0,{"$f":"COUNTIF(Anb!A:A,C75)","v":0},10102.001200000001,"010102",null,1E-4,12,null,{"$error":"#N/A"},{"$error":"#N/A"},{"$error":"#N/A"},{"$error":"#N/A"},{"$error":"#N/A"},{"$error":"#N/A"},{"$error":"#N/A"},0,{"$error":"#N/A"},null,0,{"$error":"#N/A"},{"$error":"#N/A"},{"$error":"#N/A"},{"$f":"IFERROR(X75*O75,0)","v":0},{"$error":"#N/A"},{"$f":"$W$114*X75","v":{"$error":"#N/A"}},{"$error":"#N/A"}]
[0,{"$f":"COUNTIF(Anb!A:A,C76)","v":0},10102.0013,"010102",null,1E-4,13,null,{"$error":"#N/A"},{"$error":"#N/A"},{"$error":"#N/A"},{"$error":"#N/A"},{"$error":"#N/A"},{"$error":"#N/A"},{"$error":"#N/A"},0,{"$error":"#N/A"},null,0,{"$error":"#N/A"},{"$error":"#N/A"},{"$error":"#N/A"},0,{"$error":"#N/A"},{"$error":"#N/A"},{"$f":"Y76*$V$6","v":{"$error":"#N/A"}}]
[0,{"$f":"COUNTIF(Anb!A:A,C77)","v":0},10102.001399999999,"010102",null,1E-4,14,null,{"$error":"#N/A"},{"$error":"#N/A"},{"$error":"#N/A"},{"$error":"#N/A"},{"$error":"#N/A"},{"$error":"#N/A"},{"$error":"#N/A"},0,{"$error":"#N/A"},null,0,{"$error":"#N/A"},{"$error":"#N/A"},{"$error":"#N/A"},0,{"$error":"#N/A"},{"$error":"#N/A"},{"$error":"#N/A"}]
[0,{"$f":"COUNTIF(Anb!A:A,C78)","v":0},10102.0015,"010102",null,1E-4,15,null,{"$error":"#N/A"},{"$error":"#N/A"},{"$error":"#N/A"},{"$error":"#N/A"},{"$error":"#N/A"},{"$error":"#N/A"},{"$error":"#N/A"},0,{"$error":"#N/A"},null,0,{"$error":"#N/A"},{"$error":"#N/A"},{"$error":"#N/A"},0,{"$error":"#N/A"},{"$error":"#N/A"},{"$error":"#N/A"}]
[0,{"$f":"COUNTIF(Anb!A:A,C79)","v":0},10102.0016,"010102",null,1E-4,16,null,{"$error":"#N/A"},{"$error":"#N/A"},{"$error":"#N/A"},{"$error":"#N/A"},{"$error":"#N/A"},{"$error":"#N/A"},{"$error":"#N/A"},0,{"$error":"#N/A"},null,0,{"$error":"#N/A"},{"$error":"#N/A"},{"$error":"#N/A"},0,{"$error":"#N/A"},{"$error":"#N/A"},{"$error":"#N/A"}]
[0,{"$f":"COUNTIF(Anb!A:A,C80)","v":0},10102.001700000001,"010102",null,1E-4,17,null,{"$error":"#N/A"},{"$error":"#N/A"},{"$error":"#N/A"},{"$error":"#N/A"},{"$error":"#N/A"},{"$error":"#N/A"},{"$error":"#N/A"},0,{"$error":"#N/A"},null,0,{"$error":"#N/A"},{"$error":"#N/A"},{"$error":"#N/A"},0,{"$error":"#N/A"},{"$error":"#N/A"},{"$error":"#N/A"}]
[0,{"$f":"COUNTIF(Anb!A:A,C81)","v":0},10102.0018,"010102",null,1E-4,18,null,{"$error":"#N/A"},{"$error":"#N/A"},{"$error":"#N/A"},{"$error":"#N/A"},{"$error":"#N/A"},{"$error":"#N/A"},{"$error":"#N/A"},0,{"$error":"#N/A"},null,0,{"$error":"#N/A"},{"$error":"#N/A"},{"$error":"#N/A"},0,{"$error":"#N/A"},{"$error":"#N/A"},{"$error":"#N/A"}]
[0,{"$f":"COUNTIF(Anb!A:A,C82)","v":0},10102.001899999999,"010102",null,1E-4,19,null,{"$error":"#N/A"},{"$error":"#N/A"},{"$error":"#N/A"},{"$error":"#N/A"},{"$error":"#N/A"},{"$error":"#N/A"},{"$error":"#N/A"},0,{"$error":"#N/A"},null,0,{"$error":"#N/A"},{"$error":"#N/A"},{"$error":"#N/A"},0,{"$error":"#N/A"},{"$error":"#N/A"},{"$error":"#N/A"}]
[0,{"$f":"COUNTIF(Anb!A:A,C83)","v":0},10102.002,"010102",null,1E-4,20,null,{"$error":"#N/A"},{"$error":"#N/A"},{"$error":"#N/A"},{"$error":"#N/A"},{"$error":"#N/A"},{"$error":"#N/A"},{"$error":"#N/A"},0,{"$error":"#N/A"},null,0,{"$error":"#N/A"},{"$error":"#N/A"},{"$error":"#N/A"},0,{"$error":"#N/A"},{"$error":"#N/A"},{"$error":"#N/A"}]
[0,{"$f":"COUNTIF(Anb!A:A,C84)","v":0},10102.0021,"010102",null,1E-4,21,null,{"$error":"#N/A"},{"$error":"#N/A"},{"$error":"#N/A"},{"$error":"#N/A"},{"$error":"#N/A"},{"$error":"#N/A"},{"$error":"#N/A"},0,{"$error":"#N/A"},null,0,{"$error":"#N/A"},{"$error":"#N/A"},{"$error":"#N/A"},0,{"$error":"#N/A"},{"$error":"#N/A"},{"$error":"#N/A"}]
[0,{"$f":"COUNTIF(Anb!A:A,C85)","v":0},10102.002200000001,"010102",null,1E-4,22,null,{"$error":"#N/A"},{"$error":"#N/A"},{"$error":"#N/A"},{"$error":"#N/A"},{"$error":"#N/A"},{"$error":"#N/A"},{"$error":"#N/A"},0,{"$error":"#N/A"},null,0,{"$error":"#N/A"},{"$error":"#N/A"},{"$error":"#N/A"},0,{"$error":"#N/A"},{"$error":"#N/A"},{"$error":"#N/A"}]
[0,{"$f":"COUNTIF(Anb!A:A,C86)","v":0},10102.0023,"010102",null,1E-4,23,null,{"$error":"#N/A"},{"$error":"#N/A"},{"$error":"#N/A"},{"$error":"#N/A"},{"$error":"#N/A"},{"$error":"#N/A"},{"$error":"#N/A"},0,{"$error":"#N/A"},null,0,{"$error":"#N/A"},{"$error":"#N/A"},{"$error":"#N/A"},0,{"$error":"#N/A"},{"$error":"#N/A"},{"$error":"#N/A"}]
[0,{"$f":"COUNTIF(Anb!A:A,C87)","v":0},10102.002399999999,"010102",null,1E-4,24,null,{"$error":"#N/A"},{"$error":"#N/A"},{"$error":"#N/A"},{"$error":"#N/A"},{"$error":"#N/A"},{"$error":"#N/A"},{"$error":"#N/A"},0,{"$error":"#N/A"},null,0,{"$error":"#N/A"},{"$error":"#N/A"},{"$error":"#N/A"},0,{"$error":"#N/A"},{"$error":"#N/A"},{"$error":"#N/A"}]
[0,{"$f":"COUNTIF(Anb!A:A,C88)","v":0},10102.002500000001,"010102",null,1E-4,25,null,{"$error":"#N/A"},{"$error":"#N/A"},{"$error":"#N/A"},{"$error":"#N/A"},{"$error":"#N/A"},{"$error":"#N/A"},{"$error":"#N/A"},0,{"$error":"#N/A"},null,0,{"$error":"#N/A"},{"$error":"#N/A"},{"$error":"#N/A"},0,{"$error":"#N/A"},{"$error":"#N/A"},{"$error":"#N/A"}]
[null,{"$f":"IF(SUM(B64:B88)>0,2,0)","v":0},null,null,null,null,null,null,"درصد وزنی",null,null,{"$f":"ROUND(IFERROR(P89/P112,0),4)","v":0},null,"جمع مصالح",null,{"$f":"SUM(P64:P88)","v":0},null,null,null,null,0,0,0,null,0,0]
[null,{"$f":"B91","v":0},null,null,null,null,null,null,"رديف","کد عامل","حمل مصالح","واحد",{"$f":"M63","v":"مقیاس1"},{"$f":"N63","v":"مقدار/مقیاس"},{"$f":"O63","v":"بهای واحد عامل"},"بهاي کل",null,null,null,null,0,0,0,null,0,0]
[{"$f":"B91*C91","v":0},{"$f":"COUNTIF(Anb!A:A,C91)","v":0},{"$f":"D91+(G91*F91)","v":10102.01},{"$f":"$E$7","v":"010102"},null,0.01,1,null,{"$f":"VLOOKUP(A91,AnalizDB,16,0)","v":{"$error":"#N/A"}},{"$f":"VLOOKUP(A91,AnalizDB,13,0)","v":{"$error":"#N/A"}},{"$f":"VLOOKUP(A91,AnalizDB,12,0)","v":{"$error":"#N/A"}},{"$f":"VLOOKUP(A91,AnalizDB,11,0)","v":{"$error":"#N/A"}},{"$f":"VLOOKUP(A91,AnalizDB,$S$5,0)","v":{"$error":"#N/A"}},{"$f":"VLOOKUP(A91,AnalizDB,$S$6,0)","v":{"$error":"#N/A"}},{"$f":"VLOOKUP(J91,ManabehDB,$S$7,0)","v":{"$error":"#N/A"}},{"$f":"IFERROR(O91*N91*M91,0)","v":0},{"$f":"VLOOKUP(A91,AnalizDB,10,0)*$Q$8","v":{"$error":"#N/A"}},null,{"$f":"IFERROR(O91*N91*T91,0)","v":0},{"$f":"VLOOKUP(A91,AnalizDB,7,0)","v":{"$error":"#N/A"}},{"$error":"#N/A"},{"$error":"#N/A"},0,{"$f":"VLOOKUP(A91,AnalizDB,3,0)","v":{"$error":"#N/A"}},{"$error":"#N/A"},{"$error":"#N/A"}]
[0,{"$f":"COUNTIF(Anb!A:A,C92)","v":0},10102.02,"010102",null,0.01,2,null,{"$error":"#N/A"},{"$error":"#N/A"},{"$error":"#N/A"},{"$error":"#N/A"},{"$error":"#N/A"},{"$error":"#N/A"},{"$error":"#N/A"},0,{"$error":"#N/A"},null,0,{"$error":"#N/A"},{"$error":"#N/A"},{"$error":"#N/A"},0,{"$error":"#N/A"},{"$error":"#N/A"},{"$error":"#N/A"}]
[0,{"$f":"COUNTIF(Anb!A:A,C93)","v":0},10102.030000000001,"010102",null,0.01,3,null,{"$error":"#N/A"},{"$error":"#N/A"},{"$error":"#N/A"},{"$error":"#N/A"},{"$error":"#N/A"},{"$error":"#N/A"},{"$error":"#N/A"},0,{"$error":"#N/A"},null,0,{"$error":"#N/A"},{"$error":"#N/A"},{"$error":"#N/A"},0,{"$error":"#N/A"},{"$error":"#N/A"},{"$error":"#N/A"}]
[0,{"$f":"COUNTIF(Anb!A:A,C94)","v":0},10102.040000000001,"010102",null,0.01,4,null,{"$error":"#N/A"},{"$error":"#N/A"},{"$error":"#N/A"},{"$error":"#N/A"},{"$error":"#N/A"},{"$error":"#N/A"},{"$error":"#N/A"},0,{"$error":"#N/A"},null,0,{"$error":"#N/A"},{"$error":"#N/A"},{"$error":"#N/A"},0,{"$error":"#N/A"},{"$error":"#N/A"},{"$error":"#N/A"}]
[0,{"$f":"COUNTIF(Anb!A:A,C95)","v":0},10102.049999999999,"010102",null,0.01,5,null,{"$error":"#N/A"},{"$error":"#N/A"},{"$error":"#N/A"},{"$error":"#N/A"},{"$error":"#N/A"},{"$error":"#N/A"},{"$error":"#N/A"},0,{"$error":"#N/A"},null,0,{"$error":"#N/A"},{"$error":"#N/A"},{"$error":"#N/A"},0,{"$error":"#N/A"},{"$error":"#N/A"},{"$error":"#N/A"}]
[0,{"$f":"COUNTIF(Anb!A:A,C96)","v":0},10102.06,"010102",null,0.01,6,null,{"$error":"#N/A"},{"$error":"#N/A"},{"$error":"#N/A"},{"$error":"#N/A"},{"$error":"#N/A"},{"$error":"#N/A"},{"$error":"#N/A"},0,{"$error":"#N/A"},null,0,{"$error":"#N/A"},{"$error":"#N/A"},{"$error":"#N/A"},0,{"$error":"#N/A"},{"$error":"#N/A"},{"$error":"#N/A"}]
[0,{"$f":"COUNTIF(Anb!A:A,C97)","v":0},10102.07,"010102",null,0.01,7,null,{"$error":"#N/A"},{"$error":"#N/A"},{"$error":"#N/A"},{"$error":"#N/A"},{"$error":"#N/A"},{"$error":"#N/A"},{"$error":"#N/A"},0,{"$error":"#N/A"},null,0,{"$error":"#N/A"},{"$error":"#N/A"},{"$error":"#N/A"},0,{"$error":"#N/A"},{"$error":"#N/A"},{"$error":"#N/A"}]
[0,{"$f":"COUNTIF(Anb!A:A,C98)","v":0},10102.08,"010102",null,0.01,8,null,{"$error":"#N/A"},{"$error":"#N/A"},{"$error":"#N/A"},{"$error":"#N/A"},{"$error":"#N/A"},{"$error":"#N/A"},{"$error":"#N/A"},0,{"$error":"#N/A"},null,0,{"$error":"#N/A"},{"$error":"#N/A"},{"$error":"#N/A"},0,{"$error":"#N/A"},{"$error":"#N/A"},{"$error":"#N/A"}]
[0,{"$f":"COUNTIF(Anb!A:A,C99)","v":0},10102.09,"010102",null,0.01,9,null,{"$error":"#N/A"},{"$error":"#N/A"},{"$error":"#N/A"},{"$error":"#N/A"},{"$error":"#N/A"},{"$error":"#N/A"},{"$error":"#N/A"},0,{"$error":"#N/A"},null,0,{"$error":"#N/A"},{"$error":"#N/A"},{"$error":"#N/A"},0,{"$error":"#N/A"},{"$error":"#N/A"},{"$error":"#N/A"}]
[0,{"$f":"COUNTIF(Anb!A:A,C100)","v":0},10102.1,"010102",null,0.01,10,null,{"$error":"#N/A"},{"$error":"#N/A"},{"$error":"#N/A"},{"$error":"#N/A"},{"$error":"#N/A"},{"$error":"#N/A"},{"$error":"#N/A"},0,{"$error":"#N/A"},null,0,{"$error":"#N/A"},{"$error":"#N/A"},{"$error":"#N/A"},0,{"$error":"#N/A"},{"$error":"#N/A"},{"$error":"#N/A"}]
[0,{"$f":"COUNTIF(Anb!A:A,C101)","v":0},10102.11,"010102",null,0.01,11,null,{"$error":"#N/A"},{"$error":"#N/A"},{"$error":"#N/A"},{"$error":"#N/A"},{"$error":"#N/A"},{"$error":"#N/A"},{"$error":"#N/A"},0,{"$error":"#N/A"},null,0,{"$error":"#N/A"},{"$error":"#N/A"},{"$error":"#N/A"},0,{"$error":"#N/A"},{"$error":"#N/A"},{"$error":"#N/A"}]
[0,{"$f":"COUNTIF(Anb!A:A,C102)","v":0},10102.120000000001,"010102",null,0.01,12,null,{"$error":"#N/A"},{"$error":"#N/A"},{"$error":"#N/A"},{"$error":"#N/A"},{"$error":"#N/A"},{"$error":"#N/A"},{"$error":"#N/A"},0,{"$error":"#N/A"},null,0,{"$error":"#N/A"},{"$error":"#N/A"},{"$error":"#N/A"},0,{"$error":"#N/A"},{"$error":"#N/A"},{"$error":"#N/A"}]
[0,{"$f":"COUNTIF(Anb!A:A,C103)","v":0},10102.129999999999,"010102",null,0.01,13,null,{"$error":"#N/A"},{"$error":"#N/A"},{"$error":"#N/A"},{"$error":"#N/A"},{"$error":"#N/A"},{"$error":"#N/A"},{"$error":"#N/A"},0,{"$error":"#N/A"},null,0,{"$error":"#N/A"},{"$error":"#N/A"},{"$error":"#N/A"},0,{"$error":"#N/A"},{"$error":"#N/A"},{"$error":"#N/A"}]
[0,{"$f":"COUNTIF(Anb!A:A,C104)","v":0},10102.14,"010102",null,0.01,14,null,{"$error":"#N/A"},{"$error":"#N/A"},{"$error":"#N/A"},{"$error":"#N/A"},{"$error":"#N/A"},{"$error":"#N/A"},{"$error":"#N/A"},0,{"$error":"#N/A"},null,0,{"$error":"#N/A"},{"$error":"#N/A"},{"$error":"#N/A"},0,{"$error":"#N/A"},{"$error":"#N/A"},{"$error":"#N/A"}]
[0,{"$f":"COUNTIF(Anb!A:A,C105)","v":0},10102.15,"010102",null,0.01,15,null,{"$error":"#N/A"},{"$error":"#N/A"},{"$error":"#N/A"},{"$error":"#N/A"},{"$error":"#N/A"},{"$error":"#N/A"},{"$error":"#N/A"},0,{"$error":"#N/A"},null,0,{"$error":"#N/A"},{"$error":"#N/A"},{"$error":"#N/A"},0,{"$error":"#N/A"},{"$error":"#N/A"},{"$error":"#N/A"}]
[0,{"$f":"COUNTIF(Anb!A:A,C106)","v":0},10102.16,"010102",null,0.01,16,null,{"$error":"#N/A"},{"$error":"#N/A"},{"$error":"#N/A"},{"$error":"#N/A"},{"$error":"#N/A"},{"$error":"#N/A"},{"$error":"#N/A"},0,{"$error":"#N/A"},null,0,{"$error":"#N/A"},{"$f":"$S$114*T106","v":{"$error":"#N/A"}},{"$f":"$V$6*U106","v":{"$error":"#N/A"}},0,{"$error":"#N/A"},{"$error":"#N/A"},{"$error":"#N/A"}]
[0,{"$f":"COUNTIF(Anb!A:A,C107)","v":0},10102.17,"010102",null,0.01,17,null,{"$error":"#N/A"},{"$error":"#N/A"},{"$error":"#N/A"},{"$error":"#N/A"},{"$error":"#N/A"},{"$error":"#N/A"},{"$error":"#N/A"},0,{"$error":"#N/A"},null,0,{"$error":"#N/A"},{"$f":"$S$114*T107","v":{"$error":"#N/A"}},{"$f":"$V$6*U107","v":{"$error":"#N/A"}},0,{"$error":"#N/A"},{"$error":"#N/A"},{"$error":"#N/A"}]
[0,{"$f":"COUNTIF(Anb!A:A,C108)","v":0},10102.18,"010102",null,0.01,18,null,{"$error":"#N/A"},{"$error":"#N/A"},{"$error":"#N/A"},{"$error":"#N/A"},{"$error":"#N/A"},{"$error":"#N/A"},{"$error":"#N/A"},0,{"$error":"#N/A"},null,0,{"$error":"#N/A"},{"$f":"$S$114*T108","v":{"$error":"#N/A"}},{"$f":"$V$6*U108","v":{"$error":"#N/A"}},0,{"$error":"#N/A"},{"$error":"#N/A"},{"$error":"#N/A"}]
[0,{"$f":"COUNTIF(Anb!A:A,C109)","v":0},10102.19,"010102",null,0.01,19,null,{"$error":"#N/A"},{"$error":"#N/A"},{"$error":"#N/A"},{"$error":"#N/A"},{"$error":"#N/A"},{"$error":"#N/A"},{"$error":"#N/A"},0,{"$error":"#N/A"},null,0,{"$error":"#N/A"},{"$f":"$S$114*T109","v":{"$error":"#N/A"}},{"$f":"$V$6*U109","v":{"$error":"#N/A"}},0,{"$error":"#N/A"},{"$error":"#N/A"},{"$error":"#N/A"}]
[0,{"$f":"COUNTIF(Anb!A:A,C110)","v":0},10102.200000000001,"010102",null,0.01,20,null,{"$error":"#N/A"},{"$error":"#N/A"},{"$error":"#N/A"},{"$error":"#N/A"},{"$error":"#N/A"},{"$error":"#N/A"},{"$error":"#N/A"},0,{"$error":"#N/A"},null,0,{"$error":"#N/A"},{"$f":"$S$114*T110","v":{"$error":"#N/A"}},{"$f":"$V$6*U110","v":{"$error":"#N/A"}},0,{"$error":"#N/A"},{"$error":"#N/A"},{"$error":"#N/A"}]
[null,{"$f":"IF(SUM(B86:B110)>0,2,0)","v":0},null,null,null,null,null,null,"درصد به قیمت ردیف",null,null,{"$f":"ROUND(IFERROR(P111/P112,0),4)","v":0},null,"جمع حمل مصالح",null,{"$f":"SUM(P91:P110)","v":0}]
[null,2,null,null,null,null,null,null,{"$f":"\" شماره رديف يا رديفهاي معادل :                    \"&E7","v":" شماره رديف يا رديفهاي معادل :                    010102"},null,null,"بهای واحد کار:",null,null,null,{"$f":"P111+P89+P62+P35","v":10316.091999999999},null,"قيمت آناليز",{"$f":"SUM(S10:S111)","v":10316.091999999999},null,null,"قيمت آناليز",{"$f":"SUM(W10:W111)","v":10316.091999999999}]
[null,{"$f":"B112","v":2},null,null,null,null,null,null," بهای واحد رديف :",null,{"$f":"VLOOKUP(E7,ItemMetreh,4,0)","v":10300},"مقايسه پيشنهاد نسبت به برآورد (درصد)  ±",null,null,null,{"$f":"ROUND((P112/VLOOKUP(E7,ItemMetreh,4,0))-1,5)","v":1.56E-3},null,"قيمت رديف",{"$f":"K113","v":10300},null,null,"قيمت رديف",{"$f":"K113","v":10300}]
[null,{"$f":"B113","v":2},null,null,null,null,null,null," بهای کل کار:",null,{"$f":"K113*VLOOKUP(E7,metreh,8,0)","v":206000},"بهای کل کار:",null,null,null,{"$f":"VLOOKUP(E7,metreh,8,0)*P112","v":206321.83999999997},null,null,{"$f":"S113/S112","v":0.99844010697074059},null,null,null,{"$f":"W113/W112","v":0.99844010697074059}]
[null,{"$f":"B114","v":2},null,null,null,null,null,null,"پ"]

{"sheet":"D2","index":3,"n_rows":32,"n_cols":7,"rows_kept":32,"cut":false,"hidden":true,"merged":[]}
[null,"نسخه نمایشی فهرست بهای واحد پایه رشته ابنیه رسته ساختمان سال 97","فهرست بهای ابنیه 97",null,null,"شماره فصل","شرح فصل"]
["شماره","شـرح فهرست بها","واحـد","بهاي واحد",null,1," فصل 1 . عملیات تخریب"]
["010101"," بوته کني در زمينهاي پوشيده شده از بوته و خارج کردن ريشه‌هاي آن از محل عمليات.","مترمربع",215,null,2," فصل 2 . عملیات خاکی بادست"]
["010102"," کندن و يا بريدن و در صورت لزوم ريشه کن کردن درخت از هر نوع، در صورتي که محيط تنه درخت در سطح زمين تا 15 سانتي متر باشد، به ازاي هر 5 سانتي متر محيط تنه (کسر 5 سانتي متر به تناسب محاسبه مي‌شود) و حمل آن به خارج محل عمليات.","اصله",10300,null,3," فصل 3 . عملیات خاکی باماشین"]
["010111"," پر کردن و کوبيدن جاي ريشه با خاک مناسب در صورتي که محيط تنه درخت در سطح زمين تا 15 سانتي متر باشد به ازاي هر 5 سانتي متر محيط تنه (کسر 5 سانتيمتر، به تناسـب محاسبه مي شود.).","اصله",8160,null,4," فصل 4 . عملیات بنایی باسنگ"]
["010112"," پر کردن و کوبيدن جاي ريشه با خاک مناسب در صورتي که محيط تنه درخت در سطح زمين بيش از 15 تا 30 سانتي متر باشد.","اصله",40500,null,5," فصل 5 . قالب بندی چوبی"]
["010113"," پر کردن و کوبيدن جاي ريشه با خاک مناسب در صورتي که محيط تنه درخت در سطح زمين بيش از 30 تا 60 سانتي متر باشد.","اصله",134000,null,6," فصل 6 . قالب بندی فلزی"]
["010114"," پر کردن و کوبيدن جاي ريشه با خاک مناسب در صورتي که محيط تنه درخت در سطح زمين بيش از 60 تا 90 سانتي متر باشد.","اصله",214500,null,7," فصل 7 . کارهای فولادی بامیلگرد"]
["010115"," اضافه بها به رديـف 010114، به ازاي هر 10 سانتيمتر که به محيط تنه درخـت اضافه شود (کسر 10 سانتيمتر، به تناسـب محاسبه مي شود).","اصله",24100,null,8," فصل 8 . بتن درجا"]
[null,null,null,null,null,9," فصل 9 . کارهای فولادی سنگین"]
[null,null,null,null,null,10," فصل 10 . سقف سبک بتنی"]
[null,null,null,null,null,11," فصل 11 . آجرکاری وشفته ریزی"]
[null,null,null,null,null,12," فصل 12 . بتن پیش ساخته وبلوک چینی"]
[null,null,null,null,null,13," فصل 13 . عایق کاری رطوبتی"]
[null,null,null,null,null,14," فصل 14 . عایق کاری حرارتی"]
[null,null,null,null,null,15," فصل 15 . کارهای آزبست سیمان"]
[null,null,null,null,null,16," فصل 16 . کارهای فولادی سبک"]
[null,null,null,null,null,17," فصل 17 . کارهای آلومینیومی"]
[null,null,null,null,null,18," فصل 18 . اندودکاری و بندکشی"]
[null,null,null,null,null,19," فصل 19 . کارهای چوبی"]
[null,null,null,null,null,20," فصل 20 . کاشی وسرامیک کاری"]
[null,null,null,null,null,21," فصل 21 . فرش کف باموزاییک"]
[null,null,null,null,null,22," فصل 22 . کارهای سنگی باسنگ پلاک"]
[null,null,null,null,null,23," فصل 23 . کارهای پلاستیکی و پلیمری"]
[null,null,null,null,null,24," فصل 24 . برش ونصب شیشه"]
[null,null,null,null,null,25," فصل 25 . رنگ آمیزی"]
[null,null,null,null,null,26," فصل 26 . زیراساس واساس"]
[null,null,null,null,null,27," فصل 27 . آسفالت"]
[null,null,null,null,null,28," فصل 28 . حمل ونقل"]
[null,null,null,null,null,29," فصل 29 . کارهای دستمزدی"]
[null,null,null,null,null,41," فصل 41 . مصالح پایکار"]
[null,null,null,null,null,42," فصل 42 . تجهیز و برچیدن کارگاه"]

{"sheet":"Anb","index":4,"n_rows":106,"n_cols":19,"rows_kept":106,"cut":false,"hidden":true,"merged":[]}
[null,null,null,null,null,null,null,null,null,null,null,"نيروي انساني ",1E-8]
[null,null,null,null,null,null,null,null,null,null,null,"ماشين آلات ",9.9999999999999995E-7]
[null,null,null,null,null,null,null,null,null,null,null,"مصالح",1E-4]
[null,null,null,null,null,null,null,null,null,null,null," حمل مصالح ",0.01]
[null,null,null,null,null,null,null,null,null,null,null,null," ","010101",null,null,{"$f":"IF(N5>0,N5,Q4)","v":"010101"}]
[null,null,null,null,null,null,null,null,null,null,null,"مترمربع",null,null,"واحـد :",null,{"$f":"IF(N6>0,N6,Q5)","v":"010101"}]
["کد فراخوانی",null,"مقدار/مقیاس","مقیاس","بهای کل",null,"ضريب",null,"بهاي واحد","مقـدار","واحــد","ماشين آلات ",null,null,"رديف",null,"010101",{"$f":"IF(IF(O7=\"رديف\",VLOOKUP(L7,Kod,2,0),0)=0,R6,IF(O7=\"رديف\",VLOOKUP(L7,Kod,2,0),0))","v":9.9999999999999995E-7}]
[{"$f":"IF(M8<>\"\",Q8+(P8*R8),\"\")","v":10101.000001},null,5.0000000000000001E-4,1,212.08199999999999,null,1,null,424164,5.0000000000000001E-4,"دستگاه-ساعت","گریدر به قدرت حدود180 اسب بخار باراننده",25010902,null,1,{"$f":"COUNTIF($S$1:S8,Q8+R8)","v":1},"010101",9.9999999999999995E-7,{"$f":"IF(M8<>\"\",Q8+R8,\"\")","v":10101.000001}]
[{"$f":"IF(M9<>\"\",Q9+(P9*R9),\"\")","v":""},null,null,null,null,null,null,null,null,null,null,null,null,"010102",null,{"$f":"COUNTIF($S$1:S9,Q9+R9)","v":0},"010102",9.9999999999999995E-7,{"$f":"IF(M9<>\"\",Q9+R9,\"\")","v":""}]
["",null,null,null,null,null,null,null,null,null,null,"اصله",null,null,"واحـد :",{"$f":"COUNTIF($S$1:S10,Q10+R10)","v":0},"010102",9.9999999999999995E-7,""]
["",null,null,null,null,null,"ضريب",null,"بهاي واحد","مقـدار","واحــد","نيروي انساني ",null,null,"رديف",{"$f":"COUNTIF($S$1:S11,Q11+R11)","v":0},"010102",1E-8,""]
[10102.000000010001,null,0.105,1,5986.3649999999998,null,1,null,57013,0.105,"نفر- ساعت","كارگر ساده",14010102,null,1,{"$f":"COUNTIF($S$1:S12,Q12+R12)","v":1},"010102",1E-8,10102.000000010001]
[10102.00000002,null,1.0500000000000001E-2,1,1041.9780000000001,null,1,null,99236,1.0500000000000001E-2,"نفر ساعت","نجار در و پنجره ساز درجه یک",14120101,null,2,{"$f":"COUNTIF($S$1:S13,Q13+R13)","v":2},"010102",1E-8,10102.000000010001]
[10102.000000030001,null,5.2999999999999999E-2,1,3195.741,null,1,null,60297,5.2999999999999999E-2,"نفر - ساعت","کمک نجار",14120401,null,3,{"$f":"COUNTIF($S$1:S14,Q14+R14)","v":3},"010102",1E-8,10102.000000010001]
["",null,null,null,null,null,"ضريب",null,"بهاي واحد","مقـدار","واحــد","ماشين آلات ",null,null,"رديف",{"$f":"COUNTIF($S$1:S15,Q15+R15)","v":0},"010102",9.9999999999999995E-7,""]
[10102.000001,null,5.2999999999999999E-2,1,92.007999999999996,null,1,null,1736,5.2999999999999999E-2,"دستگاه ساعت","اره بنزینی متحرک چوب",28060203,null,1,{"$f":"COUNTIF($S$1:S16,Q16+R16)","v":1},"010102",9.9999999999999995E-7,10102.000001]
["",null,null,null,null,null,null,null,null,null,null,null,null,"010111",null,{"$f":"COUNTIF($S$1:S17,Q17+R17)","v":0},"010111",9.9999999999999995E-7,""]
["",null,null,null,null,null,null,null,null,null,null,"اصله",null,null,"واحـد :",{"$f":"COUNTIF($S$1:S18,Q18+R18)","v":0},"010111",9.9999999999999995E-7,""]
["",null,null,null,null,null,"ضريب",null,"بهاي واحد","مقـدار","واحــد","نيروي انساني ",null,null,"رديف",{"$f":"COUNTIF($S$1:S19,Q19+R19)","v":0},"010111",1E-8,""]
[10111.000000010001,null,5.2000000000000005E-2,1,3644.7840000000001,null,1,null,70092,5.2000000000000005E-2,"نفر ساعت","متصدی غلطکهای دستی",13040901,null,1,{"$f":"COUNTIF($S$1:S20,Q20+R20)","v":1},"010111",1E-8,10111.000000010001]
[10111.00000002,null,5.1999999999999995E-4,1,34.359000000000002,null,1,null,66075,5.1999999999999995E-4,"نفر ساعت","سر کارگر",14010101,null,2,{"$f":"COUNTIF($S$1:S21,Q21+R21)","v":2},"010111",1E-8,10111.000000010001]
[10111.000000030001,null,5.1999999999999998E-3,1,296.4676,null,1,null,57013,5.1999999999999998E-3,"نفر- ساعت","كارگر ساده",14010102,null,3,{"$f":"COUNTIF($S$1:S22,Q22+R22)","v":3},"010111",1E-8,10111.000000010001]
["",null,null,null,null,null,"ضريب",null,"بهاي واحد","مقـدار","واحــد","ماشين آلات ",null,null,"رديف",{"$f":"COUNTIF($S$1:S23,Q23+R23)","v":0},"010111",9.9999999999999995E-7,""]
[10111.000001,null,4.7999999999999996E-3,1,1664.0639999999999,null,1,null,346680,4.7999999999999996E-3,"دستگاه-ساعت","کامیون کمپرسی به ظرفیت حدود 10 تن با راننده",23020204,null,1,{"$f":"COUNTIF($S$1:S24,Q24+R24)","v":1},"010111",9.9999999999999995E-7,10111.000001]
[10111.000002000001,null,1.1000000000000001E-3,1,366.09429999999998,null,1,null,332813,1.1000000000000001E-3,"ساعت","بولدوزر به قدرت حدود 150 اسب بخار با راننده",25010602,null,2,{"$f":"COUNTIF($S$1:S25,Q25+R25)","v":2},"010111",9.9999999999999995E-7,10111.000001]
[10111.000002999999,null,5.4000000000000001E-4,1,262.09008,null,1,null,485352,5.4000000000000001E-4,"دستگاه-ساعت","بولدوزر به قدرت حدود 200  اسب بخار باراننده",25010603,null,3,{"$f":"COUNTIF($S$1:S26,Q26+R26)","v":3},"010111",9.9999999999999995E-7,10111.000001]
[10111.000004,null,1.6999999999999999E-3,1,618.05539999999996,null,1,null,363562,1.6999999999999999E-3,"دستگاه-ساعت","لودرچرخ لاستيکي به قدرت حدود150  اسب بخار باراننده",25010802,null,4,{"$f":"COUNTIF($S$1:S27,Q27+R27)","v":4},{"$f":"IF(N27>0,N27,Q26)","v":"010111"},9.9999999999999995E-7,{"$f":"IF(M27<>\"\",Q27+R27,\"\")","v":10111.000001}]
[10111.000005,null,5.2000000000000005E-2,1,1040.1559999999999,null,1,null,20003,5.2000000000000005E-2,"دستگاه-ساعت","کمپکتورصفحه ای",25030101,null,5,{"$f":"COUNTIF($S$1:S28,Q28+R28)","v":5},"010111",9.9999999999999995E-7,10111.000001]
[10111.000006,null,2.0000000000000001E-4,1,33,null,1,null,165000,2.0000000000000001E-4,"عدد","بیل",28070101,null,6,{"$f":"COUNTIF($S$1:S29,Q29+R29)","v":6},"010111",9.9999999999999995E-7,10111.000001]
["",null,null,null,null,null,"ضريب",null,"بهاي واحد","مقـدار","واحــد","مصالح",null,null,"رديف",{"$f":"COUNTIF($S$1:S30,Q30+R30)","v":0},"010111",1E-4,""]
[10111.000099999999,null,7.000000000000001E-3,1,75.600000000000009,null,1,null,10800,7.000000000000001E-3,"مترمكعب","آب لوله کشی شهری",31010101,null,1,{"$f":"COUNTIF($S$1:S31,Q31+R31)","v":1},"010111",1E-4,10111.000099999999]
[10111.0002,null,3.0000000000000001E-3,1,28.413,null,1,null,9471,3.0000000000000001E-3,"مترمكعب","آب چاه و قنات",31010301,null,2,{"$f":"COUNTIF($S$1:S32,Q32+R32)","v":2},"010111",1E-4,10111.000099999999]
["",null,null,null,null,null,"ضريب",null,"بهاي واحد","مقـدار","واحــد"," حمل مصالح ",null,null,"رديف",{"$f":"COUNTIF($S$1:S33,Q33+R33)","v":0},"010111",0.01,""]
[10111.01,null,3.0000000000000001E-3,1,99.638999999999996,null,1,null,33213,3.0000000000000001E-3,"مترمكعب","حمل آب چاه قنات و رودخانه",41010101,null,1,{"$f":"COUNTIF($S$1:S34,Q34+R34)","v":1},"010111",0.01,10111.01]
["",null,null,null,null,null,null,null,null,null,null,null,null,"010112",null,{"$f":"COUNTIF($S$1:S35,Q35+R35)","v":0},"010112",0.01,""]
["",null,null,null,null,null,null,null,null,null,null,"اصله",null,null,"واحـد :",{"$f":"COUNTIF($S$1:S36,Q36+R36)","v":0},"010112",0.01,""]
["",null,null,null,null,null,"ضريب",null,"بهاي واحد","مقـدار","واحــد","نيروي انساني ",null,null,"رديف",{"$f":"COUNTIF($S$1:S37,Q37+R37)","v":0},"010112",1E-8,""]
[10112.000000010001,null,0.25790000000000002,1,18076.726800000004,null,1,null,70092,0.25790000000000002,"نفر ساعت","متصدی غلطکهای دستی",13040901,null,1,{"$f":"COUNTIF($S$1:S38,Q38+R38)","v":1},"010112",1E-8,10112.000000010001]
[10112.00000002,null,2.5999999999999999E-3,1,171.79499999999999,null,1,null,66075,2.5999999999999999E-3,"نفر ساعت","سر کارگر",14010101,null,2,{"$f":"COUNTIF($S$1:S39,Q39+R39)","v":2},"010112",1E-8,10112.000000010001]
[10112.000000030001,null,2.6000000000000002E-2,1,1482.338,null,1,null,57013,2.6000000000000002E-2,"نفر- ساعت","كارگر ساده",14010102,null,3,{"$f":"COUNTIF($S$1:S40,Q40+R40)","v":3},"010112",1E-8,10112.000000010001]
["",null,null,null,null,null,"ضريب",null,"بهاي واحد","مقـدار","واحــد","ماشين آلات ",null,null,"رديف",{"$f":"COUNTIF($S$1:S41,Q41+R41)","v":0},"010112",9.9999999999999995E-7,""]
[10112.000001,null,2.4E-2,1,8320.32,null,1,null,346680,2.4E-2,"دستگاه-ساعت","کامیون کمپرسی به ظرفیت حدود 10 تن با راننده",23020204,null,1,{"$f":"COUNTIF($S$1:S42,Q42+R42)","v":1},"010112",9.9999999999999995E-7,10112.000001]
[10112.000002000001,null,5.3E-3,1,1763.9089000000001,null,1,null,332813,5.3E-3,"ساعت","بولدوزر به قدرت حدود 150 اسب بخار با راننده",25010602,null,2,{"$f":"COUNTIF($S$1:S43,Q43+R43)","v":2},"010112",9.9999999999999995E-7,10112.000001]
[10112.000002999999,null,2.7000000000000001E-3,1,1310.4503999999999,null,1,null,485352,2.7000000000000001E-3,"دستگاه-ساعت","بولدوزر به قدرت حدود 200  اسب بخار باراننده",25010603,null,3,{"$f":"COUNTIF($S$1:S44,Q44+R44)","v":3},"010112",9.9999999999999995E-7,10112.000001]
[10112.000004,null,8.3999999999999995E-3,1,3053.9208000000003,null,1,null,363562,8.3999999999999995E-3,"دستگاه-ساعت","لودرچرخ لاستيکي به قدرت حدود150  اسب بخار باراننده",25010802,null,4,{"$f":"COUNTIF($S$1:S45,Q45+R45)","v":4},"010112",9.9999999999999995E-7,10112.000001]
[10112.000005,null,0.25790000000000002,1,5158.7737000000006,null,1,null,20003,0.25790000000000002,"دستگاه-ساعت","کمپکتورصفحه ای",25030101,null,5,{"$f":"COUNTIF($S$1:S46,Q46+R46)","v":5},"010112",9.9999999999999995E-7,10112.000001]
[10112.000006,null,8.4999999999999995E-4,1,140.24999999999997,null,1,null,165000,8.4999999999999995E-4,"عدد","بیل",28070101,null,6,{"$f":"COUNTIF($S$1:S47,Q47+R47)","v":6},"010112",9.9999999999999995E-7,10112.000001]
["",null,null,null,null,null,"ضريب",null,"بهاي واحد","مقـدار","واحــد","مصالح",null,null,"رديف",{"$f":"COUNTIF($S$1:S48,Q48+R48)","v":0},"010112",1E-4,""]
[10112.000099999999,null,3.5000000000000003E-2,1,378.00000000000006,null,1,null,10800,3.5000000000000003E-2,"مترمكعب","آب لوله کشی شهری",31010101,null,1,{"$f":"COUNTIF($S$1:S49,Q49+R49)","v":1},"010112",1E-4,10112.000099999999]
[10112.0002,null,1.4999999999999999E-2,1,142.065,null,1,null,9471,1.4999999999999999E-2,"مترمكعب","آب چاه و قنات",31010301,null,2,{"$f":"COUNTIF($S$1:S50,Q50+R50)","v":2},"010112",1E-4,10112.000099999999]
["",null,null,null,null,null,"ضريب",null,"بهاي واحد","مقـدار","واحــد"," حمل مصالح ",null,null,"رديف",{"$f":"COUNTIF($S$1:S51,Q51+R51)","v":0},"010112",0.01,""]
[10112.01,null,1.4999999999999999E-2,1,498.19499999999999,null,1,null,33213,1.4999999999999999E-2,"مترمكعب","حمل آب چاه قنات و رودخانه",41010101,null,1,{"$f":"COUNTIF($S$1:S52,Q52+R52)","v":1},"010112",0.01,10112.01]
["",null,null,null,null,null,null,null,null,null,null,null,null,"010113",null,{"$f":"COUNTIF($S$1:S53,Q53+R53)","v":0},"010113",0.01,""]
["",null,null,null,null,null,null,null,null,null,null,"اصله",null,null,"واحـد :",{"$f":"COUNTIF($S$1:S54,Q54+R54)","v":0},"010113",0.01,""]
["",null,null,null,null,null,"ضريب",null,"بهاي واحد","مقـدار","واحــد","نيروي انساني ",null,null,"رديف",{"$f":"COUNTIF($S$1:S55,Q55+R55)","v":0},"010113",1E-8,""]
[10113.000000010001,null,0.85099999999999998,1,59648.292000000001,null,1,null,70092,0.85099999999999998,"نفر ساعت","متصدی غلطکهای دستی",13040901,null,1,{"$f":"COUNTIF($S$1:S56,Q56+R56)","v":1},"010113",1E-8,10113.000000010001]
[10113.00000002,null,8.6E-3,1,568.245,null,1,null,66075,8.6E-3,"نفر ساعت","سر کارگر",14010101,null,2,{"$f":"COUNTIF($S$1:S57,Q57+R57)","v":2},"010113",1E-8,10113.000000010001]
[10113.000000030001,null,8.5800000000000001E-2,1,4891.7154,null,1,null,57013,8.5800000000000001E-2,"نفر- ساعت","كارگر ساده",14010102,null,3,{"$f":"COUNTIF($S$1:S58,Q58+R58)","v":3},"010113",1E-8,10113.000000010001]
["",null,null,null,null,null,"ضريب",null,"بهاي واحد","مقـدار","واحــد","ماشين آلات ",null,null,"رديف",{"$f":"COUNTIF($S$1:S59,Q59+R59)","v":0},"010113",9.9999999999999995E-7,""]
[10113.000001,null,7.9200000000000007E-2,1,27457.056,null,1,null,346680,7.9200000000000007E-2,"دستگاه-ساعت","کامیون کمپرسی به ظرفیت حدود 10 تن با راننده",23020204,null,1,{"$f":"COUNTIF($S$1:S60,Q60+R60)","v":1},"010113",9.9999999999999995E-7,10113.000001]
[10113.000002000001,null,1.7500000000000002E-2,1,5824.2275000000009,null,1,null,332813,1.7500000000000002E-2,"ساعت","بولدوزر به قدرت حدود 150 اسب بخار با راننده",25010602,null,2,{"$f":"COUNTIF($S$1:S61,Q61+R61)","v":2},"010113",9.9999999999999995E-7,10113.000001]
[10113.000002999999,null,8.8999999999999999E-3,1,4319.6328000000003,null,1,null,485352,8.8999999999999999E-3,"دستگاه-ساعت","بولدوزر به قدرت حدود 200  اسب بخار باراننده",25010603,null,3,{"$f":"COUNTIF($S$1:S62,Q62+R62)","v":3},"010113",9.9999999999999995E-7,10113.000001]
[10113.000004,null,2.8000000000000004E-2,1,10179.736000000001,null,1,null,363562,2.8000000000000004E-2,"دستگاه-ساعت","لودرچرخ لاستيکي به قدرت حدود150  اسب بخار باراننده",25010802,null,4,{"$f":"COUNTIF($S$1:S63,Q63+R63)","v":4},"010113",9.9999999999999995E-7,10113.000001]
[10113.000005,null,0.85099999999999998,1,17022.553,null,1,null,20003,0.85099999999999998,"دستگاه-ساعت","کمپکتورصفحه ای",25030101,null,5,{"$f":"COUNTIF($S$1:S64,Q64+R64)","v":5},"010113",9.9999999999999995E-7,10113.000001]
[10113.000006,null,2.7999999999999995E-3,1,461.99999999999994,null,1,null,165000,2.7999999999999995E-3,"عدد","بیل",28070101,null,6,{"$f":"COUNTIF($S$1:S65,Q65+R65)","v":6},"010113",9.9999999999999995E-7,10113.000001]
["",null,null,null,null,null,"ضريب",null,"بهاي واحد","مقـدار","واحــد","مصالح",null,null,"رديف",{"$f":"COUNTIF($S$1:S66,Q66+R66)","v":0},"010113",1E-4,""]
[10113.000099999999,null,0.11,1,1188,null,1,null,10800,0.11,"مترمكعب","آب لوله کشی شهری",31010101,null,1,{"$f":"COUNTIF($S$1:S67,Q67+R67)","v":1},"010113",1E-4,10113.000099999999]
[10113.0002,null,5.5E-2,1,520.90499999999997,null,1,null,9471,5.5E-2,"مترمكعب","آب چاه و قنات",31010301,null,2,{"$f":"COUNTIF($S$1:S68,Q68+R68)","v":2},"010113",1E-4,10113.000099999999]
["",null,null,null,null,null,"ضريب",null,"بهاي واحد","مقـدار","واحــد"," حمل مصالح ",null,null,"رديف",{"$f":"COUNTIF($S$1:S69,Q69+R69)","v":0},"010113",0.01,""]
[10113.01,null,5.5E-2,1,1826.7149999999999,null,1,null,33213,5.5E-2,"مترمكعب","حمل آب چاه قنات و رودخانه",41010101,null,1,{"$f":"COUNTIF($S$1:S70,Q70+R70)","v":1},"010113",0.01,10113.01]
["",null,null,null,null,null,null,null,null,null,null,null,null,"010114",null,{"$f":"COUNTIF($S$1:S71,Q71+R71)","v":0},"010114",{"$f":"IF(IF(O71=\"رديف\",VLOOKUP(L71,Kod,2,0),0)=0,R70,IF(O71=\"رديف\",VLOOKUP(L71,Kod,2,0),0))","v":0.01},""]
["",null,null,null,null,null,null,null,null,null,null,"اصله",null,null,"واحـد :",{"$f":"COUNTIF($S$1:S72,Q72+R72)","v":0},"010114",0.01,""]
[{"$f":"IF(M73<>\"\",Q73+(P73*R73),\"\")","v":""},null,null,null,null,null,"ضريب",null,"بهاي واحد","مقـدار","واحــد","نيروي انساني ",null,null,"رديف",{"$f":"COUNTIF($S$1:S73,Q73+R73)","v":0},"010114",1E-8,""]
[10114.000000010001,null,1.3620000000000001,1,95465.304000000004,null,1,null,70092,1.3620000000000001,"نفر ساعت","متصدی غلطکهای دستی",13040901,null,1,{"$f":"COUNTIF($S$1:S74,Q74+R74)","v":1},"010114",1E-8,10114.000000010001]
[10114.00000002,null,1.38E-2,1,911.83500000000004,null,1,null,66075,1.38E-2,"نفر ساعت","سر کارگر",14010101,null,2,{"$f":"COUNTIF($S$1:S75,Q75+R75)","v":2},"010114",1E-8,10114.000000010001]
[10114.000000030001,null,0.13730000000000001,1,7827.8849,null,1,null,57013,0.13730000000000001,"نفر- ساعت","كارگر ساده",14010102,null,3,{"$f":"COUNTIF($S$1:S76,Q76+R76)","v":3},"010114",1E-8,10114.000000010001]
["",null,null,null,null,null,"ضريب",null,"بهاي واحد","مقـدار","واحــد","ماشين آلات ",null,null,"رديف",{"$f":"COUNTIF($S$1:S77,Q77+R77)","v":0},"010114",9.9999999999999995E-7,""]
[10114.000001,null,0.12670000000000001,1,43924.356,null,1,null,346680,0.12670000000000001,"دستگاه-ساعت","کامیون کمپرسی به ظرفیت حدود 10 تن با راننده",23020204,null,1,{"$f":"COUNTIF($S$1:S78,Q78+R78)","v":1},"010114",9.9999999999999995E-7,10114.000001]
[10114.000002000001,null,2.8000000000000004E-2,1,9318.764000000001,null,1,null,332813,2.8000000000000004E-2,"ساعت","بولدوزر به قدرت حدود 150 اسب بخار با راننده",25010602,null,2,{"$f":"COUNTIF($S$1:S79,Q79+R79)","v":2},"010114",9.9999999999999995E-7,10114.000001]
[10114.000002999999,null,1.4200000000000001E-2,1,6891.9983999999995,null,1,null,485352,1.4200000000000001E-2,"دستگاه-ساعت","بولدوزر به قدرت حدود 200  اسب بخار باراننده",25010603,null,3,{"$f":"COUNTIF($S$1:S80,Q80+R80)","v":3},"010114",9.9999999999999995E-7,10114.000001]
[10114.000004,null,4.4799999999999993E-2,1,16287.577599999997,null,1,null,363562,4.4799999999999993E-2,"دستگاه-ساعت","لودرچرخ لاستيکي به قدرت حدود150  اسب بخار باراننده",25010802,null,4,{"$f":"COUNTIF($S$1:S81,Q81+R81)","v":4},"010114",9.9999999999999995E-7,10114.000001]
[10114.000005,null,1.3620000000000001,1,27244.086000000007,null,1,null,20003,1.3620000000000001,"دستگاه-ساعت","کمپکتورصفحه ای",25030101,null,5,{"$f":"COUNTIF($S$1:S82,Q82+R82)","v":5},"010114",9.9999999999999995E-7,10114.000001]
[10114.000006,null,4.4999999999999997E-3,1,742.49999999999989,null,1,null,165000,4.4999999999999997E-3,"عدد","بیل",28070101,null,6,{"$f":"COUNTIF($S$1:S83,Q83+R83)","v":6},"010114",9.9999999999999995E-7,10114.000001]
["",null,null,null,null,null,"ضريب",null,"بهاي واحد","مقـدار","واحــد","مصالح",null,null,"رديف",{"$f":"COUNTIF($S$1:S84,Q84+R84)","v":0},"010114",1E-4,""]
[10114.000099999999,null,0.17599999999999999,1,1900.7999999999997,null,1,null,10800,0.17599999999999999,"مترمكعب","آب لوله کشی شهری",31010101,null,1,{"$f":"COUNTIF($S$1:S85,Q85+R85)","v":1},"010114",1E-4,10114.000099999999]
[10114.0002,null,8.7999999999999995E-2,1,833.44799999999987,null,1,null,9471,8.7999999999999995E-2,"مترمكعب","آب چاه و قنات",31010301,null,2,{"$f":"COUNTIF($S$1:S86,Q86+R86)","v":2},"010114",1E-4,10114.000099999999]
["",null,null,null,null,null,"ضريب",null,"بهاي واحد","مقـدار","واحــد"," حمل مصالح ",null,null,"رديف",{"$f":"COUNTIF($S$1:S87,Q87+R87)","v":0},"010114",0.01,""]
[10114.01,null,8.7999999999999995E-2,1,2922.7439999999997,null,1,null,33213,8.7999999999999995E-2,"مترمكعب","حمل آب چاه قنات و رودخانه",41010101,null,1,{"$f":"COUNTIF($S$1:S88,Q88+R88)","v":1},"010114",0.01,10114.01]
["",null,null,null,null,null,null,null,null,null,null,null,null,"010115",null,{"$f":"COUNTIF($S$1:S89,Q89+R89)","v":0},"010115",0.01,""]
["",null,null,null,null,null,null,null,null,null,null,"اصله",null,null,"واحـد :",{"$f":"COUNTIF($S$1:S90,Q90+R90)","v":0},"010115",0.01,""]
["",null,null,null,null,null,"ضريب",null,"بهاي واحد","مقـدار","واحــد","نيروي انساني ",null,null,"رديف",{"$f":"COUNTIF($S$1:S91,Q91+R91)","v":0},{"$f":"IF(N91>0,N91,Q90)","v":"010115"},1E-8,{"$f":"IF(M91<>\"\",Q91+R91,\"\")","v":""}]
[10115.000000010001,null,0.13,1,9111.9599999999991,null,1,null,70092,0.13,"نفر ساعت","متصدی غلطکهای دستی",13040901,null,1,{"$f":"COUNTIF($S$1:S92,Q92+R92)","v":1},"010115",1E-8,10115.000000010001]
[10115.00000002,null,1.2999999999999999E-3,1,85.897499999999994,null,1,null,66075,1.2999999999999999E-3,"نفر ساعت","سر کارگر",14010101,null,2,{"$f":"COUNTIF($S$1:S93,Q93+R93)","v":2},"010115",1E-8,10115.000000010001]
[10115.000000030001,null,1.3000000000000001E-2,1,741.16899999999998,null,1,null,57013,1.3000000000000001E-2,"نفر- ساعت","كارگر ساده",14010102,null,3,{"$f":"COUNTIF($S$1:S94,Q94+R94)","v":3},"010115",1E-8,10115.000000010001]
["",null,null,null,null,null,"ضريب",null,"بهاي واحد","مقـدار","واحــد","ماشين آلات ",null,null,"رديف",{"$f":"COUNTIF($S$1:S95,Q95+R95)","v":0},"010115",9.9999999999999995E-7,""]
[10115.000001,null,1.2E-2,1,4160.16,null,1,null,346680,1.2E-2,"دستگاه-ساعت","کامیون کمپرسی به ظرفیت حدود 10 تن با راننده",23020204,null,1,{"$f":"COUNTIF($S$1:S96,Q96+R96)","v":1},"010115",9.9999999999999995E-7,10115.000001]
[10115.000002000001,null,2.5999999999999999E-3,1,865.31380000000001,null,1,null,332813,2.5999999999999999E-3,"ساعت","بولدوزر به قدرت حدود 150 اسب بخار با راننده",25010602,null,2,{"$f":"COUNTIF($S$1:S97,Q97+R97)","v":2},"010115",9.9999999999999995E-7,10115.000001]
[10115.000002999999,null,1.3999999999999998E-3,1,679.49279999999987,null,1,null,485352,1.3999999999999998E-3,"دستگاه-ساعت","بولدوزر به قدرت حدود 200  اسب بخار باراننده",25010603,null,3,{"$f":"COUNTIF($S$1:S98,Q98+R98)","v":3},"010115",9.9999999999999995E-7,10115.000001]
[10115.000004,null,4.1999999999999997E-3,1,1526.9604000000002,null,1,null,363562,4.1999999999999997E-3,"دستگاه-ساعت","لودرچرخ لاستيکي به قدرت حدود150  اسب بخار باراننده",25010802,null,4,{"$f":"COUNTIF($S$1:S99,Q99+R99)","v":4},"010115",9.9999999999999995E-7,10115.000001]
[10115.000005,null,0.13,1,2600.39,null,1,null,20003,0.13,"دستگاه-ساعت","کمپکتورصفحه ای",25030101,null,5,{"$f":"COUNTIF($S$1:S100,Q100+R100)","v":5},"010115",9.9999999999999995E-7,10115.000001]
[10115.000006,null,4.1999999999999997E-3,1,693,null,1,null,165000,4.1999999999999997E-3,"عدد","بیل",28070101,null,6,{"$f":"COUNTIF($S$1:S101,Q101+R101)","v":6},"010115",9.9999999999999995E-7,10115.000001]
["",null,null,null,null,null,"ضريب",null,"بهاي واحد","مقـدار","واحــد","مصالح",null,null,"رديف",{"$f":"COUNTIF($S$1:S102,Q102+R102)","v":0},"010115",1E-4,""]
[10115.000099999999,null,1.7000000000000001E-2,1,183.60000000000002,null,1,null,10800,1.7000000000000001E-2,"مترمكعب","آب لوله کشی شهری",31010101,null,1,{"$f":"COUNTIF($S$1:S103,Q103+R103)","v":1},"010115",1E-4,10115.000099999999]
[10115.0002,null,0.08,1,757.68,null,1,null,9471,0.08,"مترمكعب","آب چاه و قنات",31010301,null,2,{"$f":"COUNTIF($S$1:S104,Q104+R104)","v":2},"010115",1E-4,10115.000099999999]
["",null,null,null,null,null,"ضريب",null,"بهاي واحد","مقـدار","واحــد"," حمل مصالح ",null,null,"رديف",{"$f":"COUNTIF($S$1:S105,Q105+R105)","v":0},"010115",0.01,""]
[10115.01,null,0.08,1,2657.04,null,1,null,33213,0.08,"مترمكعب","حمل آب چاه قنات و رودخانه",41010101,null,1,{"$f":"COUNTIF($S$1:S106,Q106+R106)","v":1},"010115",0.01,10115.01]

{"sheet":"Manabeh","index":5,"n_rows":2778,"n_cols":17,"rows_kept":2778,"cut":false,"hidden":true,"merged":[]}
["رديف","کد عامل","شرح لیست:","واحد","بهای واحد نت","بهای واحد آمار","بهای واحد روز","مقدار مورد نیاز","بهای کل مبنا قیمت","درصد وزنی",1,"نت","نت",null,null,null,"نسخه نمایشی"]
[1,13040901,"متصدی غلطکهای دستی","نفر ساعت",70092,null,null,{"$f":"SUMIF(Report!C:C,B2,Report!J:J)","v":0},{"$f":"IF($M$1=$L$1,H2*E2,+IF($M$1=$L$2,H2*F2,H2*G2))","v":0},{"$f":"IFERROR(I2/SUM($I$2:$I$2499),0)","v":0},{"$f":"COUNTIF(Report!C:C,B2)","v":0},"آمار",{"$f":"SUM(K2:K3000)","v":5}]
[2,14010101,"سر کارگر","نفر ساعت",66075,124459,null,{"$f":"SUMIF(Report!C:C,B3,Report!J:J)","v":0},{"$f":"IF($M$1=$L$1,H3*E3,+IF($M$1=$L$2,H3*F3,H3*G3))","v":0},{"$f":"IFERROR(I3/SUM($I$2:$I$2499),0)","v":0},{"$f":"COUNTIF(Report!C:C,B3)","v":0},"روز"]
[3,14010102,"كارگر ساده","نفر- ساعت",57013,87102,null,{"$f":"SUMIF(Report!C:C,B4,Report!J:J)","v":2.1},119727.3,0.56860429928304745,{"$f":"COUNTIF(Report!C:C,B4)","v":1}," کل منابع"]
[4,14120101,"نجار در و پنجره ساز درجه یک","نفر ساعت",99236,null,null,{"$f":"SUMIF(Report!C:C,B5,Report!J:J)","v":0.21000000000000002},20839.560000000001,9.8970438748447728E-2,{"$f":"COUNTIF(Report!C:C,B5)","v":1},"منابع پروژه"]
[5,14120401,"کمک نجار","نفر - ساعت",60297,null,null,{"$f":"SUMIF(Report!C:C,B6,Report!J:J)","v":1.06},63914.82,0.30354181076414577,{"$f":"COUNTIF(Report!C:C,B6)","v":1}]
[6,23020204,"کامیون کمپرسی به ظرفیت حدود 10 تن با راننده","دستگاه-ساعت",346680,536117,null,{"$f":"SUMIF(Report!C:C,B7,Report!J:J)","v":0},0,0,{"$f":"COUNTIF(Report!C:C,B7)","v":0}]
[7,25010602,"بولدوزر به قدرت حدود 150 اسب بخار با راننده","ساعت",332813,824481,null,{"$f":"SUMIF(Report!C:C,B8,Report!J:J)","v":0},0,0,{"$f":"COUNTIF(Report!C:C,B8)","v":0}]
[8,25010603,"بولدوزر به قدرت حدود 200  اسب بخار باراننده","دستگاه-ساعت",485352,1053388,null,{"$f":"SUMIF(Report!C:C,B9,Report!J:J)","v":0},0,0,{"$f":"COUNTIF(Report!C:C,B9)","v":0}]
[9,25010802,"لودرچرخ لاستيکي به قدرت حدود150  اسب بخار باراننده","دستگاه-ساعت",363562,828903,null,{"$f":"SUMIF(Report!C:C,B10,Report!J:J)","v":0},0,0,{"$f":"COUNTIF(Report!C:C,B10)","v":0}]
[10,25010902,"گریدر به قدرت حدود180 اسب بخار باراننده","دستگاه-ساعت",424164,1055418,null,{"$f":"SUMIF(Report!C:C,B11,Report!J:J)","v":0.01},4241.6400000000003,2.0144233938382855E-2,{"$f":"COUNTIF(Report!C:C,B11)","v":1}]
[11,25030101,"کمپکتورصفحه ای","دستگاه-ساعت",20003,null,null,{"$f":"SUMIF(Report!C:C,B12,Report!J:J)","v":0},0,0,{"$f":"COUNTIF(Report!C:C,B12)","v":0}]
[12,28060203,"اره بنزینی متحرک چوب","دستگاه ساعت",1736,null,null,{"$f":"SUMIF(Report!C:C,B13,Report!J:J)","v":1.06},1840.16,8.7392172659760368E-3,{"$f":"COUNTIF(Report!C:C,B13)","v":1}]
[13,28070101,"بیل","عدد",165000,null,null,{"$f":"SUMIF(Report!C:C,B14,Report!J:J)","v":0},0,0,{"$f":"COUNTIF(Report!C:C,B14)","v":0}]
[14,31010101,"آب لوله کشی شهری","مترمكعب",10800,null,null,{"$f":"SUMIF(Report!C:C,B15,Report!J:J)","v":0},0,0,{"$f":"COUNTIF(Report!C:C,B15)","v":0}]
[15,31010301,"آب چاه و قنات","مترمكعب",9471,null,null,{"$f":"SUMIF(Report!C:C,B16,Report!J:J)","v":0},0,0,{"$f":"COUNTIF(Report!C:C,B16)","v":0}]
[16,41010101,"حمل آب چاه قنات و رودخانه","مترمكعب",33213,null,null,{"$f":"SUMIF(Report!C:C,B17,Report!J:J)","v":0},0,0,{"$f":"COUNTIF(Report!C:C,B17)","v":0}]
[null,null,null,null,null,null,null,{"$f":"SUMIF(Report!C:C,B18,Report!J:J)","v":0},0,0,{"$f":"COUNTIF(Report!C:C,B18)","v":0}]
[null,null,null,null,null,null,null,{"$f":"SUMIF(Report!C:C,B19,Report!J:J)","v":0},0,0,{"$f":"COUNTIF(Report!C:C,B19)","v":0}]
[null,null,null,null,null,null,null,{"$f":"SUMIF(Report!C:C,B20,Report!J:J)","v":0},0,0,{"$f":"COUNTIF(Report!C:C,B20)","v":0}]
[null,null,null,null,null,null,null,{"$f":"SUMIF(Report!C:C,B21,Report!J:J)","v":0},0,0,{"$f":"COUNTIF(Report!C:C,B21)","v":0}]
[null,null,null,null,null,null,null,{"$f":"SUMIF(Report!C:C,B22,Report!J:J)","v":0},0,0,{"$f":"COUNTIF(Report!C:C,B22)","v":0}]
[null,null,null,null,null,null,null,{"$f":"SUMIF(Report!C:C,B23,Report!J:J)","v":0},0,0,{"$f":"COUNTIF(Report!C:C,B23)","v":0}]
[null,null,null,null,null,null,null,{"$f":"SUMIF(Report!C:C,B24,Report!J:J)","v":0},0,0,{"$f":"COUNTIF(Report!C:C,B24)","v":0}]
[null,null,null,null,null,null,null,{"$f":"SUMIF(Report!C:C,B25,Report!J:J)","v":0},0,0,{"$f":"COUNTIF(Report!C:C,B25)","v":0}]
[null,null,null,null,null,null,null,{"$f":"SUMIF(Report!C:C,B26,Report!J:J)","v":0},0,0,{"$f":"COUNTIF(Report!C:C,B26)","v":0}]
[null,null,null,null,null,null,null,{"$f":"SUMIF(Report!C:C,B27,Report!J:J)","v":0},0,0,{"$f":"COUNTIF(Report!C:C,B27)","v":0}]
[null,null,null,null,null,null,null,{"$f":"SUMIF(Report!C:C,B28,Report!J:J)","v":0},0,0,{"$f":"COUNTIF(Report!C:C,B28)","v":0}]
[null,null,null,null,null,null,null,{"$f":"SUMIF(Report!C:C,B29,Report!J:J)","v":0},0,0,{"$f":"COUNTIF(Report!C:C,B29)","v":0}]
[null,null,null,null,null,null,null,{"$f":"SUMIF(Report!C:C,B30,Report!J:J)","v":0},0,0,{"$f":"COUNTIF(Report!C:C,B30)","v":0}]
[null,null,null,null,null,null,null,{"$f":"SUMIF(Report!C:C,B31,Report!J:J)","v":0},0,0,{"$f":"COUNTIF(Report!C:C,B31)","v":0}]
[null,null,null,null,null,null,null,{"$f":"SUMIF(Report!C:C,B32,Report!J:J)","v":0},0,0,{"$f":"COUNTIF(Report!C:C,B32)","v":0}]
[null,null,null,null,null,null,null,{"$f":"SUMIF(Report!C:C,B33,Report!J:J)","v":0},0,0,{"$f":"COUNTIF(Report!C:C,B33)","v":0}]
[null,null,null,null,null,null,null,{"$f":"SUMIF(Report!C:C,B34,Report!J:J)","v":0},0,0,{"$f":"COUNTIF(Report!C:C,B34)","v":0}]
[null,null,null,null,null,null,null,{"$f":"SUMIF(Report!C:C,B35,Report!J:J)","v":0},0,0,{"$f":"COUNTIF(Report!C:C,B35)","v":0}]
[null,null,null,null,null,null,null,{"$f":"SUMIF(Report!C:C,B36,Report!J:J)","v":0},0,0,{"$f":"COUNTIF(Report!C:C,B36)","v":0}]
[null,null,null,null,null,null,null,{"$f":"SUMIF(Report!C:C,B37,Report!J:J)","v":0},0,0,{"$f":"COUNTIF(Report!C:C,B37)","v":0}]
[null,null,null,null,null,null,null,{"$f":"SUMIF(Report!C:C,B38,Report!J:J)","v":0},0,0,{"$f":"COUNTIF(Report!C:C,B38)","v":0}]
[null,null,null,null,null,null,null,{"$f":"SUMIF(Report!C:C,B39,Report!J:J)","v":0},0,0,{"$f":"COUNTIF(Report!C:C,B39)","v":0}]
[null,null,null,null,null,null,null,{"$f":"SUMIF(Report!C:C,B40,Report!J:J)","v":0},0,0,{"$f":"COUNTIF(Report!C:C,B40)","v":0}]
[null,null,null,null,null,null,null,{"$f":"SUMIF(Report!C:C,B41,Report!J:J)","v":0},0,0,{"$f":"COUNTIF(Report!C:C,B41)","v":0}]
[null,null,null,null,null,null,null,{"$f":"SUMIF(Report!C:C,B42,Report!J:J)","v":0},0,0,{"$f":"COUNTIF(Report!C:C,B42)","v":0}]
[null,null,null,null,null,null,null,{"$f":"SUMIF(Report!C:C,B43,Report!J:J)","v":0},0,0,{"$f":"COUNTIF(Report!C:C,B43)","v":0}]
[null,null,null,null,null,null,null,{"$f":"SUMIF(Report!C:C,B44,Report!J:J)","v":0},0,0,{"$f":"COUNTIF(Report!C:C,B44)","v":0}]
[null,null,null,null,null,null,null,{"$f":"SUMIF(Report!C:C,B45,Report!J:J)","v":0},0,0,{"$f":"COUNTIF(Report!C:C,B45)","v":0}]
[null,null,null,null,null,null,null,{"$f":"SUMIF(Report!C:C,B46,Report!J:J)","v":0},0,0,{"$f":"COUNTIF(Report!C:C,B46)","v":0}]
[null,null,null,null,null,null,null,{"$f":"SUMIF(Report!C:C,B47,Report!J:J)","v":0},0,0,{"$f":"COUNTIF(Report!C:C,B47)","v":0}]
[null,null,null,null,null,null,null,{"$f":"SUMIF(Report!C:C,B48,Report!J:J)","v":0},0,0,{"$f":"COUNTIF(Report!C:C,B48)","v":0}]
[null,null,null,null,null,null,null,{"$f":"SUMIF(Report!C:C,B49,Report!J:J)","v":0},0,0,{"$f":"COUNTIF(Report!C:C,B49)","v":0}]
[null,null,null,null,null,null,null,{"$f":"SUMIF(Report!C:C,B50,Report!J:J)","v":0},0,0,{"$f":"COUNTIF(Report!C:C,B50)","v":0}]
[null,null,null,null,null,null,null,{"$f":"SUMIF(Report!C:C,B51,Report!J:J)","v":0},0,0,{"$f":"COUNTIF(Report!C:C,B51)","v":0}]
[null,null,null,null,null,null,null,{"$f":"SUMIF(Report!C:C,B52,Report!J:J)","v":0},0,0,{"$f":"COUNTIF(Report!C:C,B52)","v":0}]
[null,null,null,null,null,null,null,{"$f":"SUMIF(Report!C:C,B53,Report!J:J)","v":0},0,0,{"$f":"COUNTIF(Report!C:C,B53)","v":0}]
[null,null,null,null,null,null,null,{"$f":"SUMIF(Report!C:C,B54,Report!J:J)","v":0},0,0,{"$f":"COUNTIF(Report!C:C,B54)","v":0}]
[null,null,null,null,null,null,null,{"$f":"SUMIF(Report!C:C,B55,Report!J:J)","v":0},0,0,{"$f":"COUNTIF(Report!C:C,B55)","v":0}]
[null,null,null,null,null,null,null,{"$f":"SUMIF(Report!C:C,B56,Report!J:J)","v":0},0,0,{"$f":"COUNTIF(Report!C:C,B56)","v":0}]
[null,null,null,null,null,null,null,{"$f":"SUMIF(Report!C:C,B57,Report!J:J)","v":0},0,0,{"$f":"COUNTIF(Report!C:C,B57)","v":0}]
[null,null,null,null,null,null,null,{"$f":"SUMIF(Report!C:C,B58,Report!J:J)","v":0},0,0,{"$f":"COUNTIF(Report!C:C,B58)","v":0}]
[null,null,null,null,null,null,null,{"$f":"SUMIF(Report!C:C,B59,Report!J:J)","v":0},0,0,{"$f":"COUNTIF(Report!C:C,B59)","v":0}]
[null,null,null,null,null,null,null,{"$f":"SUMIF(Report!C:C,B60,Report!J:J)","v":0},0,0,{"$f":"COUNTIF(Report!C:C,B60)","v":0}]
[null,null,null,null,null,null,null,{"$f":"SUMIF(Report!C:C,B61,Report!J:J)","v":0},0,0,{"$f":"COUNTIF(Report!C:C,B61)","v":0}]
[null,null,null,null,null,null,null,{"$f":"SUMIF(Report!C:C,B62,Report!J:J)","v":0},0,0,{"$f":"COUNTIF(Report!C:C,B62)","v":0}]
[null,null,null,null,null,null,null,{"$f":"SUMIF(Report!C:C,B63,Report!J:J)","v":0},0,0,{"$f":"COUNTIF(Report!C:C,B63)","v":0}]
[null,null,null,null,null,null,null,{"$f":"SUMIF(Report!C:C,B64,Report!J:J)","v":0},0,0,{"$f":"COUNTIF(Report!C:C,B64)","v":0}]
[null,null,null,null,null,null,null,{"$f":"SUMIF(Report!C:C,B65,Report!J:J)","v":0},0,0,{"$f":"COUNTIF(Report!C:C,B65)","v":0}]
[null,null,null,null,null,null,null,{"$f":"SUMIF(Report!C:C,B66,Report!J:J)","v":0},0,0,{"$f":"COUNTIF(Report!C:C,B66)","v":0}]
[null,null,null,null,null,null,null,{"$f":"SUMIF(Report!C:C,B67,Report!J:J)","v":0},{"$f":"IF($M$1=$L$1,H67*E67,+IF($M$1=$L$2,H67*F67,H67*G67))","v":0},{"$f":"IFERROR(I67/SUM($I$2:$I$2499),0)","v":0},{"$f":"COUNTIF(Report!C:C,B67)","v":0}]
[null,null,null,null,null,null,null,{"$f":"SUMIF(Report!C:C,B68,Report!J:J)","v":0},0,0,{"$f":"COUNTIF(Report!C:C,B68)","v":0}]
[null,null,null,null,null,null,null,{"$f":"SUMIF(Report!C:C,B69,Report!J:J)","v":0},0,0,{"$f":"COUNTIF(Report!C:C,B69)","v":0}]
[null,null,null,null,null,null,null,{"$f":"SUMIF(Report!C:C,B70,Report!J:J)","v":0},0,0,{"$f":"COUNTIF(Report!C:C,B70)","v":0}]
[null,null,null,null,null,null,null,{"$f":"SUMIF(Report!C:C,B71,Report!J:J)","v":0},0,0,{"$f":"COUNTIF(Report!C:C,B71)","v":0}]
[null,null,null,null,null,null,null,{"$f":"SUMIF(Report!C:C,B72,Report!J:J)","v":0},0,0,{"$f":"COUNTIF(Report!C:C,B72)","v":0}]
[null,null,null,null,null,null,null,{"$f":"SUMIF(Report!C:C,B73,Report!J:J)","v":0},0,0,{"$f":"COUNTIF(Report!C:C,B73)","v":0}]
[null,null,null,null,null,null,null,{"$f":"SUMIF(Report!C:C,B74,Report!J:J)","v":0},0,0,{"$f":"COUNTIF(Report!C:C,B74)","v":0}]
[null,null,null,null,null,null,null,{"$f":"SUMIF(Report!C:C,B75,Report!J:J)","v":0},0,0,{"$f":"COUNTIF(Report!C:C,B75)","v":0}]
[null,null,null,null,null,null,null,{"$f":"SUMIF(Report!C:C,B76,Report!J:J)","v":0},0,0,{"$f":"COUNTIF(Report!C:C,B76)","v":0}]
[null,null,null,null,null,null,null,{"$f":"SUMIF(Report!C:C,B77,Report!J:J)","v":0},0,0,{"$f":"COUNTIF(Report!C:C,B77)","v":0}]
[null,null,null,null,null,null,null,{"$f":"SUMIF(Report!C:C,B78,Report!J:J)","v":0},0,0,{"$f":"COUNTIF(Report!C:C,B78)","v":0}]
[null,null,null,null,null,null,null,{"$f":"SUMIF(Report!C:C,B79,Report!J:J)","v":0},0,0,{"$f":"COUNTIF(Report!C:C,B79)","v":0}]
[null,null,null,null,null,null,null,{"$f":"SUMIF(Report!C:C,B80,Report!J:J)","v":0},0,0,{"$f":"COUNTIF(Report!C:C,B80)","v":0}]
[null,null,null,null,null,null,null,{"$f":"SUMIF(Report!C:C,B81,Report!J:J)","v":0},0,0,{"$f":"COUNTIF(Report!C:C,B81)","v":0}]
[null,null,null,null,null,null,null,{"$f":"SUMIF(Report!C:C,B82,Report!J:J)","v":0},0,0,{"$f":"COUNTIF(Report!C:C,B82)","v":0}]
[null,null,null,null,null,null,null,{"$f":"SUMIF(Report!C:C,B83,Report!J:J)","v":0},0,0,{"$f":"COUNTIF(Report!C:C,B83)","v":0}]
[null,null,null,null,null,null,null,{"$f":"SUMIF(Report!C:C,B84,Report!J:J)","v":0},0,0,{"$f":"COUNTIF(Report!C:C,B84)","v":0}]
[null,null,null,null,null,null,null,{"$f":"SUMIF(Report!C:C,B85,Report!J:J)","v":0},0,0,{"$f":"COUNTIF(Report!C:C,B85)","v":0}]
[null,null,null,null,null,null,null,{"$f":"SUMIF(Report!C:C,B86,Report!J:J)","v":0},0,0,{"$f":"COUNTIF(Report!C:C,B86)","v":0}]
[null,null,null,null,null,null,null,{"$f":"SUMIF(Report!C:C,B87,Report!J:J)","v":0},0,0,{"$f":"COUNTIF(Report!C:C,B87)","v":0}]
[null,null,null,null,null,null,null,{"$f":"SUMIF(Report!C:C,B88,Report!J:J)","v":0},0,0,{"$f":"COUNTIF(Report!C:C,B88)","v":0}]
[null,null,null,null,null,null,null,{"$f":"SUMIF(Report!C:C,B89,Report!J:J)","v":0},0,0,{"$f":"COUNTIF(Report!C:C,B89)","v":0}]
[null,null,null,null,null,null,null,{"$f":"SUMIF(Report!C:C,B90,Report!J:J)","v":0},0,0,{"$f":"COUNTIF(Report!C:C,B90)","v":0}]
[null,null,null,null,null,null,null,{"$f":"SUMIF(Report!C:C,B91,Report!J:J)","v":0},0,0,{"$f":"COUNTIF(Report!C:C,B91)","v":0}]
[null,null,null,null,null,null,null,{"$f":"SUMIF(Report!C:C,B92,Report!J:J)","v":0},0,0,{"$f":"COUNTIF(Report!C:C,B92)","v":0}]
[null,null,null,null,null,null,null,{"$f":"SUMIF(Report!C:C,B93,Report!J:J)","v":0},0,0,{"$f":"COUNTIF(Report!C:C,B93)","v":0}]
[null,null,null,null,null,null,null,{"$f":"SUMIF(Report!C:C,B94,Report!J:J)","v":0},0,0,{"$f":"COUNTIF(Report!C:C,B94)","v":0}]
[null,null,null,null,null,null,null,{"$f":"SUMIF(Report!C:C,B95,Report!J:J)","v":0},0,0,{"$f":"COUNTIF(Report!C:C,B95)","v":0}]
[null,null,null,null,null,null,null,{"$f":"SUMIF(Report!C:C,B96,Report!J:J)","v":0},0,0,{"$f":"COUNTIF(Report!C:C,B96)","v":0}]
[null,null,null,null,null,null,null,{"$f":"SUMIF(Report!C:C,B97,Report!J:J)","v":0},0,0,{"$f":"COUNTIF(Report!C:C,B97)","v":0}]
[null,null,null,null,null,null,null,{"$f":"SUMIF(Report!C:C,B98,Report!J:J)","v":0},0,0,{"$f":"COUNTIF(Report!C:C,B98)","v":0}]
[null,null,null,null,null,null,null,{"$f":"SUMIF(Report!C:C,B99,Report!J:J)","v":0},0,0,{"$f":"COUNTIF(Report!C:C,B99)","v":0}]
[null,null,null,null,null,null,null,{"$f":"SUMIF(Report!C:C,B100,Report!J:J)","v":0},0,0,{"$f":"COUNTIF(Report!C:C,B100)","v":0}]
[null,null,null,null,null,null,null,{"$f":"SUMIF(Report!C:C,B101,Report!J:J)","v":0},0,0,{"$f":"COUNTIF(Report!C:C,B101)","v":0}]
[null,null,null,null,null,null,null,{"$f":"SUMIF(Report!C:C,B102,Report!J:J)","v":0},0,0,{"$f":"COUNTIF(Report!C:C,B102)","v":0}]
[null,null,null,null,null,null,null,{"$f":"SUMIF(Report!C:C,B103,Report!J:J)","v":0},0,0,{"$f":"COUNTIF(Report!C:C,B103)","v":0}]
[null,null,null,null,null,null,null,{"$f":"SUMIF(Report!C:C,B104,Report!J:J)","v":0},0,0,{"$f":"COUNTIF(Report!C:C,B104)","v":0}]
[null,null,null,null,null,null,null,{"$f":"SUMIF(Report!C:C,B105,Report!J:J)","v":0},0,0,{"$f":"COUNTIF(Report!C:C,B105)","v":0}]
[null,null,null,null,null,null,null,{"$f":"SUMIF(Report!C:C,B106,Report!J:J)","v":0},0,0,{"$f":"COUNTIF(Report!C:C,B106)","v":0}]
[null,null,null,null,null,null,null,{"$f":"SUMIF(Report!C:C,B107,Report!J:J)","v":0},0,0,{"$f":"COUNTIF(Report!C:C,B107)","v":0}]
[null,null,null,null,null,null,null,{"$f":"SUMIF(Report!C:C,B108,Report!J:J)","v":0},0,0,{"$f":"COUNTIF(Report!C:C,B108)","v":0}]
[null,null,null,null,null,null,null,{"$f":"SUMIF(Report!C:C,B109,Report!J:J)","v":0},0,0,{"$f":"COUNTIF(Report!C:C,B109)","v":0}]
[null,null,null,null,null,null,null,{"$f":"SUMIF(Report!C:C,B110,Report!J:J)","v":0},0,0,{"$f":"COUNTIF(Report!C:C,B110)","v":0}]
[null,null,null,null,null,null,null,{"$f":"SUMIF(Report!C:C,B111,Report!J:J)","v":0},0,0,{"$f":"COUNTIF(Report!C:C,B111)","v":0}]
[null,null,null,null,null,null,null,{"$f":"SUMIF(Report!C:C,B112,Report!J:J)","v":0},0,0,{"$f":"COUNTIF(Report!C:C,B112)","v":0}]
[null,null,null,null,null,null,null,{"$f":"SUMIF(Report!C:C,B113,Report!J:J)","v":0},0,0,{"$f":"COUNTIF(Report!C:C,B113)","v":0}]
[null,null,null,null,null,null,null,{"$f":"SUMIF(Report!C:C,B114,Report!J:J)","v":0},0,0,{"$f":"COUNTIF(Report!C:C,B114)","v":0}]
[null,null,null,null,null,null,null,{"$f":"SUMIF(Report!C:C,B115,Report!J:J)","v":0},0,0,{"$f":"COUNTIF(Report!C:C,B115)","v":0}]
[null,null,null,null,null,null,null,{"$f":"SUMIF(Report!C:C,B116,Report!J:J)","v":0},0,0,{"$f":"COUNTIF(Report!C:C,B116)","v":0}]
[null,null,null,null,null,null,null,{"$f":"SUMIF(Report!C:C,B117,Report!J:J)","v":0},0,0,{"$f":"COUNTIF(Report!C:C,B117)","v":0}]
[null,null,null,null,null,null,null,{"$f":"SUMIF(Report!C:C,B118,Report!J:J)","v":0},0,0,{"$f":"COUNTIF(Report!C:C,B118)","v":0}]
[null,null,null,null,null,null,null,{"$f":"SUMIF(Report!C:C,B119,Report!J:J)","v":0},0,0,{"$f":"COUNTIF(Report!C:C,B119)","v":0}]
[null,null,null,null,null,null,null,{"$f":"SUMIF(Report!C:C,B120,Report!J:J)","v":0},0,0,{"$f":"COUNTIF(Report!C:C,B120)","v":0}]
[null,null,null,null,null,null,null,{"$f":"SUMIF(Report!C:C,B121,Report!J:J)","v":0},0,0,{"$f":"COUNTIF(Report!C:C,B121)","v":0}]
[null,null,null,null,null,null,null,{"$f":"SUMIF(Report!C:C,B122,Report!J:J)","v":0},0,0,{"$f":"COUNTIF(Report!C:C,B122)","v":0}]
[null,null,null,null,null,null,null,{"$f":"SUMIF(Report!C:C,B123,Report!J:J)","v":0},0,0,{"$f":"COUNTIF(Report!C:C,B123)","v":0}]
[null,null,null,null,null,null,null,{"$f":"SUMIF(Report!C:C,B124,Report!J:J)","v":0},0,0,{"$f":"COUNTIF(Report!C:C,B124)","v":0}]
[null,null,null,null,null,null,null,{"$f":"SUMIF(Report!C:C,B125,Report!J:J)","v":0},0,0,{"$f":"COUNTIF(Report!C:C,B125)","v":0}]
[null,null,null,null,null,null,null,{"$f":"SUMIF(Report!C:C,B126,Report!J:J)","v":0},0,0,{"$f":"COUNTIF(Report!C:C,B126)","v":0}]
[null,null,null,null,null,null,null,{"$f":"SUMIF(Report!C:C,B127,Report!J:J)","v":0},0,0,{"$f":"COUNTIF(Report!C:C,B127)","v":0}]
[null,null,null,null,null,null,null,{"$f":"SUMIF(Report!C:C,B128,Report!J:J)","v":0},0,0,{"$f":"COUNTIF(Report!C:C,B128)","v":0}]
[null,null,null,null,null,null,null,{"$f":"SUMIF(Report!C:C,B129,Report!J:J)","v":0},0,0,{"$f":"COUNTIF(Report!C:C,B129)","v":0}]
[null,null,null,null,null,null,null,{"$f":"SUMIF(Report!C:C,B130,Report!J:J)","v":0},0,0,{"$f":"COUNTIF(Report!C:C,B130)","v":0}]
[null,null,null,null,null,null,null,{"$f":"SUMIF(Report!C:C,B131,Report!J:J)","v":0},{"$f":"IF($M$1=$L$1,H131*E131,+IF($M$1=$L$2,H131*F131,H131*G131))","v":0},{"$f":"IFERROR(I131/SUM($I$2:$I$2499),0)","v":0},{"$f":"COUNTIF(Report!C:C,B131)","v":0}]
[null,null,null,null,null,null,null,{"$f":"SUMIF(Report!C:C,B132,Report!J:J)","v":0},0,0,{"$f":"COUNTIF(Report!C:C,B132)","v":0}]
[null,null,null,null,null,null,null,{"$f":"SUMIF(Report!C:C,B133,Report!J:J)","v":0},0,0,{"$f":"COUNTIF(Report!C:C,B133)","v":0}]
[null,null,null,null,null,null,null,{"$f":"SUMIF(Report!C:C,B134,Report!J:J)","v":0},0,0,{"$f":"COUNTIF(Report!C:C,B134)","v":0}]
[null,null,null,null,null,null,null,{"$f":"SUMIF(Report!C:C,B135,Report!J:J)","v":0},0,0,{"$f":"COUNTIF(Report!C:C,B135)","v":0}]
[null,null,null,null,null,null,null,{"$f":"SUMIF(Report!C:C,B136,Report!J:J)","v":0},0,0,{"$f":"COUNTIF(Report!C:C,B136)","v":0}]
[null,null,null,null,null,null,null,{"$f":"SUMIF(Report!C:C,B137,Report!J:J)","v":0},0,0,{"$f":"COUNTIF(Report!C:C,B137)","v":0}]
[null,null,null,null,null,null,null,{"$f":"SUMIF(Report!C:C,B138,Report!J:J)","v":0},0,0,{"$f":"COUNTIF(Report!C:C,B138)","v":0}]
[null,null,null,null,null,null,null,{"$f":"SUMIF(Report!C:C,B139,Report!J:J)","v":0},0,0,{"$f":"COUNTIF(Report!C:C,B139)","v":0}]
[null,null,null,null,null,null,null,{"$f":"SUMIF(Report!C:C,B140,Report!J:J)","v":0},0,0,{"$f":"COUNTIF(Report!C:C,B140)","v":0}]
[null,null,null,null,null,null,null,{"$f":"SUMIF(Report!C:C,B141,Report!J:J)","v":0},0,0,{"$f":"COUNTIF(Report!C:C,B141)","v":0}]
[null,null,null,null,null,null,null,{"$f":"SUMIF(Report!C:C,B142,Report!J:J)","v":0},0,0,{"$f":"COUNTIF(Report!C:C,B142)","v":0}]
[null,null,null,null,null,null,null,{"$f":"SUMIF(Report!C:C,B143,Report!J:J)","v":0},0,0,{"$f":"COUNTIF(Report!C:C,B143)","v":0}]
[null,null,null,null,null,null,null,{"$f":"SUMIF(Report!C:C,B144,Report!J:J)","v":0},0,0,{"$f":"COUNTIF(Report!C:C,B144)","v":0}]
[null,null,null,null,null,null,null,{"$f":"SUMIF(Report!C:C,B145,Report!J:J)","v":0},0,0,{"$f":"COUNTIF(Report!C:C,B145)","v":0}]
[null,null,null,null,null,null,null,{"$f":"SUMIF(Report!C:C,B146,Report!J:J)","v":0},0,0,{"$f":"COUNTIF(Report!C:C,B146)","v":0}]
[null,null,null,null,null,null,null,{"$f":"SUMIF(Report!C:C,B147,Report!J:J)","v":0},0,0,{"$f":"COUNTIF(Report!C:C,B147)","v":0}]
[null,null,null,null,null,null,null,{"$f":"SUMIF(Report!C:C,B148,Report!J:J)","v":0},0,0,{"$f":"COUNTIF(Report!C:C,B148)","v":0}]
[null,null,null,null,null,null,null,{"$f":"SUMIF(Report!C:C,B149,Report!J:J)","v":0},0,0,{"$f":"COUNTIF(Report!C:C,B149)","v":0}]
[null,null,null,null,null,null,null,{"$f":"SUMIF(Report!C:C,B150,Report!J:J)","v":0},0,0,{"$f":"COUNTIF(Report!C:C,B150)","v":0}]
[null,null,null,null,null,null,null,{"$f":"SUMIF(Report!C:C,B151,Report!J:J)","v":0},0,0,{"$f":"COUNTIF(Report!C:C,B151)","v":0}]
[null,null,null,null,null,null,null,{"$f":"SUMIF(Report!C:C,B152,Report!J:J)","v":0},0,0,{"$f":"COUNTIF(Report!C:C,B152)","v":0}]
[null,null,null,null,null,null,null,{"$f":"SUMIF(Report!C:C,B153,Report!J:J)","v":0},0,0,{"$f":"COUNTIF(Report!C:C,B153)","v":0}]
[null,null,null,null,null,null,null,{"$f":"SUMIF(Report!C:C,B154,Report!J:J)","v":0},0,0,{"$f":"COUNTIF(Report!C:C,B154)","v":0}]
[null,null,null,null,null,null,null,{"$f":"SUMIF(Report!C:C,B155,Report!J:J)","v":0},0,0,{"$f":"COUNTIF(Report!C:C,B155)","v":0}]
[null,null,null,null,null,null,null,{"$f":"SUMIF(Report!C:C,B156,Report!J:J)","v":0},0,0,{"$f":"COUNTIF(Report!C:C,B156)","v":0}]
[null,null,null,null,null,null,null,{"$f":"SUMIF(Report!C:C,B157,Report!J:J)","v":0},0,0,{"$f":"COUNTIF(Report!C:C,B157)","v":0}]
[null,null,null,null,null,null,null,{"$f":"SUMIF(Report!C:C,B158,Report!J:J)","v":0},0,0,{"$f":"COUNTIF(Report!C:C,B158)","v":0}]
[null,null,null,null,null,null,null,{"$f":"SUMIF(Report!C:C,B159,Report!J:J)","v":0},0,0,{"$f":"COUNTIF(Report!C:C,B159)","v":0}]
[null,null,null,null,null,null,null,{"$f":"SUMIF(Report!C:C,B160,Report!J:J)","v":0},0,0,{"$f":"COUNTIF(Report!C:C,B160)","v":0}]
[null,null,null,null,null,null,null,{"$f":"SUMIF(Report!C:C,B161,Report!J:J)","v":0},0,0,{"$f":"COUNTIF(Report!C:C,B161)","v":0}]
[null,null,null,null,null,null,null,{"$f":"SUMIF(Report!C:C,B162,Report!J:J)","v":0},0,0,{"$f":"COUNTIF(Report!C:C,B162)","v":0}]
[null,null,null,null,null,null,null,{"$f":"SUMIF(Report!C:C,B163,Report!J:J)","v":0},0,0,{"$f":"COUNTIF(Report!C:C,B163)","v":0}]
[null,null,null,null,null,null,null,{"$f":"SUMIF(Report!C:C,B164,Report!J:J)","v":0},0,0,{"$f":"COUNTIF(Report!C:C,B164)","v":0}]
[null,null,null,null,null,null,null,{"$f":"SUMIF(Report!C:C,B165,Report!J:J)","v":0},0,0,{"$f":"COUNTIF(Report!C:C,B165)","v":0}]
[null,null,null,null,null,null,null,{"$f":"SUMIF(Report!C:C,B166,Report!J:J)","v":0},0,0,{"$f":"COUNTIF(Report!C:C,B166)","v":0}]
[null,null,null,null,null,null,null,{"$f":"SUMIF(Report!C:C,B167,Report!J:J)","v":0},0,0,{"$f":"COUNTIF(Report!C:C,B167)","v":0}]
[null,null,null,null,null,null,null,{"$f":"SUMIF(Report!C:C,B168,Report!J:J)","v":0},0,0,{"$f":"COUNTIF(Report!C:C,B168)","v":0}]
[null,null,null,null,null,null,null,{"$f":"SUMIF(Report!C:C,B169,Report!J:J)","v":0},0,0,{"$f":"COUNTIF(Report!C:C,B169)","v":0}]
[null,null,null,null,null,null,null,{"$f":"SUMIF(Report!C:C,B170,Report!J:J)","v":0},0,0,{"$f":"COUNTIF(Report!C:C,B170)","v":0}]
[null,null,null,null,null,null,null,{"$f":"SUMIF(Report!C:C,B171,Report!J:J)","v":0},0,0,{"$f":"COUNTIF(Report!C:C,B171)","v":0}]
[null,null,null,null,null,null,null,{"$f":"SUMIF(Report!C:C,B172,Report!J:J)","v":0},0,0,{"$f":"COUNTIF(Report!C:C,B172)","v":0}]
[null,null,null,null,null,null,null,{"$f":"SUMIF(Report!C:C,B173,Report!J:J)","v":0},0,0,{"$f":"COUNTIF(Report!C:C,B173)","v":0}]
[null,null,null,null,null,null,null,{"$f":"SUMIF(Report!C:C,B174,Report!J:J)","v":0},0,0,{"$f":"COUNTIF(Report!C:C,B174)","v":0}]
[null,null,null,null,null,null,null,{"$f":"SUMIF(Report!C:C,B175,Report!J:J)","v":0},0,0,{"$f":"COUNTIF(Report!C:C,B175)","v":0}]
[null,null,null,null,null,null,null,{"$f":"SUMIF(Report!C:C,B176,Report!J:J)","v":0},0,0,{"$f":"COUNTIF(Report!C:C,B176)","v":0}]
[null,null,null,null,null,null,null,{"$f":"SUMIF(Report!C:C,B177,Report!J:J)","v":0},0,0,{"$f":"COUNTIF(Report!C:C,B177)","v":0}]
[null,null,null,null,null,null,null,{"$f":"SUMIF(Report!C:C,B178,Report!J:J)","v":0},0,0,{"$f":"COUNTIF(Report!C:C,B178)","v":0}]
[null,null,null,null,null,null,null,{"$f":"SUMIF(Report!C:C,B179,Report!J:J)","v":0},0,0,{"$f":"COUNTIF(Report!C:C,B179)","v":0}]
[null,null,null,null,null,null,null,{"$f":"SUMIF(Report!C:C,B180,Report!J:J)","v":0},0,0,{"$f":"COUNTIF(Report!C:C,B180)","v":0}]
[null,null,null,null,null,null,null,{"$f":"SUMIF(Report!C:C,B181,Report!J:J)","v":0},0,0,{"$f":"COUNTIF(Report!C:C,B181)","v":0}]
[null,null,null,null,null,null,null,{"$f":"SUMIF(Report!C:C,B182,Report!J:J)","v":0},0,0,{"$f":"COUNTIF(Report!C:C,B182)","v":0}]
[null,null,null,null,null,null,null,{"$f":"SUMIF(Report!C:C,B183,Report!J:J)","v":0},0,0,{"$f":"COUNTIF(Report!C:C,B183)","v":0}]
[null,null,null,null,null,null,null,{"$f":"SUMIF(Report!C:C,B184,Report!J:J)","v":0},0,0,{"$f":"COUNTIF(Report!C:C,B184)","v":0}]
[null,null,null,null,null,null,null,{"$f":"SUMIF(Report!C:C,B185,Report!J:J)","v":0},0,0,{"$f":"COUNTIF(Report!C:C,B185)","v":0}]
[null,null,null,null,null,null,null,{"$f":"SUMIF(Report!C:C,B186,Report!J:J)","v":0},0,0,{"$f":"COUNTIF(Report!C:C,B186)","v":0}]
[null,null,null,null,null,null,null,{"$f":"SUMIF(Report!C:C,B187,Report!J:J)","v":0},0,0,{"$f":"COUNTIF(Report!C:C,B187)","v":0}]
[null,null,null,null,null,null,null,{"$f":"SUMIF(Report!C:C,B188,Report!J:J)","v":0},0,0,{"$f":"COUNTIF(Report!C:C,B188)","v":0}]
[null,null,null,null,null,null,null,{"$f":"SUMIF(Report!C:C,B189,Report!J:J)","v":0},0,0,{"$f":"COUNTIF(Report!C:C,B189)","v":0}]
[null,null,null,null,null,null,null,{"$f":"SUMIF(Report!C:C,B190,Report!J:J)","v":0},0,0,{"$f":"COUNTIF(Report!C:C,B190)","v":0}]
[null,null,null,null,null,null,null,{"$f":"SUMIF(Report!C:C,B191,Report!J:J)","v":0},0,0,{"$f":"COUNTIF(Report!C:C,B191)","v":0}]
[null,null,null,null,null,null,null,{"$f":"SUMIF(Report!C:C,B192,Report!J:J)","v":0},0,0,{"$f":"COUNTIF(Report!C:C,B192)","v":0}]
[null,null,null,null,null,null,null,{"$f":"SUMIF(Report!C:C,B193,Report!J:J)","v":0},0,0,{"$f":"COUNTIF(Report!C:C,B193)","v":0}]
[null,null,null,null,null,null,null,{"$f":"SUMIF(Report!C:C,B194,Report!J:J)","v":0},0,0,{"$f":"COUNTIF(Report!C:C,B194)","v":0}]
[null,null,null,null,null,null,null,{"$f":"SUMIF(Report!C:C,B195,Report!J:J)","v":0},{"$f":"IF($M$1=$L$1,H195*E195,+IF($M$1=$L$2,H195*F195,H195*G195))","v":0},{"$f":"IFERROR(I195/SUM($I$2:$I$2499),0)","v":0},{"$f":"COUNTIF(Report!C:C,B195)","v":0}]
[null,null,null,null,null,null,null,{"$f":"SUMIF(Report!C:C,B196,Report!J:J)","v":0},0,0,{"$f":"COUNTIF(Report!C:C,B196)","v":0}]
[null,null,null,null,null,null,null,{"$f":"SUMIF(Report!C:C,B197,Report!J:J)","v":0},0,0,{"$f":"COUNTIF(Report!C:C,B197)","v":0}]
[null,null,null,null,null,null,null,{"$f":"SUMIF(Report!C:C,B198,Report!J:J)","v":0},0,0,{"$f":"COUNTIF(Report!C:C,B198)","v":0}]
[null,null,null,null,null,null,null,{"$f":"SUMIF(Report!C:C,B199,Report!J:J)","v":0},0,0,{"$f":"COUNTIF(Report!C:C,B199)","v":0}]
[null,null,null,null,null,null,null,{"$f":"SUMIF(Report!C:C,B200,Report!J:J)","v":0},0,0,{"$f":"COUNTIF(Report!C:C,B200)","v":0}]
[null,null,null,null,null,null,null,{"$f":"SUMIF(Report!C:C,B201,Report!J:J)","v":0},0,0,{"$f":"COUNTIF(Report!C:C,B201)","v":0}]
[null,null,null,null,null,null,null,{"$f":"SUMIF(Report!C:C,B202,Report!J:J)","v":0},0,0,{"$f":"COUNTIF(Report!C:C,B202)","v":0}]
[null,null,null,null,null,null,null,{"$f":"SUMIF(Report!C:C,B203,Report!J:J)","v":0},0,0,{"$f":"COUNTIF(Report!C:C,B203)","v":0}]
[null,null,null,null,null,null,null,{"$f":"SUMIF(Report!C:C,B204,Report!J:J)","v":0},0,0,{"$f":"COUNTIF(Report!C:C,B204)","v":0}]
[null,null,null,null,null,null,null,{"$f":"SUMIF(Report!C:C,B205,Report!J:J)","v":0},0,0,{"$f":"COUNTIF(Report!C:C,B205)","v":0}]
[null,null,null,null,null,null,null,{"$f":"SUMIF(Report!C:C,B206,Report!J:J)","v":0},0,0,{"$f":"COUNTIF(Report!C:C,B206)","v":0}]
[null,null,null,null,null,null,null,{"$f":"SUMIF(Report!C:C,B207,Report!J:J)","v":0},0,0,{"$f":"COUNTIF(Report!C:C,B207)","v":0}]
[null,null,null,null,null,null,null,{"$f":"SUMIF(Report!C:C,B208,Report!J:J)","v":0},0,0,{"$f":"COUNTIF(Report!C:C,B208)","v":0}]
[null,null,null,null,null,null,null,{"$f":"SUMIF(Report!C:C,B209,Report!J:J)","v":0},0,0,{"$f":"COUNTIF(Report!C:C,B209)","v":0}]
[null,null,null,null,null,null,null,{"$f":"SUMIF(Report!C:C,B210,Report!J:J)","v":0},0,0,{"$f":"COUNTIF(Report!C:C,B210)","v":0}]
[null,null,null,null,null,null,null,{"$f":"SUMIF(Report!C:C,B211,Report!J:J)","v":0},0,0,{"$f":"COUNTIF(Report!C:C,B211)","v":0}]
[null,null,null,null,null,null,null,{"$f":"SUMIF(Report!C:C,B212,Report!J:J)","v":0},0,0,{"$f":"COUNTIF(Report!C:C,B212)","v":0}]
[null,null,null,null,null,null,null,{"$f":"SUMIF(Report!C:C,B213,Report!J:J)","v":0},0,0,{"$f":"COUNTIF(Report!C:C,B213)","v":0}]
[null,null,null,null,null,null,null,{"$f":"SUMIF(Report!C:C,B214,Report!J:J)","v":0},0,0,{"$f":"COUNTIF(Report!C:C,B214)","v":0}]
[null,null,null,null,null,null,null,{"$f":"SUMIF(Report!C:C,B215,Report!J:J)","v":0},0,0,{"$f":"COUNTIF(Report!C:C,B215)","v":0}]
[null,null,null,null,null,null,null,{"$f":"SUMIF(Report!C:C,B216,Report!J:J)","v":0},0,0,{"$f":"COUNTIF(Report!C:C,B216)","v":0}]
[null,null,null,null,null,null,null,{"$f":"SUMIF(Report!C:C,B217,Report!J:J)","v":0},0,0,{"$f":"COUNTIF(Report!C:C,B217)","v":0}]
[null,null,null,null,null,null,null,{"$f":"SUMIF(Report!C:C,B218,Report!J:J)","v":0},0,0,{"$f":"COUNTIF(Report!C:C,B218)","v":0}]
[null,null,null,null,null,null,null,{"$f":"SUMIF(Report!C:C,B219,Report!J:J)","v":0},0,0,{"$f":"COUNTIF(Report!C:C,B219)","v":0}]
[null,null,null,null,null,null,null,{"$f":"SUMIF(Report!C:C,B220,Report!J:J)","v":0},0,0,{"$f":"COUNTIF(Report!C:C,B220)","v":0}]
[null,null,null,null,null,null,null,{"$f":"SUMIF(Report!C:C,B221,Report!J:J)","v":0},0,0,{"$f":"COUNTIF(Report!C:C,B221)","v":0}]
[null,null,null,null,null,null,null,{"$f":"SUMIF(Report!C:C,B222,Report!J:J)","v":0},0,0,{"$f":"COUNTIF(Report!C:C,B222)","v":0}]
[null,null,null,null,null,null,null,{"$f":"SUMIF(Report!C:C,B223,Report!J:J)","v":0},0,0,{"$f":"COUNTIF(Report!C:C,B223)","v":0}]
[null,null,null,null,null,null,null,{"$f":"SUMIF(Report!C:C,B224,Report!J:J)","v":0},0,0,{"$f":"COUNTIF(Report!C:C,B224)","v":0}]
[null,null,null,null,null,null,null,{"$f":"SUMIF(Report!C:C,B225,Report!J:J)","v":0},0,0,{"$f":"COUNTIF(Report!C:C,B225)","v":0}]
[null,null,null,null,null,null,null,{"$f":"SUMIF(Report!C:C,B226,Report!J:J)","v":0},0,0,{"$f":"COUNTIF(Report!C:C,B226)","v":0}]
[null,null,null,null,null,null,null,{"$f":"SUMIF(Report!C:C,B227,Report!J:J)","v":0},0,0,{"$f":"COUNTIF(Report!C:C,B227)","v":0}]
[null,null,null,null,null,null,null,{"$f":"SUMIF(Report!C:C,B228,Report!J:J)","v":0},0,0,{"$f":"COUNTIF(Report!C:C,B228)","v":0}]
[null,null,null,null,null,null,null,{"$f":"SUMIF(Report!C:C,B229,Report!J:J)","v":0},0,0,{"$f":"COUNTIF(Report!C:C,B229)","v":0}]
[null,null,null,null,null,null,null,{"$f":"SUMIF(Report!C:C,B230,Report!J:J)","v":0},0,0,{"$f":"COUNTIF(Report!C:C,B230)","v":0}]
[null,null,null,null,null,null,null,{"$f":"SUMIF(Report!C:C,B231,Report!J:J)","v":0},0,0,{"$f":"COUNTIF(Report!C:C,B231)","v":0}]
[null,null,null,null,null,null,null,{"$f":"SUMIF(Report!C:C,B232,Report!J:J)","v":0},0,0,{"$f":"COUNTIF(Report!C:C,B232)","v":0}]
[null,null,null,null,null,null,null,{"$f":"SUMIF(Report!C:C,B233,Report!J:J)","v":0},0,0,{"$f":"COUNTIF(Report!C:C,B233)","v":0}]
[null,null,null,null,null,null,null,{"$f":"SUMIF(Report!C:C,B234,Report!J:J)","v":0},0,0,{"$f":"COUNTIF(Report!C:C,B234)","v":0}]
[null,null,null,null,null,null,null,{"$f":"SUMIF(Report!C:C,B235,Report!J:J)","v":0},0,0,{"$f":"COUNTIF(Report!C:C,B235)","v":0}]
[null,null,null,null,null,null,null,{"$f":"SUMIF(Report!C:C,B236,Report!J:J)","v":0},0,0,{"$f":"COUNTIF(Report!C:C,B236)","v":0}]
[null,null,null,null,null,null,null,{"$f":"SUMIF(Report!C:C,B237,Report!J:J)","v":0},0,0,{"$f":"COUNTIF(Report!C:C,B237)","v":0}]
[null,null,null,null,null,null,null,{"$f":"SUMIF(Report!C:C,B238,Report!J:J)","v":0},0,0,{"$f":"COUNTIF(Report!C:C,B238)","v":0}]
[null,null,null,null,null,null,null,{"$f":"SUMIF(Report!C:C,B239,Report!J:J)","v":0},0,0,{"$f":"COUNTIF(Report!C:C,B239)","v":0}]
[null,null,null,null,null,null,null,{"$f":"SUMIF(Report!C:C,B240,Report!J:J)","v":0},0,0,{"$f":"COUNTIF(Report!C:C,B240)","v":0}]
[null,null,null,null,null,null,null,{"$f":"SUMIF(Report!C:C,B241,Report!J:J)","v":0},0,0,{"$f":"COUNTIF(Report!C:C,B241)","v":0}]
[null,null,null,null,null,null,null,{"$f":"SUMIF(Report!C:C,B242,Report!J:J)","v":0},0,0,{"$f":"COUNTIF(Report!C:C,B242)","v":0}]
[null,null,null,null,null,null,null,{"$f":"SUMIF(Report!C:C,B243,Report!J:J)","v":0},0,0,{"$f":"COUNTIF(Report!C:C,B243)","v":0}]
[null,null,null,null,null,null,null,{"$f":"SUMIF(Report!C:C,B244,Report!J:J)","v":0},0,0,{"$f":"COUNTIF(Report!C:C,B244)","v":0}]
[null,null,null,null,null,null,null,{"$f":"SUMIF(Report!C:C,B245,Report!J:J)","v":0},0,0,{"$f":"COUNTIF(Report!C:C,B245)","v":0}]
[null,null,null,null,null,null,null,{"$f":"SUMIF(Report!C:C,B246,Report!J:J)","v":0},0,0,{"$f":"COUNTIF(Report!C:C,B246)","v":0}]
[null,null,null,null,null,null,null,{"$f":"SUMIF(Report!C:C,B247,Report!J:J)","v":0},0,0,{"$f":"COUNTIF(Report!C:C,B247)","v":0}]
[null,null,null,null,null,null,null,{"$f":"SUMIF(Report!C:C,B248,Report!J:J)","v":0},0,0,{"$f":"COUNTIF(Report!C:C,B248)","v":0}]
[null,null,null,null,null,null,null,{"$f":"SUMIF(Report!C:C,B249,Report!J:J)","v":0},0,0,{"$f":"COUNTIF(Report!C:C,B249)","v":0}]
[null,null,null,null,null,null,null,{"$f":"SUMIF(Report!C:C,B250,Report!J:J)","v":0},0,0,{"$f":"COUNTIF(Report!C:C,B250)","v":0}]
[null,null,null,null,null,null,null,{"$f":"SUMIF(Report!C:C,B251,Report!J:J)","v":0},0,0,{"$f":"COUNTIF(Report!C:C,B251)","v":0}]
[null,null,null,null,null,null,null,{"$f":"SUMIF(Report!C:C,B252,Report!J:J)","v":0},0,0,{"$f":"COUNTIF(Report!C:C,B252)","v":0}]
[null,null,null,null,null,null,null,{"$f":"SUMIF(Report!C:C,B253,Report!J:J)","v":0},0,0,{"$f":"COUNTIF(Report!C:C,B253)","v":0}]
[null,null,null,null,null,null,null,{"$f":"SUMIF(Report!C:C,B254,Report!J:J)","v":0},0,0,{"$f":"COUNTIF(Report!C:C,B254)","v":0}]
[null,null,null,null,null,null,null,{"$f":"SUMIF(Report!C:C,B255,Report!J:J)","v":0},0,0,{"$f":"COUNTIF(Report!C:C,B255)","v":0}]
[null,null,null,null,null,null,null,{"$f":"SUMIF(Report!C:C,B256,Report!J:J)","v":0},0,0,{"$f":"COUNTIF(Report!C:C,B256)","v":0}]
[null,null,null,null,null,null,null,{"$f":"SUMIF(Report!C:C,B257,Report!J:J)","v":0},0,0,{"$f":"COUNTIF(Report!C:C,B257)","v":0}]
[null,null,null,null,null,null,null,{"$f":"SUMIF(Report!C:C,B258,Report!J:J)","v":0},0,0,{"$f":"COUNTIF(Report!C:C,B258)","v":0}]
[null,null,null,null,null,null,null,{"$f":"SUMIF(Report!C:C,B259,Report!J:J)","v":0},{"$f":"IF($M$1=$L$1,H259*E259,+IF($M$1=$L$2,H259*F259,H259*G259))","v":0},{"$f":"IFERROR(I259/SUM($I$2:$I$2499),0)","v":0},{"$f":"COUNTIF(Report!C:C,B259)","v":0}]
[null,null,null,null,null,null,null,{"$f":"SUMIF(Report!C:C,B260,Report!J:J)","v":0},0,0,{"$f":"COUNTIF(Report!C:C,B260)","v":0}]
[null,null,null,null,null,null,null,{"$f":"SUMIF(Report!C:C,B261,Report!J:J)","v":0},0,0,{"$f":"COUNTIF(Report!C:C,B261)","v":0}]
[null,null,null,null,null,null,null,{"$f":"SUMIF(Report!C:C,B262,Report!J:J)","v":0},0,0,{"$f":"COUNTIF(Report!C:C,B262)","v":0}]
[null,null,null,null,null,null,null,{"$f":"SUMIF(Report!C:C,B263,Report!J:J)","v":0},0,0,{"$f":"COUNTIF(Report!C:C,B263)","v":0}]
[null,null,null,null,null,null,null,{"$f":"SUMIF(Report!C:C,B264,Report!J:J)","v":0},0,0,{"$f":"COUNTIF(Report!C:C,B264)","v":0}]
[null,null,null,null,null,null,null,{"$f":"SUMIF(Report!C:C,B265,Report!J:J)","v":0},0,0,{"$f":"COUNTIF(Report!C:C,B265)","v":0}]
[null,null,null,null,null,null,null,{"$f":"SUMIF(Report!C:C,B266,Report!J:J)","v":0},0,0,{"$f":"COUNTIF(Report!C:C,B266)","v":0}]
[null,null,null,null,null,null,null,{"$f":"SUMIF(Report!C:C,B267,Report!J:J)","v":0},0,0,{"$f":"COUNTIF(Report!C:C,B267)","v":0}]
[null,null,null,null,null,null,null,{"$f":"SUMIF(Report!C:C,B268,Report!J:J)","v":0},0,0,{"$f":"COUNTIF(Report!C:C,B268)","v":0}]
[null,null,null,null,null,null,null,{"$f":"SUMIF(Report!C:C,B269,Report!J:J)","v":0},0,0,{"$f":"COUNTIF(Report!C:C,B269)","v":0}]
[null,null,null,null,null,null,null,{"$f":"SUMIF(Report!C:C,B270,Report!J:J)","v":0},0,0,{"$f":"COUNTIF(Report!C:C,B270)","v":0}]
[null,null,null,null,null,null,null,{"$f":"SUMIF(Report!C:C,B271,Report!J:J)","v":0},0,0,{"$f":"COUNTIF(Report!C:C,B271)","v":0}]
[null,null,null,null,null,null,null,{"$f":"SUMIF(Report!C:C,B272,Report!J:J)","v":0},0,0,{"$f":"COUNTIF(Report!C:C,B272)","v":0}]
[null,null,null,null,null,null,null,{"$f":"SUMIF(Report!C:C,B273,Report!J:J)","v":0},0,0,{"$f":"COUNTIF(Report!C:C,B273)","v":0}]
[null,null,null,null,null,null,null,{"$f":"SUMIF(Report!C:C,B274,Report!J:J)","v":0},0,0,{"$f":"COUNTIF(Report!C:C,B274)","v":0}]
[null,null,null,null,null,null,null,{"$f":"SUMIF(Report!C:C,B275,Report!J:J)","v":0},0,0,{"$f":"COUNTIF(Report!C:C,B275)","v":0}]
[null,null,null,null,null,null,null,{"$f":"SUMIF(Report!C:C,B276,Report!J:J)","v":0},0,0,{"$f":"COUNTIF(Report!C:C,B276)","v":0}]
[null,null,null,null,null,null,null,{"$f":"SUMIF(Report!C:C,B277,Report!J:J)","v":0},0,0,{"$f":"COUNTIF(Report!C:C,B277)","v":0}]
[null,null,null,null,null,null,null,{"$f":"SUMIF(Report!C:C,B278,Report!J:J)","v":0},0,0,{"$f":"COUNTIF(Report!C:C,B278)","v":0}]
[null,null,null,null,null,null,null,{"$f":"SUMIF(Report!C:C,B279,Report!J:J)","v":0},0,0,{"$f":"COUNTIF(Report!C:C,B279)","v":0}]
[null,null,null,null,null,null,null,{"$f":"SUMIF(Report!C:C,B280,Report!J:J)","v":0},0,0,{"$f":"COUNTIF(Report!C:C,B280)","v":0}]
[null,null,null,null,null,null,null,{"$f":"SUMIF(Report!C:C,B281,Report!J:J)","v":0},0,0,{"$f":"COUNTIF(Report!C:C,B281)","v":0}]
[null,null,null,null,null,null,null,{"$f":"SUMIF(Report!C:C,B282,Report!J:J)","v":0},0,0,{"$f":"COUNTIF(Report!C:C,B282)","v":0}]
[null,null,null,null,null,null,null,{"$f":"SUMIF(Report!C:C,B283,Report!J:J)","v":0},0,0,{"$f":"COUNTIF(Report!C:C,B283)","v":0}]
[null,null,null,null,null,null,null,{"$f":"SUMIF(Report!C:C,B284,Report!J:J)","v":0},0,0,{"$f":"COUNTIF(Report!C:C,B284)","v":0}]
[null,null,null,null,null,null,null,{"$f":"SUMIF(Report!C:C,B285,Report!J:J)","v":0},0,0,{"$f":"COUNTIF(Report!C:C,B285)","v":0}]
[null,null,null,null,null,null,null,{"$f":"SUMIF(Report!C:C,B286,Report!J:J)","v":0},0,0,{"$f":"COUNTIF(Report!C:C,B286)","v":0}]
[null,null,null,null,null,null,null,{"$f":"SUMIF(Report!C:C,B287,Report!J:J)","v":0},0,0,{"$f":"COUNTIF(Report!C:C,B287)","v":0}]
[null,null,null,null,null,null,null,{"$f":"SUMIF(Report!C:C,B288,Report!J:J)","v":0},0,0,{"$f":"COUNTIF(Report!C:C,B288)","v":0}]
[null,null,null,null,null,null,null,{"$f":"SUMIF(Report!C:C,B289,Report!J:J)","v":0},0,0,{"$f":"COUNTIF(Report!C:C,B289)","v":0}]
[null,null,null,null,null,null,null,{"$f":"SUMIF(Report!C:C,B290,Report!J:J)","v":0},0,0,{"$f":"COUNTIF(Report!C:C,B290)","v":0}]
[null,null,null,null,null,null,null,{"$f":"SUMIF(Report!C:C,B291,Report!J:J)","v":0},0,0,{"$f":"COUNTIF(Report!C:C,B291)","v":0}]
[null,null,null,null,null,null,null,{"$f":"SUMIF(Report!C:C,B292,Report!J:J)","v":0},0,0,{"$f":"COUNTIF(Report!C:C,B292)","v":0}]
[null,null,null,null,null,null,null,{"$f":"SUMIF(Report!C:C,B293,Report!J:J)","v":0},0,0,{"$f":"COUNTIF(Report!C:C,B293)","v":0}]
[null,null,null,null,null,null,null,{"$f":"SUMIF(Report!C:C,B294,Report!J:J)","v":0},0,0,{"$f":"COUNTIF(Report!C:C,B294)","v":0}]
[null,null,null,null,null,null,null,{"$f":"SUMIF(Report!C:C,B295,Report!J:J)","v":0},0,0,{"$f":"COUNTIF(Report!C:C,B295)","v":0}]
[null,null,null,null,null,null,null,{"$f":"SUMIF(Report!C:C,B296,Report!J:J)","v":0},0,0,{"$f":"COUNTIF(Report!C:C,B296)","v":0}]
[null,null,null,null,null,null,null,{"$f":"SUMIF(Report!C:C,B297,Report!J:J)","v":0},0,0,{"$f":"COUNTIF(Report!C:C,B297)","v":0}]
[null,null,null,null,null,null,null,{"$f":"SUMIF(Report!C:C,B298,Report!J:J)","v":0},0,0,{"$f":"COUNTIF(Report!C:C,B298)","v":0}]
[null,null,null,null,null,null,null,{"$f":"SUMIF(Report!C:C,B299,Report!J:J)","v":0},0,0,{"$f":"COUNTIF(Report!C:C,B299)","v":0}]
[null,null,null,null,null,null,null,{"$f":"SUMIF(Report!C:C,B300,Report!J:J)","v":0},0,0,{"$f":"COUNTIF(Report!C:C,B300)","v":0}]
[null,null,null,null,null,null,null,{"$f":"SUMIF(Report!C:C,B301,Report!J:J)","v":0},0,0,{"$f":"COUNTIF(Report!C:C,B301)","v":0}]
[null,null,null,null,null,null,null,{"$f":"SUMIF(Report!C:C,B302,Report!J:J)","v":0},0,0,{"$f":"COUNTIF(Report!C:C,B302)","v":0}]
[null,null,null,null,null,null,null,{"$f":"SUMIF(Report!C:C,B303,Report!J:J)","v":0},0,0,{"$f":"COUNTIF(Report!C:C,B303)","v":0}]
[null,null,null,null,null,null,null,{"$f":"SUMIF(Report!C:C,B304,Report!J:J)","v":0},0,0,{"$f":"COUNTIF(Report!C:C,B304)","v":0}]
[null,null,null,null,null,null,null,{"$f":"SUMIF(Report!C:C,B305,Report!J:J)","v":0},0,0,{"$f":"COUNTIF(Report!C:C,B305)","v":0}]
[null,null,null,null,null,null,null,{"$f":"SUMIF(Report!C:C,B306,Report!J:J)","v":0},0,0,{"$f":"COUNTIF(Report!C:C,B306)","v":0}]
[null,null,null,null,null,null,null,{"$f":"SUMIF(Report!C:C,B307,Report!J:J)","v":0},0,0,{"$f":"COUNTIF(Report!C:C,B307)","v":0}]
[null,null,null,null,null,null,null,{"$f":"SUMIF(Report!C:C,B308,Report!J:J)","v":0},0,0,{"$f":"COUNTIF(Report!C:C,B308)","v":0}]
[null,null,null,null,null,null,null,{"$f":"SUMIF(Report!C:C,B309,Report!J:J)","v":0},0,0,{"$f":"COUNTIF(Report!C:C,B309)","v":0}]
[null,null,null,null,null,null,null,{"$f":"SUMIF(Report!C:C,B310,Report!J:J)","v":0},0,0,{"$f":"COUNTIF(Report!C:C,B310)","v":0}]
[null,null,null,null,null,null,null,{"$f":"SUMIF(Report!C:C,B311,Report!J:J)","v":0},0,0,{"$f":"COUNTIF(Report!C:C,B311)","v":0}]
[null,null,null,null,null,null,null,{"$f":"SUMIF(Report!C:C,B312,Report!J:J)","v":0},0,0,{"$f":"COUNTIF(Report!C:C,B312)","v":0}]
[null,null,null,null,null,null,null,{"$f":"SUMIF(Report!C:C,B313,Report!J:J)","v":0},0,0,{"$f":"COUNTIF(Report!C:C,B313)","v":0}]
[null,null,null,null,null,null,null,{"$f":"SUMIF(Report!C:C,B314,Report!J:J)","v":0},0,0,{"$f":"COUNTIF(Report!C:C,B314)","v":0}]
[null,null,null,null,null,null,null,{"$f":"SUMIF(Report!C:C,B315,Report!J:J)","v":0},0,0,{"$f":"COUNTIF(Report!C:C,B315)","v":0}]
[null,null,null,null,null,null,null,{"$f":"SUMIF(Report!C:C,B316,Report!J:J)","v":0},0,0,{"$f":"COUNTIF(Report!C:C,B316)","v":0}]
[null,null,null,null,null,null,null,{"$f":"SUMIF(Report!C:C,B317,Report!J:J)","v":0},0,0,{"$f":"COUNTIF(Report!C:C,B317)","v":0}]
[null,null,null,null,null,null,null,{"$f":"SUMIF(Report!C:C,B318,Report!J:J)","v":0},0,0,{"$f":"COUNTIF(Report!C:C,B318)","v":0}]
[null,null,null,null,null,null,null,{"$f":"SUMIF(Report!C:C,B319,Report!J:J)","v":0},0,0,{"$f":"COUNTIF(Report!C:C,B319)","v":0}]
[null,null,null,null,null,null,null,{"$f":"SUMIF(Report!C:C,B320,Report!J:J)","v":0},0,0,{"$f":"COUNTIF(Report!C:C,B320)","v":0}]
[null,null,null,null,null,null,null,{"$f":"SUMIF(Report!C:C,B321,Report!J:J)","v":0},0,0,{"$f":"COUNTIF(Report!C:C,B321)","v":0}]
[null,null,null,null,null,null,null,{"$f":"SUMIF(Report!C:C,B322,Report!J:J)","v":0},0,0,{"$f":"COUNTIF(Report!C:C,B322)","v":0}]
[null,null,null,null,null,null,null,{"$f":"SUMIF(Report!C:C,B323,Report!J:J)","v":0},{"$f":"IF($M$1=$L$1,H323*E323,+IF($M$1=$L$2,H323*F323,H323*G323))","v":0},{"$f":"IFERROR(I323/SUM($I$2:$I$2499),0)","v":0},{"$f":"COUNTIF(Report!C:C,B323)","v":0}]
[null,null,null,null,null,null,null,{"$f":"SUMIF(Report!C:C,B324,Report!J:J)","v":0},0,0,{"$f":"COUNTIF(Report!C:C,B324)","v":0}]
[null,null,null,null,null,null,null,{"$f":"SUMIF(Report!C:C,B325,Report!J:J)","v":0},0,0,{"$f":"COUNTIF(Report!C:C,B325)","v":0}]
[null,null,null,null,null,null,null,{"$f":"SUMIF(Report!C:C,B326,Report!J:J)","v":0},0,0,{"$f":"COUNTIF(Report!C:C,B326)","v":0}]
[null,null,null,null,null,null,null,{"$f":"SUMIF(Report!C:C,B327,Report!J:J)","v":0},0,0,{"$f":"COUNTIF(Report!C:C,B327)","v":0}]
[null,null,null,null,null,null,null,{"$f":"SUMIF(Report!C:C,B328,Report!J:J)","v":0},0,0,{"$f":"COUNTIF(Report!C:C,B328)","v":0}]
[null,null,null,null,null,null,null,{"$f":"SUMIF(Report!C:C,B329,Report!J:J)","v":0},0,0,{"$f":"COUNTIF(Report!C:C,B329)","v":0}]
[null,null,null,null,null,null,null,{"$f":"SUMIF(Report!C:C,B330,Report!J:J)","v":0},0,0,{"$f":"COUNTIF(Report!C:C,B330)","v":0}]
[null,null,null,null,null,null,null,{"$f":"SUMIF(Report!C:C,B331,Report!J:J)","v":0},0,0,{"$f":"COUNTIF(Report!C:C,B331)","v":0}]
[null,null,null,null,null,null,null,{"$f":"SUMIF(Report!C:C,B332,Report!J:J)","v":0},0,0,{"$f":"COUNTIF(Report!C:C,B332)","v":0}]
[null,null,null,null,null,null,null,{"$f":"SUMIF(Report!C:C,B333,Report!J:J)","v":0},0,0,{"$f":"COUNTIF(Report!C:C,B333)","v":0}]
[null,null,null,null,null,null,null,{"$f":"SUMIF(Report!C:C,B334,Report!J:J)","v":0},0,0,{"$f":"COUNTIF(Report!C:C,B334)","v":0}]
[null,null,null,null,null,null,null,{"$f":"SUMIF(Report!C:C,B335,Report!J:J)","v":0},0,0,{"$f":"COUNTIF(Report!C:C,B335)","v":0}]
[null,null,null,null,null,null,null,{"$f":"SUMIF(Report!C:C,B336,Report!J:J)","v":0},0,0,{"$f":"COUNTIF(Report!C:C,B336)","v":0}]
[null,null,null,null,null,null,null,{"$f":"SUMIF(Report!C:C,B337,Report!J:J)","v":0},0,0,{"$f":"COUNTIF(Report!C:C,B337)","v":0}]
[null,null,null,null,null,null,null,{"$f":"SUMIF(Report!C:C,B338,Report!J:J)","v":0},0,0,{"$f":"COUNTIF(Report!C:C,B338)","v":0}]
[null,null,null,null,null,null,null,{"$f":"SUMIF(Report!C:C,B339,Report!J:J)","v":0},0,0,{"$f":"COUNTIF(Report!C:C,B339)","v":0}]
[null,null,null,null,null,null,null,{"$f":"SUMIF(Report!C:C,B340,Report!J:J)","v":0},0,0,{"$f":"COUNTIF(Report!C:C,B340)","v":0}]
[null,null,null,null,null,null,null,{"$f":"SUMIF(Report!C:C,B341,Report!J:J)","v":0},0,0,{"$f":"COUNTIF(Report!C:C,B341)","v":0}]
[null,null,null,null,null,null,null,{"$f":"SUMIF(Report!C:C,B342,Report!J:J)","v":0},0,0,{"$f":"COUNTIF(Report!C:C,B342)","v":0}]
[null,null,null,null,null,null,null,{"$f":"SUMIF(Report!C:C,B343,Report!J:J)","v":0},0,0,{"$f":"COUNTIF(Report!C:C,B343)","v":0}]
[null,null,null,null,null,null,null,{"$f":"SUMIF(Report!C:C,B344,Report!J:J)","v":0},0,0,{"$f":"COUNTIF(Report!C:C,B344)","v":0}]
[null,null,null,null,null,null,null,{"$f":"SUMIF(Report!C:C,B345,Report!J:J)","v":0},0,0,{"$f":"COUNTIF(Report!C:C,B345)","v":0}]
[null,null,null,null,null,null,null,{"$f":"SUMIF(Report!C:C,B346,Report!J:J)","v":0},0,0,{"$f":"COUNTIF(Report!C:C,B346)","v":0}]
[null,null,null,null,null,null,null,{"$f":"SUMIF(Report!C:C,B347,Report!J:J)","v":0},0,0,{"$f":"COUNTIF(Report!C:C,B347)","v":0}]
[null,null,null,null,null,null,null,{"$f":"SUMIF(Report!C:C,B348,Report!J:J)","v":0},0,0,{"$f":"COUNTIF(Report!C:C,B348)","v":0}]
[null,null,null,null,null,null,null,{"$f":"SUMIF(Report!C:C,B349,Report!J:J)","v":0},0,0,{"$f":"COUNTIF(Report!C:C,B349)","v":0}]
[null,null,null,null,null,null,null,{"$f":"SUMIF(Report!C:C,B350,Report!J:J)","v":0},0,0,{"$f":"COUNTIF(Report!C:C,B350)","v":0}]
[null,null,null,null,null,null,null,{"$f":"SUMIF(Report!C:C,B351,Report!J:J)","v":0},0,0,{"$f":"COUNTIF(Report!C:C,B351)","v":0}]
[null,null,null,null,null,null,null,{"$f":"SUMIF(Report!C:C,B352,Report!J:J)","v":0},0,0,{"$f":"COUNTIF(Report!C:C,B352)","v":0}]
[null,null,null,null,null,null,null,{"$f":"SUMIF(Report!C:C,B353,Report!J:J)","v":0},0,0,{"$f":"COUNTIF(Report!C:C,B353)","v":0}]
[null,null,null,null,null,null,null,{"$f":"SUMIF(Report!C:C,B354,Report!J:J)","v":0},0,0,{"$f":"COUNTIF(Report!C:C,B354)","v":0}]
[null,null,null,null,null,null,null,{"$f":"SUMIF(Report!C:C,B355,Report!J:J)","v":0},0,0,{"$f":"COUNTIF(Report!C:C,B355)","v":0}]
[null,null,null,null,null,null,null,{"$f":"SUMIF(Report!C:C,B356,Report!J:J)","v":0},0,0,{"$f":"COUNTIF(Report!C:C,B356)","v":0}]
[null,null,null,null,null,null,null,{"$f":"SUMIF(Report!C:C,B357,Report!J:J)","v":0},0,0,{"$f":"COUNTIF(Report!C:C,B357)","v":0}]
[null,null,null,null,null,null,null,{"$f":"SUMIF(Report!C:C,B358,Report!J:J)","v":0},0,0,{"$f":"COUNTIF(Report!C:C,B358)","v":0}]
[null,null,null,null,null,null,null,{"$f":"SUMIF(Report!C:C,B359,Report!J:J)","v":0},0,0,{"$f":"COUNTIF(Report!C:C,B359)","v":0}]
[null,null,null,null,null,null,null,{"$f":"SUMIF(Report!C:C,B360,Report!J:J)","v":0},0,0,{"$f":"COUNTIF(Report!C:C,B360)","v":0}]
[null,null,null,null,null,null,null,{"$f":"SUMIF(Report!C:C,B361,Report!J:J)","v":0},0,0,{"$f":"COUNTIF(Report!C:C,B361)","v":0}]
[null,null,null,null,null,null,null,{"$f":"SUMIF(Report!C:C,B362,Report!J:J)","v":0},0,0,{"$f":"COUNTIF(Report!C:C,B362)","v":0}]
[null,null,null,null,null,null,null,{"$f":"SUMIF(Report!C:C,B363,Report!J:J)","v":0},0,0,{"$f":"COUNTIF(Report!C:C,B363)","v":0}]
[null,null,null,null,null,null,null,{"$f":"SUMIF(Report!C:C,B364,Report!J:J)","v":0},0,0,{"$f":"COUNTIF(Report!C:C,B364)","v":0}]
[null,null,null,null,null,null,null,{"$f":"SUMIF(Report!C:C,B365,Report!J:J)","v":0},0,0,{"$f":"COUNTIF(Report!C:C,B365)","v":0}]
[null,null,null,null,null,null,null,{"$f":"SUMIF(Report!C:C,B366,Report!J:J)","v":0},0,0,{"$f":"COUNTIF(Report!C:C,B366)","v":0}]
[null,null,null,null,null,null,null,{"$f":"SUMIF(Report!C:C,B367,Report!J:J)","v":0},0,0,{"$f":"COUNTIF(Report!C:C,B367)","v":0}]
[null,null,null,null,null,null,null,{"$f":"SUMIF(Report!C:C,B368,Report!J:J)","v":0},0,0,{"$f":"COUNTIF(Report!C:C,B368)","v":0}]
[null,null,null,null,null,null,null,{"$f":"SUMIF(Report!C:C,B369,Report!J:J)","v":0},0,0,{"$f":"COUNTIF(Report!C:C,B369)","v":0}]
[null,null,null,null,null,null,null,{"$f":"SUMIF(Report!C:C,B370,Report!J:J)","v":0},0,0,{"$f":"COUNTIF(Report!C:C,B370)","v":0}]
[null,null,null,null,null,null,null,{"$f":"SUMIF(Report!C:C,B371,Report!J:J)","v":0},0,0,{"$f":"COUNTIF(Report!C:C,B371)","v":0}]
[null,null,null,null,null,null,null,{"$f":"SUMIF(Report!C:C,B372,Report!J:J)","v":0},0,0,{"$f":"COUNTIF(Report!C:C,B372)","v":0}]
[null,null,null,null,null,null,null,{"$f":"SUMIF(Report!C:C,B373,Report!J:J)","v":0},0,0,{"$f":"COUNTIF(Report!C:C,B373)","v":0}]
[null,null,null,null,null,null,null,{"$f":"SUMIF(Report!C:C,B374,Report!J:J)","v":0},0,0,{"$f":"COUNTIF(Report!C:C,B374)","v":0}]
[null,null,null,null,null,null,null,{"$f":"SUMIF(Report!C:C,B375,Report!J:J)","v":0},0,0,{"$f":"COUNTIF(Report!C:C,B375)","v":0}]
[null,null,null,null,null,null,null,{"$f":"SUMIF(Report!C:C,B376,Report!J:J)","v":0},0,0,{"$f":"COUNTIF(Report!C:C,B376)","v":0}]
[null,null,null,null,null,null,null,{"$f":"SUMIF(Report!C:C,B377,Report!J:J)","v":0},0,0,{"$f":"COUNTIF(Report!C:C,B377)","v":0}]
[null,null,null,null,null,null,null,{"$f":"SUMIF(Report!C:C,B378,Report!J:J)","v":0},0,0,{"$f":"COUNTIF(Report!C:C,B378)","v":0}]
[null,null,null,null,null,null,null,{"$f":"SUMIF(Report!C:C,B379,Report!J:J)","v":0},0,0,{"$f":"COUNTIF(Report!C:C,B379)","v":0}]
[null,null,null,null,null,null,null,{"$f":"SUMIF(Report!C:C,B380,Report!J:J)","v":0},0,0,{"$f":"COUNTIF(Report!C:C,B380)","v":0}]
[null,null,null,null,null,null,null,{"$f":"SUMIF(Report!C:C,B381,Report!J:J)","v":0},0,0,{"$f":"COUNTIF(Report!C:C,B381)","v":0}]
[null,null,null,null,null,null,null,{"$f":"SUMIF(Report!C:C,B382,Report!J:J)","v":0},0,0,{"$f":"COUNTIF(Report!C:C,B382)","v":0}]
[null,null,null,null,null,null,null,{"$f":"SUMIF(Report!C:C,B383,Report!J:J)","v":0},0,0,{"$f":"COUNTIF(Report!C:C,B383)","v":0}]
[null,null,null,null,null,null,null,{"$f":"SUMIF(Report!C:C,B384,Report!J:J)","v":0},0,0,{"$f":"COUNTIF(Report!C:C,B384)","v":0}]
[null,null,null,null,null,null,null,{"$f":"SUMIF(Report!C:C,B385,Report!J:J)","v":0},0,0,{"$f":"COUNTIF(Report!C:C,B385)","v":0}]
[null,null,null,null,null,null,null,{"$f":"SUMIF(Report!C:C,B386,Report!J:J)","v":0},0,0,{"$f":"COUNTIF(Report!C:C,B386)","v":0}]
[null,null,null,null,null,null,null,{"$f":"SUMIF(Report!C:C,B387,Report!J:J)","v":0},{"$f":"IF($M$1=$L$1,H387*E387,+IF($M$1=$L$2,H387*F387,H387*G387))","v":0},{"$f":"IFERROR(I387/SUM($I$2:$I$2499),0)","v":0},{"$f":"COUNTIF(Report!C:C,B387)","v":0}]
[null,null,null,null,null,null,null,{"$f":"SUMIF(Report!C:C,B388,Report!J:J)","v":0},0,0,{"$f":"COUNTIF(Report!C:C,B388)","v":0}]
[null,null,null,null,null,null,null,{"$f":"SUMIF(Report!C:C,B389,Report!J:J)","v":0},0,0,{"$f":"COUNTIF(Report!C:C,B389)","v":0}]
[null,null,null,null,null,null,null,{"$f":"SUMIF(Report!C:C,B390,Report!J:J)","v":0},0,0,{"$f":"COUNTIF(Report!C:C,B390)","v":0}]
[null,null,null,null,null,null,null,{"$f":"SUMIF(Report!C:C,B391,Report!J:J)","v":0},0,0,{"$f":"COUNTIF(Report!C:C,B391)","v":0}]
[null,null,null,null,null,null,null,{"$f":"SUMIF(Report!C:C,B392,Report!J:J)","v":0},0,0,{"$f":"COUNTIF(Report!C:C,B392)","v":0}]
[null,null,null,null,null,null,null,{"$f":"SUMIF(Report!C:C,B393,Report!J:J)","v":0},0,0,{"$f":"COUNTIF(Report!C:C,B393)","v":0}]
[null,null,null,null,null,null,null,{"$f":"SUMIF(Report!C:C,B394,Report!J:J)","v":0},0,0,{"$f":"COUNTIF(Report!C:C,B394)","v":0}]
[null,null,null,null,null,null,null,{"$f":"SUMIF(Report!C:C,B395,Report!J:J)","v":0},0,0,{"$f":"COUNTIF(Report!C:C,B395)","v":0}]
[null,null,null,null,null,null,null,{"$f":"SUMIF(Report!C:C,B396,Report!J:J)","v":0},0,0,{"$f":"COUNTIF(Report!C:C,B396)","v":0}]
[null,null,null,null,null,null,null,{"$f":"SUMIF(Report!C:C,B397,Report!J:J)","v":0},0,0,{"$f":"COUNTIF(Report!C:C,B397)","v":0}]
[null,null,null,null,null,null,null,{"$f":"SUMIF(Report!C:C,B398,Report!J:J)","v":0},0,0,{"$f":"COUNTIF(Report!C:C,B398)","v":0}]
[null,null,null,null,null,null,null,{"$f":"SUMIF(Report!C:C,B399,Report!J:J)","v":0},0,0,{"$f":"COUNTIF(Report!C:C,B399)","v":0}]
[null,null,null,null,null,null,null,{"$f":"SUMIF(Report!C:C,B400,Report!J:J)","v":0},0,0,{"$f":"COUNTIF(Report!C:C,B400)","v":0}]
[null,null,null,null,null,null,null,{"$f":"SUMIF(Report!C:C,B401,Report!J:J)","v":0},0,0,{"$f":"COUNTIF(Report!C:C,B401)","v":0}]
[null,null,null,null,null,null,null,{"$f":"SUMIF(Report!C:C,B402,Report!J:J)","v":0},0,0,{"$f":"COUNTIF(Report!C:C,B402)","v":0}]
[null,null,null,null,null,null,null,{"$f":"SUMIF(Report!C:C,B403,Report!J:J)","v":0},0,0,{"$f":"COUNTIF(Report!C:C,B403)","v":0}]
[null,null,null,null,null,null,null,{"$f":"SUMIF(Report!C:C,B404,Report!J:J)","v":0},0,0,{"$f":"COUNTIF(Report!C:C,B404)","v":0}]
[null,null,null,null,null,null,null,{"$f":"SUMIF(Report!C:C,B405,Report!J:J)","v":0},0,0,{"$f":"COUNTIF(Report!C:C,B405)","v":0}]
[null,null,null,null,null,null,null,{"$f":"SUMIF(Report!C:C,B406,Report!J:J)","v":0},0,0,{"$f":"COUNTIF(Report!C:C,B406)","v":0}]
[null,null,null,null,null,null,null,{"$f":"SUMIF(Report!C:C,B407,Report!J:J)","v":0},0,0,{"$f":"COUNTIF(Report!C:C,B407)","v":0}]
[null,null,null,null,null,null,null,{"$f":"SUMIF(Report!C:C,B408,Report!J:J)","v":0},0,0,{"$f":"COUNTIF(Report!C:C,B408)","v":0}]
[null,null,null,null,null,null,null,{"$f":"SUMIF(Report!C:C,B409,Report!J:J)","v":0},0,0,{"$f":"COUNTIF(Report!C:C,B409)","v":0}]
[null,null,null,null,null,null,null,{"$f":"SUMIF(Report!C:C,B410,Report!J:J)","v":0},0,0,{"$f":"COUNTIF(Report!C:C,B410)","v":0}]
[null,null,null,null,null,null,null,{"$f":"SUMIF(Report!C:C,B411,Report!J:J)","v":0},0,0,{"$f":"COUNTIF(Report!C:C,B411)","v":0}]
[null,null,null,null,null,null,null,{"$f":"SUMIF(Report!C:C,B412,Report!J:J)","v":0},0,0,{"$f":"COUNTIF(Report!C:C,B412)","v":0}]
[null,null,null,null,null,null,null,{"$f":"SUMIF(Report!C:C,B413,Report!J:J)","v":0},0,0,{"$f":"COUNTIF(Report!C:C,B413)","v":0}]
[null,null,null,null,null,null,null,{"$f":"SUMIF(Report!C:C,B414,Report!J:J)","v":0},0,0,{"$f":"COUNTIF(Report!C:C,B414)","v":0}]
[null,null,null,null,null,null,null,{"$f":"SUMIF(Report!C:C,B415,Report!J:J)","v":0},0,0,{"$f":"COUNTIF(Report!C:C,B415)","v":0}]
[null,null,null,null,null,null,null,{"$f":"SUMIF(Report!C:C,B416,Report!J:J)","v":0},0,0,{"$f":"COUNTIF(Report!C:C,B416)","v":0}]
[null,null,null,null,null,null,null,{"$f":"SUMIF(Report!C:C,B417,Report!J:J)","v":0},0,0,{"$f":"COUNTIF(Report!C:C,B417)","v":0}]
[null,null,null,null,null,null,null,{"$f":"SUMIF(Report!C:C,B418,Report!J:J)","v":0},0,0,{"$f":"COUNTIF(Report!C:C,B418)","v":0}]
[null,null,null,null,null,null,null,{"$f":"SUMIF(Report!C:C,B419,Report!J:J)","v":0},0,0,{"$f":"COUNTIF(Report!C:C,B419)","v":0}]
[null,null,null,null,null,null,null,{"$f":"SUMIF(Report!C:C,B420,Report!J:J)","v":0},0,0,{"$f":"COUNTIF(Report!C:C,B420)","v":0}]
[null,null,null,null,null,null,null,{"$f":"SUMIF(Report!C:C,B421,Report!J:J)","v":0},0,0,{"$f":"COUNTIF(Report!C:C,B421)","v":0}]
[null,null,null,null,null,null,null,{"$f":"SUMIF(Report!C:C,B422,Report!J:J)","v":0},0,0,{"$f":"COUNTIF(Report!C:C,B422)","v":0}]
[null,null,null,null,null,null,null,{"$f":"SUMIF(Report!C:C,B423,Report!J:J)","v":0},0,0,{"$f":"COUNTIF(Report!C:C,B423)","v":0}]
[null,null,null,null,null,null,null,{"$f":"SUMIF(Report!C:C,B424,Report!J:J)","v":0},0,0,{"$f":"COUNTIF(Report!C:C,B424)","v":0}]
[null,null,null,null,null,null,null,{"$f":"SUMIF(Report!C:C,B425,Report!J:J)","v":0},0,0,{"$f":"COUNTIF(Report!C:C,B425)","v":0}]
[null,null,null,null,null,null,null,{"$f":"SUMIF(Report!C:C,B426,Report!J:J)","v":0},0,0,{"$f":"COUNTIF(Report!C:C,B426)","v":0}]
[null,null,null,null,null,null,null,{"$f":"SUMIF(Report!C:C,B427,Report!J:J)","v":0},0,0,{"$f":"COUNTIF(Report!C:C,B427)","v":0}]
[null,null,null,null,null,null,null,{"$f":"SUMIF(Report!C:C,B428,Report!J:J)","v":0},0,0,{"$f":"COUNTIF(Report!C:C,B428)","v":0}]
[null,null,null,null,null,null,null,{"$f":"SUMIF(Report!C:C,B429,Report!J:J)","v":0},0,0,{"$f":"COUNTIF(Report!C:C,B429)","v":0}]
[null,null,null,null,null,null,null,{"$f":"SUMIF(Report!C:C,B430,Report!J:J)","v":0},0,0,{"$f":"COUNTIF(Report!C:C,B430)","v":0}]
[null,null,null,null,null,null,null,{"$f":"SUMIF(Report!C:C,B431,Report!J:J)","v":0},0,0,{"$f":"COUNTIF(Report!C:C,B431)","v":0}]
[null,null,null,null,null,null,null,{"$f":"SUMIF(Report!C:C,B432,Report!J:J)","v":0},0,0,{"$f":"COUNTIF(Report!C:C,B432)","v":0}]
[null,null,null,null,null,null,null,{"$f":"SUMIF(Report!C:C,B433,Report!J:J)","v":0},0,0,{"$f":"COUNTIF(Report!C:C,B433)","v":0}]
[null,null,null,null,null,null,null,{"$f":"SUMIF(Report!C:C,B434,Report!J:J)","v":0},0,0,{"$f":"COUNTIF(Report!C:C,B434)","v":0}]
[null,null,null,null,null,null,null,{"$f":"SUMIF(Report!C:C,B435,Report!J:J)","v":0},0,0,{"$f":"COUNTIF(Report!C:C,B435)","v":0}]
[null,null,null,null,null,null,null,{"$f":"SUMIF(Report!C:C,B436,Report!J:J)","v":0},0,0,{"$f":"COUNTIF(Report!C:C,B436)","v":0}]
[null,null,null,null,null,null,null,{"$f":"SUMIF(Report!C:C,B437,Report!J:J)","v":0},0,0,{"$f":"COUNTIF(Report!C:C,B437)","v":0}]
[null,null,null,null,null,null,null,{"$f":"SUMIF(Report!C:C,B438,Report!J:J)","v":0},0,0,{"$f":"COUNTIF(Report!C:C,B438)","v":0}]
[null,null,null,null,null,null,null,{"$f":"SUMIF(Report!C:C,B439,Report!J:J)","v":0},0,0,{"$f":"COUNTIF(Report!C:C,B439)","v":0}]
[null,null,null,null,null,null,null,{"$f":"SUMIF(Report!C:C,B440,Report!J:J)","v":0},0,0,{"$f":"COUNTIF(Report!C:C,B440)","v":0}]
[null,null,null,null,null,null,null,{"$f":"SUMIF(Report!C:C,B441,Report!J:J)","v":0},0,0,{"$f":"COUNTIF(Report!C:C,B441)","v":0}]
[null,null,null,null,null,null,null,{"$f":"SUMIF(Report!C:C,B442,Report!J:J)","v":0},0,0,{"$f":"COUNTIF(Report!C:C,B442)","v":0}]
[null,null,null,null,null,null,null,{"$f":"SUMIF(Report!C:C,B443,Report!J:J)","v":0},0,0,{"$f":"COUNTIF(Report!C:C,B443)","v":0}]
[null,null,null,null,null,null,null,{"$f":"SUMIF(Report!C:C,B444,Report!J:J)","v":0},0,0,{"$f":"COUNTIF(Report!C:C,B444)","v":0}]
[null,null,null,null,null,null,null,{"$f":"SUMIF(Report!C:C,B445,Report!J:J)","v":0},0,0,{"$f":"COUNTIF(Report!C:C,B445)","v":0}]
[null,null,null,null,null,null,null,{"$f":"SUMIF(Report!C:C,B446,Report!J:J)","v":0},0,0,{"$f":"COUNTIF(Report!C:C,B446)","v":0}]
[null,null,null,null,null,null,null,{"$f":"SUMIF(Report!C:C,B447,Report!J:J)","v":0},0,0,{"$f":"COUNTIF(Report!C:C,B447)","v":0}]
[null,null,null,null,null,null,null,{"$f":"SUMIF(Report!C:C,B448,Report!J:J)","v":0},0,0,{"$f":"COUNTIF(Report!C:C,B448)","v":0}]
[null,null,null,null,null,null,null,{"$f":"SUMIF(Report!C:C,B449,Report!J:J)","v":0},0,0,{"$f":"COUNTIF(Report!C:C,B449)","v":0}]
[null,null,null,null,null,null,null,{"$f":"SUMIF(Report!C:C,B450,Report!J:J)","v":0},0,0,{"$f":"COUNTIF(Report!C:C,B450)","v":0}]
[null,null,null,null,null,null,null,{"$f":"SUMIF(Report!C:C,B451,Report!J:J)","v":0},{"$f":"IF($M$1=$L$1,H451*E451,+IF($M$1=$L$2,H451*F451,H451*G451))","v":0},{"$f":"IFERROR(I451/SUM($I$2:$I$2499),0)","v":0},{"$f":"COUNTIF(Report!C:C,B451)","v":0}]
[null,null,null,null,null,null,null,{"$f":"SUMIF(Report!C:C,B452,Report!J:J)","v":0},0,0,{"$f":"COUNTIF(Report!C:C,B452)","v":0}]
[null,null,null,null,null,null,null,{"$f":"SUMIF(Report!C:C,B453,Report!J:J)","v":0},0,0,{"$f":"COUNTIF(Report!C:C,B453)","v":0}]
[null,null,null,null,null,null,null,{"$f":"SUMIF(Report!C:C,B454,Report!J:J)","v":0},0,0,{"$f":"COUNTIF(Report!C:C,B454)","v":0}]
[null,null,null,null,null,null,null,{"$f":"SUMIF(Report!C:C,B455,Report!J:J)","v":0},0,0,{"$f":"COUNTIF(Report!C:C,B455)","v":0}]
[null,null,null,null,null,null,null,{"$f":"SUMIF(Report!C:C,B456,Report!J:J)","v":0},0,0,{"$f":"COUNTIF(Report!C:C,B456)","v":0}]
[null,null,null,null,null,null,null,{"$f":"SUMIF(Report!C:C,B457,Report!J:J)","v":0},0,0,{"$f":"COUNTIF(Report!C:C,B457)","v":0}]
[null,null,null,null,null,null,null,{"$f":"SUMIF(Report!C:C,B458,Report!J:J)","v":0},0,0,{"$f":"COUNTIF(Report!C:C,B458)","v":0}]
[null,null,null,null,null,null,null,{"$f":"SUMIF(Report!C:C,B459,Report!J:J)","v":0},0,0,{"$f":"COUNTIF(Report!C:C,B459)","v":0}]
[null,null,null,null,null,null,null,{"$f":"SUMIF(Report!C:C,B460,Report!J:J)","v":0},0,0,{"$f":"COUNTIF(Report!C:C,B460)","v":0}]
[null,null,null,null,null,null,null,{"$f":"SUMIF(Report!C:C,B461,Report!J:J)","v":0},0,0,{"$f":"COUNTIF(Report!C:C,B461)","v":0}]
[null,null,null,null,null,null,null,{"$f":"SUMIF(Report!C:C,B462,Report!J:J)","v":0},0,0,{"$f":"COUNTIF(Report!C:C,B462)","v":0}]
[null,null,null,null,null,null,null,{"$f":"SUMIF(Report!C:C,B463,Report!J:J)","v":0},0,0,{"$f":"COUNTIF(Report!C:C,B463)","v":0}]
[null,null,null,null,null,null,null,{"$f":"SUMIF(Report!C:C,B464,Report!J:J)","v":0},0,0,{"$f":"COUNTIF(Report!C:C,B464)","v":0}]
[null,null,null,null,null,null,null,{"$f":"SUMIF(Report!C:C,B465,Report!J:J)","v":0},0,0,{"$f":"COUNTIF(Report!C:C,B465)","v":0}]
[null,null,null,null,null,null,null,{"$f":"SUMIF(Report!C:C,B466,Report!J:J)","v":0},0,0,{"$f":"COUNTIF(Report!C:C,B466)","v":0}]
[null,null,null,null,null,null,null,{"$f":"SUMIF(Report!C:C,B467,Report!J:J)","v":0},0,0,{"$f":"COUNTIF(Report!C:C,B467)","v":0}]
[null,null,null,null,null,null,null,{"$f":"SUMIF(Report!C:C,B468,Report!J:J)","v":0},0,0,{"$f":"COUNTIF(Report!C:C,B468)","v":0}]
[null,null,null,null,null,null,null,{"$f":"SUMIF(Report!C:C,B469,Report!J:J)","v":0},0,0,{"$f":"COUNTIF(Report!C:C,B469)","v":0}]
[null,null,null,null,null,null,null,{"$f":"SUMIF(Report!C:C,B470,Report!J:J)","v":0},0,0,{"$f":"COUNTIF(Report!C:C,B470)","v":0}]
[null,null,null,null,null,null,null,{"$f":"SUMIF(Report!C:C,B471,Report!J:J)","v":0},0,0,{"$f":"COUNTIF(Report!C:C,B471)","v":0}]
[null,null,null,null,null,null,null,{"$f":"SUMIF(Report!C:C,B472,Report!J:J)","v":0},0,0,{"$f":"COUNTIF(Report!C:C,B472)","v":0}]
[null,null,null,null,null,null,null,{"$f":"SUMIF(Report!C:C,B473,Report!J:J)","v":0},0,0,{"$f":"COUNTIF(Report!C:C,B473)","v":0}]
[null,null,null,null,null,null,null,{"$f":"SUMIF(Report!C:C,B474,Report!J:J)","v":0},0,0,{"$f":"COUNTIF(Report!C:C,B474)","v":0}]
[null,null,null,null,null,null,null,{"$f":"SUMIF(Report!C:C,B475,Report!J:J)","v":0},0,0,{"$f":"COUNTIF(Report!C:C,B475)","v":0}]
[null,null,null,null,null,null,null,{"$f":"SUMIF(Report!C:C,B476,Report!J:J)","v":0},0,0,{"$f":"COUNTIF(Report!C:C,B476)","v":0}]
[null,null,null,null,null,null,null,{"$f":"SUMIF(Report!C:C,B477,Report!J:J)","v":0},0,0,{"$f":"COUNTIF(Report!C:C,B477)","v":0}]
[null,null,null,null,null,null,null,{"$f":"SUMIF(Report!C:C,B478,Report!J:J)","v":0},0,0,{"$f":"COUNTIF(Report!C:C,B478)","v":0}]
[null,null,null,null,null,null,null,{"$f":"SUMIF(Report!C:C,B479,Report!J:J)","v":0},0,0,{"$f":"COUNTIF(Report!C:C,B479)","v":0}]
[null,null,null,null,null,null,null,{"$f":"SUMIF(Report!C:C,B480,Report!J:J)","v":0},0,0,{"$f":"COUNTIF(Report!C:C,B480)","v":0}]
[null,null,null,null,null,null,null,{"$f":"SUMIF(Report!C:C,B481,Report!J:J)","v":0},0,0,{"$f":"COUNTIF(Report!C:C,B481)","v":0}]
[null,null,null,null,null,null,null,{"$f":"SUMIF(Report!C:C,B482,Report!J:J)","v":0},0,0,{"$f":"COUNTIF(Report!C:C,B482)","v":0}]
[null,null,null,null,null,null,null,{"$f":"SUMIF(Report!C:C,B483,Report!J:J)","v":0},0,0,{"$f":"COUNTIF(Report!C:C,B483)","v":0}]
[null,null,null,null,null,null,null,{"$f":"SUMIF(Report!C:C,B484,Report!J:J)","v":0},0,0,{"$f":"COUNTIF(Report!C:C,B484)","v":0}]
[null,null,null,null,null,null,null,{"$f":"SUMIF(Report!C:C,B485,Report!J:J)","v":0},0,0,{"$f":"COUNTIF(Report!C:C,B485)","v":0}]
[null,null,null,null,null,null,null,{"$f":"SUMIF(Report!C:C,B486,Report!J:J)","v":0},0,0,{"$f":"COUNTIF(Report!C:C,B486)","v":0}]
[null,null,null,null,null,null,null,{"$f":"SUMIF(Report!C:C,B487,Report!J:J)","v":0},0,0,{"$f":"COUNTIF(Report!C:C,B487)","v":0}]
[null,null,null,null,null,null,null,{"$f":"SUMIF(Report!C:C,B488,Report!J:J)","v":0},0,0,{"$f":"COUNTIF(Report!C:C,B488)","v":0}]
[null,null,null,null,null,null,null,{"$f":"SUMIF(Report!C:C,B489,Report!J:J)","v":0},0,0,{"$f":"COUNTIF(Report!C:C,B489)","v":0}]
[null,null,null,null,null,null,null,{"$f":"SUMIF(Report!C:C,B490,Report!J:J)","v":0},0,0,{"$f":"COUNTIF(Report!C:C,B490)","v":0}]
[null,null,null,null,null,null,null,{"$f":"SUMIF(Report!C:C,B491,Report!J:J)","v":0},0,0,{"$f":"COUNTIF(Report!C:C,B491)","v":0}]
[null,null,null,null,null,null,null,{"$f":"SUMIF(Report!C:C,B492,Report!J:J)","v":0},0,0,{"$f":"COUNTIF(Report!C:C,B492)","v":0}]
[null,null,null,null,null,null,null,{"$f":"SUMIF(Report!C:C,B493,Report!J:J)","v":0},0,0,{"$f":"COUNTIF(Report!C:C,B493)","v":0}]
[null,null,null,null,null,null,null,{"$f":"SUMIF(Report!C:C,B494,Report!J:J)","v":0},0,0,{"$f":"COUNTIF(Report!C:C,B494)","v":0}]
[null,null,null,null,null,null,null,{"$f":"SUMIF(Report!C:C,B495,Report!J:J)","v":0},0,0,{"$f":"COUNTIF(Report!C:C,B495)","v":0}]
[null,null,null,null,null,null,null,{"$f":"SUMIF(Report!C:C,B496,Report!J:J)","v":0},0,0,{"$f":"COUNTIF(Report!C:C,B496)","v":0}]
[null,null,null,null,null,null,null,{"$f":"SUMIF(Report!C:C,B497,Report!J:J)","v":0},0,0,{"$f":"COUNTIF(Report!C:C,B497)","v":0}]
[null,null,null,null,null,null,null,{"$f":"SUMIF(Report!C:C,B498,Report!J:J)","v":0},0,0,{"$f":"COUNTIF(Report!C:C,B498)","v":0}]
[null,null,null,null,null,null,null,{"$f":"SUMIF(Report!C:C,B499,Report!J:J)","v":0},0,0,{"$f":"COUNTIF(Report!C:C,B499)","v":0}]
[null,null,null,null,null,null,null,{"$f":"SUMIF(Report!C:C,B500,Report!J:J)","v":0},0,0,{"$f":"COUNTIF(Report!C:C,B500)","v":0}]
[null,null,null,null,null,null,null,{"$f":"SUMIF(Report!C:C,B501,Report!J:J)","v":0},0,0,{"$f":"COUNTIF(Report!C:C,B501)","v":0}]
[null,null,null,null,null,null,null,{"$f":"SUMIF(Report!C:C,B502,Report!J:J)","v":0},0,0,{"$f":"COUNTIF(Report!C:C,B502)","v":0}]
[null,null,null,null,null,null,null,{"$f":"SUMIF(Report!C:C,B503,Report!J:J)","v":0},0,0,{"$f":"COUNTIF(Report!C:C,B503)","v":0}]
[null,null,null,null,null,null,null,{"$f":"SUMIF(Report!C:C,B504,Report!J:J)","v":0},0,0,{"$f":"COUNTIF(Report!C:C,B504)","v":0}]
[null,null,null,null,null,null,null,{"$f":"SUMIF(Report!C:C,B505,Report!J:J)","v":0},0,0,{"$f":"COUNTIF(Report!C:C,B505)","v":0}]
[null,null,null,null,null,null,null,{"$f":"SUMIF(Report!C:C,B506,Report!J:J)","v":0},0,0,{"$f":"COUNTIF(Report!C:C,B506)","v":0}]
[null,null,null,null,null,null,null,{"$f":"SUMIF(Report!C:C,B507,Report!J:J)","v":0},0,0,{"$f":"COUNTIF(Report!C:C,B507)","v":0}]
[null,null,null,null,null,null,null,{"$f":"SUMIF(Report!C:C,B508,Report!J:J)","v":0},0,0,{"$f":"COUNTIF(Report!C:C,B508)","v":0}]
[null,null,null,null,null,null,null,{"$f":"SUMIF(Report!C:C,B509,Report!J:J)","v":0},0,0,{"$f":"COUNTIF(Report!C:C,B509)","v":0}]
[null,null,null,null,null,null,null,{"$f":"SUMIF(Report!C:C,B510,Report!J:J)","v":0},0,0,{"$f":"COUNTIF(Report!C:C,B510)","v":0}]
[null,null,null,null,null,null,null,{"$f":"SUMIF(Report!C:C,B511,Report!J:J)","v":0},0,0,{"$f":"COUNTIF(Report!C:C,B511)","v":0}]
[null,null,null,null,null,null,null,{"$f":"SUMIF(Report!C:C,B512,Report!J:J)","v":0},0,0,{"$f":"COUNTIF(Report!C:C,B512)","v":0}]
[null,null,null,null,null,null,null,{"$f":"SUMIF(Report!C:C,B513,Report!J:J)","v":0},0,0,{"$f":"COUNTIF(Report!C:C,B513)","v":0}]
[null,null,null,null,null,null,null,{"$f":"SUMIF(Report!C:C,B514,Report!J:J)","v":0},0,0,{"$f":"COUNTIF(Report!C:C,B514)","v":0}]
[null,null,null,null,null,null,null,{"$f":"SUMIF(Report!C:C,B515,Report!J:J)","v":0},{"$f":"IF($M$1=$L$1,H515*E515,+IF($M$1=$L$2,H515*F515,H515*G515))","v":0},{"$f":"IFERROR(I515/SUM($I$2:$I$2499),0)","v":0},{"$f":"COUNTIF(Report!C:C,B515)","v":0}]
[null,null,null,null,null,null,null,{"$f":"SUMIF(Report!C:C,B516,Report!J:J)","v":0},0,0,{"$f":"COUNTIF(Report!C:C,B516)","v":0}]
[null,null,null,null,null,null,null,{"$f":"SUMIF(Report!C:C,B517,Report!J:J)","v":0},0,0,{"$f":"COUNTIF(Report!C:C,B517)","v":0}]
[null,null,null,null,null,null,null,{"$f":"SUMIF(Report!C:C,B518,Report!J:J)","v":0},0,0,{"$f":"COUNTIF(Report!C:C,B518)","v":0}]
[null,null,null,null,null,null,null,{"$f":"SUMIF(Report!C:C,B519,Report!J:J)","v":0},0,0,{"$f":"COUNTIF(Report!C:C,B519)","v":0}]
[null,null,null,null,null,null,null,{"$f":"SUMIF(Report!C:C,B520,Report!J:J)","v":0},0,0,{"$f":"COUNTIF(Report!C:C,B520)","v":0}]
[null,null,null,null,null,null,null,{"$f":"SUMIF(Report!C:C,B521,Report!J:J)","v":0},0,0,{"$f":"COUNTIF(Report!C:C,B521)","v":0}]
[null,null,null,null,null,null,null,{"$f":"SUMIF(Report!C:C,B522,Report!J:J)","v":0},0,0,{"$f":"COUNTIF(Report!C:C,B522)","v":0}]
[null,null,null,null,null,null,null,{"$f":"SUMIF(Report!C:C,B523,Report!J:J)","v":0},0,0,{"$f":"COUNTIF(Report!C:C,B523)","v":0}]
[null,null,null,null,null,null,null,{"$f":"SUMIF(Report!C:C,B524,Report!J:J)","v":0},0,0,{"$f":"COUNTIF(Report!C:C,B524)","v":0}]
[null,null,null,null,null,null,null,{"$f":"SUMIF(Report!C:C,B525,Report!J:J)","v":0},0,0,{"$f":"COUNTIF(Report!C:C,B525)","v":0}]
[null,null,null,null,null,null,null,{"$f":"SUMIF(Report!C:C,B526,Report!J:J)","v":0},0,0,{"$f":"COUNTIF(Report!C:C,B526)","v":0}]
[null,null,null,null,null,null,null,{"$f":"SUMIF(Report!C:C,B527,Report!J:J)","v":0},0,0,{"$f":"COUNTIF(Report!C:C,B527)","v":0}]
[null,null,null,null,null,null,null,{"$f":"SUMIF(Report!C:C,B528,Report!J:J)","v":0},0,0,{"$f":"COUNTIF(Report!C:C,B528)","v":0}]
[null,null,null,null,null,null,null,{"$f":"SUMIF(Report!C:C,B529,Report!J:J)","v":0},0,0,{"$f":"COUNTIF(Report!C:C,B529)","v":0}]
[null,null,null,null,null,null,null,{"$f":"SUMIF(Report!C:C,B530,Report!J:J)","v":0},0,0,{"$f":"COUNTIF(Report!C:C,B530)","v":0}]
[null,null,null,null,null,null,null,{"$f":"SUMIF(Report!C:C,B531,Report!J:J)","v":0},0,0,{"$f":"COUNTIF(Report!C:C,B531)","v":0}]
[null,null,null,null,null,null,null,{"$f":"SUMIF(Report!C:C,B532,Report!J:J)","v":0},0,0,{"$f":"COUNTIF(Report!C:C,B532)","v":0}]
[null,null,null,null,null,null,null,{"$f":"SUMIF(Report!C:C,B533,Report!J:J)","v":0},0,0,{"$f":"COUNTIF(Report!C:C,B533)","v":0}]
[null,null,null,null,null,null,null,{"$f":"SUMIF(Report!C:C,B534,Report!J:J)","v":0},0,0,{"$f":"COUNTIF(Report!C:C,B534)","v":0}]
[null,null,null,null,null,null,null,{"$f":"SUMIF(Report!C:C,B535,Report!J:J)","v":0},0,0,{"$f":"COUNTIF(Report!C:C,B535)","v":0}]
[null,null,null,null,null,null,null,{"$f":"SUMIF(Report!C:C,B536,Report!J:J)","v":0},0,0,{"$f":"COUNTIF(Report!C:C,B536)","v":0}]
[null,null,null,null,null,null,null,{"$f":"SUMIF(Report!C:C,B537,Report!J:J)","v":0},0,0,{"$f":"COUNTIF(Report!C:C,B537)","v":0}]
[null,null,null,null,null,null,null,{"$f":"SUMIF(Report!C:C,B538,Report!J:J)","v":0},0,0,{"$f":"COUNTIF(Report!C:C,B538)","v":0}]
[null,null,null,null,null,null,null,{"$f":"SUMIF(Report!C:C,B539,Report!J:J)","v":0},0,0,{"$f":"COUNTIF(Report!C:C,B539)","v":0}]
[null,null,null,null,null,null,null,{"$f":"SUMIF(Report!C:C,B540,Report!J:J)","v":0},0,0,{"$f":"COUNTIF(Report!C:C,B540)","v":0}]
[null,null,null,null,null,null,null,{"$f":"SUMIF(Report!C:C,B541,Report!J:J)","v":0},0,0,{"$f":"COUNTIF(Report!C:C,B541)","v":0}]
[null,null,null,null,null,null,null,{"$f":"SUMIF(Report!C:C,B542,Report!J:J)","v":0},0,0,{"$f":"COUNTIF(Report!C:C,B542)","v":0}]
[null,null,null,null,null,null,null,{"$f":"SUMIF(Report!C:C,B543,Report!J:J)","v":0},0,0,{"$f":"COUNTIF(Report!C:C,B543)","v":0}]
[null,null,null,null,null,null,null,{"$f":"SUMIF(Report!C:C,B544,Report!J:J)","v":0},0,0,{"$f":"COUNTIF(Report!C:C,B544)","v":0}]
[null,null,null,null,null,null,null,{"$f":"SUMIF(Report!C:C,B545,Report!J:J)","v":0},0,0,{"$f":"COUNTIF(Report!C:C,B545)","v":0}]
[null,null,null,null,null,null,null,{"$f":"SUMIF(Report!C:C,B546,Report!J:J)","v":0},0,0,{"$f":"COUNTIF(Report!C:C,B546)","v":0}]
[null,null,null,null,null,null,null,{"$f":"SUMIF(Report!C:C,B547,Report!J:J)","v":0},0,0,{"$f":"COUNTIF(Report!C:C,B547)","v":0}]
[null,null,null,null,null,null,null,{"$f":"SUMIF(Report!C:C,B548,Report!J:J)","v":0},0,0,{"$f":"COUNTIF(Report!C:C,B548)","v":0}]
[null,null,null,null,null,null,null,{"$f":"SUMIF(Report!C:C,B549,Report!J:J)","v":0},0,0,{"$f":"COUNTIF(Report!C:C,B549)","v":0}]
[null,null,null,null,null,null,null,{"$f":"SUMIF(Report!C:C,B550,Report!J:J)","v":0},0,0,{"$f":"COUNTIF(Report!C:C,B550)","v":0}]
[null,null,null,null,null,null,null,{"$f":"SUMIF(Report!C:C,B551,Report!J:J)","v":0},0,0,{"$f":"COUNTIF(Report!C:C,B551)","v":0}]
[null,null,null,null,null,null,null,{"$f":"SUMIF(Report!C:C,B552,Report!J:J)","v":0},0,0,{"$f":"COUNTIF(Report!C:C,B552)","v":0}]
[null,null,null,null,null,null,null,{"$f":"SUMIF(Report!C:C,B553,Report!J:J)","v":0},0,0,{"$f":"COUNTIF(Report!C:C,B553)","v":0}]
[null,null,null,null,null,null,null,{"$f":"SUMIF(Report!C:C,B554,Report!J:J)","v":0},0,0,{"$f":"COUNTIF(Report!C:C,B554)","v":0}]
[null,null,null,null,null,null,null,{"$f":"SUMIF(Report!C:C,B555,Report!J:J)","v":0},0,0,{"$f":"COUNTIF(Report!C:C,B555)","v":0}]
[null,null,null,null,null,null,null,{"$f":"SUMIF(Report!C:C,B556,Report!J:J)","v":0},0,0,{"$f":"COUNTIF(Report!C:C,B556)","v":0}]
[null,null,null,null,null,null,null,{"$f":"SUMIF(Report!C:C,B557,Report!J:J)","v":0},0,0,{"$f":"COUNTIF(Report!C:C,B557)","v":0}]
[null,null,null,null,null,null,null,{"$f":"SUMIF(Report!C:C,B558,Report!J:J)","v":0},0,0,{"$f":"COUNTIF(Report!C:C,B558)","v":0}]
[null,null,null,null,null,null,null,{"$f":"SUMIF(Report!C:C,B559,Report!J:J)","v":0},0,0,{"$f":"COUNTIF(Report!C:C,B559)","v":0}]
[null,null,null,null,null,null,null,{"$f":"SUMIF(Report!C:C,B560,Report!J:J)","v":0},0,0,{"$f":"COUNTIF(Report!C:C,B560)","v":0}]
[null,null,null,null,null,null,null,{"$f":"SUMIF(Report!C:C,B561,Report!J:J)","v":0},0,0,{"$f":"COUNTIF(Report!C:C,B561)","v":0}]
[null,null,null,null,null,null,null,{"$f":"SUMIF(Report!C:C,B562,Report!J:J)","v":0},0,0,{"$f":"COUNTIF(Report!C:C,B562)","v":0}]
[null,null,null,null,null,null,null,{"$f":"SUMIF(Report!C:C,B563,Report!J:J)","v":0},0,0,{"$f":"COUNTIF(Report!C:C,B563)","v":0}]
[null,null,null,null,null,null,null,{"$f":"SUMIF(Report!C:C,B564,Report!J:J)","v":0},0,0,{"$f":"COUNTIF(Report!C:C,B564)","v":0}]
[null,null,null,null,null,null,null,{"$f":"SUMIF(Report!C:C,B565,Report!J:J)","v":0},0,0,{"$f":"COUNTIF(Report!C:C,B565)","v":0}]
[null,null,null,null,null,null,null,{"$f":"SUMIF(Report!C:C,B566,Report!J:J)","v":0},0,0,{"$f":"COUNTIF(Report!C:C,B566)","v":0}]
[null,null,null,null,null,null,null,{"$f":"SUMIF(Report!C:C,B567,Report!J:J)","v":0},0,0,{"$f":"COUNTIF(Report!C:C,B567)","v":0}]
[null,null,null,null,null,null,null,{"$f":"SUMIF(Report!C:C,B568,Report!J:J)","v":0},0,0,{"$f":"COUNTIF(Report!C:C,B568)","v":0}]
[null,null,null,null,null,null,null,{"$f":"SUMIF(Report!C:C,B569,Report!J:J)","v":0},0,0,{"$f":"COUNTIF(Report!C:C,B569)","v":0}]
[null,null,null,null,null,null,null,{"$f":"SUMIF(Report!C:C,B570,Report!J:J)","v":0},0,0,{"$f":"COUNTIF(Report!C:C,B570)","v":0}]
[null,null,null,null,null,null,null,{"$f":"SUMIF(Report!C:C,B571,Report!J:J)","v":0},0,0,{"$f":"COUNTIF(Report!C:C,B571)","v":0}]
[null,null,null,null,null,null,null,{"$f":"SUMIF(Report!C:C,B572,Report!J:J)","v":0},0,0,{"$f":"COUNTIF(Report!C:C,B572)","v":0}]
[null,null,null,null,null,null,null,{"$f":"SUMIF(Report!C:C,B573,Report!J:J)","v":0},0,0,{"$f":"COUNTIF(Report!C:C,B573)","v":0}]
[null,null,null,null,null,null,null,{"$f":"SUMIF(Report!C:C,B574,Report!J:J)","v":0},0,0,{"$f":"COUNTIF(Report!C:C,B574)","v":0}]
[null,null,null,null,null,null,null,{"$f":"SUMIF(Report!C:C,B575,Report!J:J)","v":0},0,0,{"$f":"COUNTIF(Report!C:C,B575)","v":0}]
[null,null,null,null,null,null,null,{"$f":"SUMIF(Report!C:C,B576,Report!J:J)","v":0},0,0,{"$f":"COUNTIF(Report!C:C,B576)","v":0}]
[null,null,null,null,null,null,null,{"$f":"SUMIF(Report!C:C,B577,Report!J:J)","v":0},0,0,{"$f":"COUNTIF(Report!C:C,B577)","v":0}]
[null,null,null,null,null,null,null,{"$f":"SUMIF(Report!C:C,B578,Report!J:J)","v":0},0,0,{"$f":"COUNTIF(Report!C:C,B578)","v":0}]
[null,null,null,null,null,null,null,{"$f":"SUMIF(Report!C:C,B579,Report!J:J)","v":0},{"$f":"IF($M$1=$L$1,H579*E579,+IF($M$1=$L$2,H579*F579,H579*G579))","v":0},{"$f":"IFERROR(I579/SUM($I$2:$I$2499),0)","v":0},{"$f":"COUNTIF(Report!C:C,B579)","v":0}]
[null,null,null,null,null,null,null,{"$f":"SUMIF(Report!C:C,B580,Report!J:J)","v":0},0,0,{"$f":"COUNTIF(Report!C:C,B580)","v":0}]
[null,null,null,null,null,null,null,{"$f":"SUMIF(Report!C:C,B581,Report!J:J)","v":0},0,0,{"$f":"COUNTIF(Report!C:C,B581)","v":0}]
[null,null,null,null,null,null,null,{"$f":"SUMIF(Report!C:C,B582,Report!J:J)","v":0},0,0,{"$f":"COUNTIF(Report!C:C,B582)","v":0}]
[null,null,null,null,null,null,null,{"$f":"SUMIF(Report!C:C,B583,Report!J:J)","v":0},0,0,{"$f":"COUNTIF(Report!C:C,B583)","v":0}]
[null,null,null,null,null,null,null,{"$f":"SUMIF(Report!C:C,B584,Report!J:J)","v":0},0,0,{"$f":"COUNTIF(Report!C:C,B584)","v":0}]
[null,null,null,null,null,null,null,{"$f":"SUMIF(Report!C:C,B585,Report!J:J)","v":0},0,0,{"$f":"COUNTIF(Report!C:C,B585)","v":0}]
[null,null,null,null,null,null,null,{"$f":"SUMIF(Report!C:C,B586,Report!J:J)","v":0},0,0,{"$f":"COUNTIF(Report!C:C,B586)","v":0}]
[null,null,null,null,null,null,null,{"$f":"SUMIF(Report!C:C,B587,Report!J:J)","v":0},0,0,{"$f":"COUNTIF(Report!C:C,B587)","v":0}]
[null,null,null,null,null,null,null,{"$f":"SUMIF(Report!C:C,B588,Report!J:J)","v":0},0,0,{"$f":"COUNTIF(Report!C:C,B588)","v":0}]
[null,null,null,null,null,null,null,{"$f":"SUMIF(Report!C:C,B589,Report!J:J)","v":0},0,0,{"$f":"COUNTIF(Report!C:C,B589)","v":0}]
[null,null,null,null,null,null,null,{"$f":"SUMIF(Report!C:C,B590,Report!J:J)","v":0},0,0,{"$f":"COUNTIF(Report!C:C,B590)","v":0}]
[null,null,null,null,null,null,null,{"$f":"SUMIF(Report!C:C,B591,Report!J:J)","v":0},0,0,{"$f":"COUNTIF(Report!C:C,B591)","v":0}]
[null,null,null,null,null,null,null,{"$f":"SUMIF(Report!C:C,B592,Report!J:J)","v":0},0,0,{"$f":"COUNTIF(Report!C:C,B592)","v":0}]
[null,null,null,null,null,null,null,{"$f":"SUMIF(Report!C:C,B593,Report!J:J)","v":0},0,0,{"$f":"COUNTIF(Report!C:C,B593)","v":0}]
[null,null,null,null,null,null,null,{"$f":"SUMIF(Report!C:C,B594,Report!J:J)","v":0},0,0,{"$f":"COUNTIF(Report!C:C,B594)","v":0}]
[null,null,null,null,null,null,null,{"$f":"SUMIF(Report!C:C,B595,Report!J:J)","v":0},0,0,{"$f":"COUNTIF(Report!C:C,B595)","v":0}]
[null,null,null,null,null,null,null,{"$f":"SUMIF(Report!C:C,B596,Report!J:J)","v":0},0,0,{"$f":"COUNTIF(Report!C:C,B596)","v":0}]
[null,null,null,null,null,null,null,{"$f":"SUMIF(Report!C:C,B597,Report!J:J)","v":0},0,0,{"$f":"COUNTIF(Report!C:C,B597)","v":0}]
[null,null,null,null,null,null,null,{"$f":"SUMIF(Report!C:C,B598,Report!J:J)","v":0},0,0,{"$f":"COUNTIF(Report!C:C,B598)","v":0}]
[null,null,null,null,null,null,null,{"$f":"SUMIF(Report!C:C,B599,Report!J:J)","v":0},0,0,{"$f":"COUNTIF(Report!C:C,B599)","v":0}]
[null,null,null,null,null,null,null,{"$f":"SUMIF(Report!C:C,B600,Report!J:J)","v":0},0,0,{"$f":"COUNTIF(Report!C:C,B600)","v":0}]
[null,null,null,null,null,null,null,{"$f":"SUMIF(Report!C:C,B601,Report!J:J)","v":0},0,0,{"$f":"COUNTIF(Report!C:C,B601)","v":0}]
[null,null,null,null,null,null,null,{"$f":"SUMIF(Report!C:C,B602,Report!J:J)","v":0},0,0,{"$f":"COUNTIF(Report!C:C,B602)","v":0}]
[null,null,null,null,null,null,null,{"$f":"SUMIF(Report!C:C,B603,Report!J:J)","v":0},0,0,{"$f":"COUNTIF(Report!C:C,B603)","v":0}]
[null,null,null,null,null,null,null,{"$f":"SUMIF(Report!C:C,B604,Report!J:J)","v":0},0,0,{"$f":"COUNTIF(Report!C:C,B604)","v":0}]
[null,null,null,null,null,null,null,{"$f":"SUMIF(Report!C:C,B605,Report!J:J)","v":0},0,0,{"$f":"COUNTIF(Report!C:C,B605)","v":0}]
[null,null,null,null,null,null,null,{"$f":"SUMIF(Report!C:C,B606,Report!J:J)","v":0},0,0,{"$f":"COUNTIF(Report!C:C,B606)","v":0}]
[null,null,null,null,null,null,null,{"$f":"SUMIF(Report!C:C,B607,Report!J:J)","v":0},0,0,{"$f":"COUNTIF(Report!C:C,B607)","v":0}]
[null,null,null,null,null,null,null,{"$f":"SUMIF(Report!C:C,B608,Report!J:J)","v":0},0,0,{"$f":"COUNTIF(Report!C:C,B608)","v":0}]
[null,null,null,null,null,null,null,{"$f":"SUMIF(Report!C:C,B609,Report!J:J)","v":0},0,0,{"$f":"COUNTIF(Report!C:C,B609)","v":0}]
[null,null,null,null,null,null,null,{"$f":"SUMIF(Report!C:C,B610,Report!J:J)","v":0},0,0,{"$f":"COUNTIF(Report!C:C,B610)","v":0}]
[null,null,null,null,null,null,null,{"$f":"SUMIF(Report!C:C,B611,Report!J:J)","v":0},0,0,{"$f":"COUNTIF(Report!C:C,B611)","v":0}]
[null,null,null,null,null,null,null,{"$f":"SUMIF(Report!C:C,B612,Report!J:J)","v":0},0,0,{"$f":"COUNTIF(Report!C:C,B612)","v":0}]
[null,null,null,null,null,null,null,{"$f":"SUMIF(Report!C:C,B613,Report!J:J)","v":0},0,0,{"$f":"COUNTIF(Report!C:C,B613)","v":0}]
[null,null,null,null,null,null,null,{"$f":"SUMIF(Report!C:C,B614,Report!J:J)","v":0},0,0,{"$f":"COUNTIF(Report!C:C,B614)","v":0}]
[null,null,null,null,null,null,null,{"$f":"SUMIF(Report!C:C,B615,Report!J:J)","v":0},0,0,{"$f":"COUNTIF(Report!C:C,B615)","v":0}]
[null,null,null,null,null,null,null,{"$f":"SUMIF(Report!C:C,B616,Report!J:J)","v":0},0,0,{"$f":"COUNTIF(Report!C:C,B616)","v":0}]
[null,null,null,null,null,null,null,{"$f":"SUMIF(Report!C:C,B617,Report!J:J)","v":0},0,0,{"$f":"COUNTIF(Report!C:C,B617)","v":0}]
[null,null,null,null,null,null,null,{"$f":"SUMIF(Report!C:C,B618,Report!J:J)","v":0},0,0,{"$f":"COUNTIF(Report!C:C,B618)","v":0}]
[null,null,null,null,null,null,null,{"$f":"SUMIF(Report!C:C,B619,Report!J:J)","v":0},0,0,{"$f":"COUNTIF(Report!C:C,B619)","v":0}]
[null,null,null,null,null,null,null,{"$f":"SUMIF(Report!C:C,B620,Report!J:J)","v":0},0,0,{"$f":"COUNTIF(Report!C:C,B620)","v":0}]
[null,null,null,null,null,null,null,{"$f":"SUMIF(Report!C:C,B621,Report!J:J)","v":0},0,0,{"$f":"COUNTIF(Report!C:C,B621)","v":0}]
[null,null,null,null,null,null,null,{"$f":"SUMIF(Report!C:C,B622,Report!J:J)","v":0},0,0,{"$f":"COUNTIF(Report!C:C,B622)","v":0}]
[null,null,null,null,null,null,null,{"$f":"SUMIF(Report!C:C,B623,Report!J:J)","v":0},0,0,{"$f":"COUNTIF(Report!C:C,B623)","v":0}]
[null,null,null,null,null,null,null,{"$f":"SUMIF(Report!C:C,B624,Report!J:J)","v":0},0,0,{"$f":"COUNTIF(Report!C:C,B624)","v":0}]
[null,null,null,null,null,null,null,{"$f":"SUMIF(Report!C:C,B625,Report!J:J)","v":0},0,0,{"$f":"COUNTIF(Report!C:C,B625)","v":0}]
[null,null,null,null,null,null,null,{"$f":"SUMIF(Report!C:C,B626,Report!J:J)","v":0},0,0,{"$f":"COUNTIF(Report!C:C,B626)","v":0}]
[null,null,null,null,null,null,null,{"$f":"SUMIF(Report!C:C,B627,Report!J:J)","v":0},0,0,{"$f":"COUNTIF(Report!C:C,B627)","v":0}]
[null,null,null,null,null,null,null,{"$f":"SUMIF(Report!C:C,B628,Report!J:J)","v":0},0,0,{"$f":"COUNTIF(Report!C:C,B628)","v":0}]
[null,null,null,null,null,null,null,{"$f":"SUMIF(Report!C:C,B629,Report!J:J)","v":0},0,0,{"$f":"COUNTIF(Report!C:C,B629)","v":0}]
[null,null,null,null,null,null,null,{"$f":"SUMIF(Report!C:C,B630,Report!J:J)","v":0},0,0,{"$f":"COUNTIF(Report!C:C,B630)","v":0}]
[null,null,null,null,null,null,null,{"$f":"SUMIF(Report!C:C,B631,Report!J:J)","v":0},0,0,{"$f":"COUNTIF(Report!C:C,B631)","v":0}]
[null,null,null,null,null,null,null,{"$f":"SUMIF(Report!C:C,B632,Report!J:J)","v":0},0,0,{"$f":"COUNTIF(Report!C:C,B632)","v":0}]
[null,null,null,null,null,null,null,{"$f":"SUMIF(Report!C:C,B633,Report!J:J)","v":0},0,0,{"$f":"COUNTIF(Report!C:C,B633)","v":0}]
[null,null,null,null,null,null,null,{"$f":"SUMIF(Report!C:C,B634,Report!J:J)","v":0},0,0,{"$f":"COUNTIF(Report!C:C,B634)","v":0}]
[null,null,null,null,null,null,null,{"$f":"SUMIF(Report!C:C,B635,Report!J:J)","v":0},0,0,{"$f":"COUNTIF(Report!C:C,B635)","v":0}]
[null,null,null,null,null,null,null,{"$f":"SUMIF(Report!C:C,B636,Report!J:J)","v":0},0,0,{"$f":"COUNTIF(Report!C:C,B636)","v":0}]
[null,null,null,null,null,null,null,{"$f":"SUMIF(Report!C:C,B637,Report!J:J)","v":0},0,0,{"$f":"COUNTIF(Report!C:C,B637)","v":0}]
[null,null,null,null,null,null,null,{"$f":"SUMIF(Report!C:C,B638,Report!J:J)","v":0},0,0,{"$f":"COUNTIF(Report!C:C,B638)","v":0}]
[null,null,null,null,null,null,null,{"$f":"SUMIF(Report!C:C,B639,Report!J:J)","v":0},0,0,{"$f":"COUNTIF(Report!C:C,B639)","v":0}]
[null,null,null,null,null,null,null,{"$f":"SUMIF(Report!C:C,B640,Report!J:J)","v":0},0,0,{"$f":"COUNTIF(Report!C:C,B640)","v":0}]
[null,null,null,null,null,null,null,{"$f":"SUMIF(Report!C:C,B641,Report!J:J)","v":0},0,0,{"$f":"COUNTIF(Report!C:C,B641)","v":0}]
[null,null,null,null,null,null,null,{"$f":"SUMIF(Report!C:C,B642,Report!J:J)","v":0},0,0,{"$f":"COUNTIF(Report!C:C,B642)","v":0}]
[null,null,null,null,null,null,null,{"$f":"SUMIF(Report!C:C,B643,Report!J:J)","v":0},{"$f":"IF($M$1=$L$1,H643*E643,+IF($M$1=$L$2,H643*F643,H643*G643))","v":0},{"$f":"IFERROR(I643/SUM($I$2:$I$2499),0)","v":0},{"$f":"COUNTIF(Report!C:C,B643)","v":0}]
[null,null,null,null,null,null,null,{"$f":"SUMIF(Report!C:C,B644,Report!J:J)","v":0},0,0,{"$f":"COUNTIF(Report!C:C,B644)","v":0}]
[null,null,null,null,null,null,null,{"$f":"SUMIF(Report!C:C,B645,Report!J:J)","v":0},0,0,{"$f":"COUNTIF(Report!C:C,B645)","v":0}]
[null,null,null,null,null,null,null,{"$f":"SUMIF(Report!C:C,B646,Report!J:J)","v":0},0,0,{"$f":"COUNTIF(Report!C:C,B646)","v":0}]
[null,null,null,null,null,null,null,{"$f":"SUMIF(Report!C:C,B647,Report!J:J)","v":0},0,0,{"$f":"COUNTIF(Report!C:C,B647)","v":0}]
[null,null,null,null,null,null,null,{"$f":"SUMIF(Report!C:C,B648,Report!J:J)","v":0},0,0,{"$f":"COUNTIF(Report!C:C,B648)","v":0}]
[null,null,null,null,null,null,null,{"$f":"SUMIF(Report!C:C,B649,Report!J:J)","v":0},0,0,{"$f":"COUNTIF(Report!C:C,B649)","v":0}]
[null,null,null,null,null,null,null,{"$f":"SUMIF(Report!C:C,B650,Report!J:J)","v":0},0,0,{"$f":"COUNTIF(Report!C:C,B650)","v":0}]
[null,null,null,null,null,null,null,{"$f":"SUMIF(Report!C:C,B651,Report!J:J)","v":0},0,0,{"$f":"COUNTIF(Report!C:C,B651)","v":0}]
[null,null,null,null,null,null,null,{"$f":"SUMIF(Report!C:C,B652,Report!J:J)","v":0},0,0,{"$f":"COUNTIF(Report!C:C,B652)","v":0}]
[null,null,null,null,null,null,null,{"$f":"SUMIF(Report!C:C,B653,Report!J:J)","v":0},0,0,{"$f":"COUNTIF(Report!C:C,B653)","v":0}]
[null,null,null,null,null,null,null,{"$f":"SUMIF(Report!C:C,B654,Report!J:J)","v":0},0,0,{"$f":"COUNTIF(Report!C:C,B654)","v":0}]
[null,null,null,null,null,null,null,{"$f":"SUMIF(Report!C:C,B655,Report!J:J)","v":0},0,0,{"$f":"COUNTIF(Report!C:C,B655)","v":0}]
[null,null,null,null,null,null,null,{"$f":"SUMIF(Report!C:C,B656,Report!J:J)","v":0},0,0,{"$f":"COUNTIF(Report!C:C,B656)","v":0}]
[null,null,null,null,null,null,null,{"$f":"SUMIF(Report!C:C,B657,Report!J:J)","v":0},0,0,{"$f":"COUNTIF(Report!C:C,B657)","v":0}]
[null,null,null,null,null,null,null,{"$f":"SUMIF(Report!C:C,B658,Report!J:J)","v":0},0,0,{"$f":"COUNTIF(Report!C:C,B658)","v":0}]
[null,null,null,null,null,null,null,{"$f":"SUMIF(Report!C:C,B659,Report!J:J)","v":0},0,0,{"$f":"COUNTIF(Report!C:C,B659)","v":0}]
[null,null,null,null,null,null,null,{"$f":"SUMIF(Report!C:C,B660,Report!J:J)","v":0},0,0,{"$f":"COUNTIF(Report!C:C,B660)","v":0}]
[null,null,null,null,null,null,null,{"$f":"SUMIF(Report!C:C,B661,Report!J:J)","v":0},0,0,{"$f":"COUNTIF(Report!C:C,B661)","v":0}]
[null,null,null,null,null,null,null,{"$f":"SUMIF(Report!C:C,B662,Report!J:J)","v":0},0,0,{"$f":"COUNTIF(Report!C:C,B662)","v":0}]
[null,null,null,null,null,null,null,{"$f":"SUMIF(Report!C:C,B663,Report!J:J)","v":0},0,0,{"$f":"COUNTIF(Report!C:C,B663)","v":0}]
[null,null,null,null,null,null,null,{"$f":"SUMIF(Report!C:C,B664,Report!J:J)","v":0},0,0,{"$f":"COUNTIF(Report!C:C,B664)","v":0}]
[null,null,null,null,null,null,null,{"$f":"SUMIF(Report!C:C,B665,Report!J:J)","v":0},0,0,{"$f":"COUNTIF(Report!C:C,B665)","v":0}]
[null,null,null,null,null,null,null,{"$f":"SUMIF(Report!C:C,B666,Report!J:J)","v":0},0,0,{"$f":"COUNTIF(Report!C:C,B666)","v":0}]
[null,null,null,null,null,null,null,{"$f":"SUMIF(Report!C:C,B667,Report!J:J)","v":0},0,0,{"$f":"COUNTIF(Report!C:C,B667)","v":0}]
[null,null,null,null,null,null,null,{"$f":"SUMIF(Report!C:C,B668,Report!J:J)","v":0},0,0,{"$f":"COUNTIF(Report!C:C,B668)","v":0}]
[null,null,null,null,null,null,null,{"$f":"SUMIF(Report!C:C,B669,Report!J:J)","v":0},0,0,{"$f":"COUNTIF(Report!C:C,B669)","v":0}]
[null,null,null,null,null,null,null,{"$f":"SUMIF(Report!C:C,B670,Report!J:J)","v":0},0,0,{"$f":"COUNTIF(Report!C:C,B670)","v":0}]
[null,null,null,null,null,null,null,{"$f":"SUMIF(Report!C:C,B671,Report!J:J)","v":0},0,0,{"$f":"COUNTIF(Report!C:C,B671)","v":0}]
[null,null,null,null,null,null,null,{"$f":"SUMIF(Report!C:C,B672,Report!J:J)","v":0},0,0,{"$f":"COUNTIF(Report!C:C,B672)","v":0}]
[null,null,null,null,null,null,null,{"$f":"SUMIF(Report!C:C,B673,Report!J:J)","v":0},0,0,{"$f":"COUNTIF(Report!C:C,B673)","v":0}]
[null,null,null,null,null,null,null,{"$f":"SUMIF(Report!C:C,B674,Report!J:J)","v":0},0,0,{"$f":"COUNTIF(Report!C:C,B674)","v":0}]
[null,null,null,null,null,null,null,{"$f":"SUMIF(Report!C:C,B675,Report!J:J)","v":0},0,0,{"$f":"COUNTIF(Report!C:C,B675)","v":0}]
[null,null,null,null,null,null,null,{"$f":"SUMIF(Report!C:C,B676,Report!J:J)","v":0},0,0,{"$f":"COUNTIF(Report!C:C,B676)","v":0}]
[null,null,null,null,null,null,null,{"$f":"SUMIF(Report!C:C,B677,Report!J:J)","v":0},0,0,{"$f":"COUNTIF(Report!C:C,B677)","v":0}]
[null,null,null,null,null,null,null,{"$f":"SUMIF(Report!C:C,B678,Report!J:J)","v":0},0,0,{"$f":"COUNTIF(Report!C:C,B678)","v":0}]
[null,null,null,null,null,null,null,{"$f":"SUMIF(Report!C:C,B679,Report!J:J)","v":0},0,0,{"$f":"COUNTIF(Report!C:C,B679)","v":0}]
[null,null,null,null,null,null,null,{"$f":"SUMIF(Report!C:C,B680,Report!J:J)","v":0},0,0,{"$f":"COUNTIF(Report!C:C,B680)","v":0}]
[null,null,null,null,null,null,null,{"$f":"SUMIF(Report!C:C,B681,Report!J:J)","v":0},0,0,{"$f":"COUNTIF(Report!C:C,B681)","v":0}]
[null,null,null,null,null,null,null,{"$f":"SUMIF(Report!C:C,B682,Report!J:J)","v":0},0,0,{"$f":"COUNTIF(Report!C:C,B682)","v":0}]
[null,null,null,null,null,null,null,{"$f":"SUMIF(Report!C:C,B683,Report!J:J)","v":0},0,0,{"$f":"COUNTIF(Report!C:C,B683)","v":0}]
[null,null,null,null,null,null,null,{"$f":"SUMIF(Report!C:C,B684,Report!J:J)","v":0},0,0,{"$f":"COUNTIF(Report!C:C,B684)","v":0}]
[null,null,null,null,null,null,null,{"$f":"SUMIF(Report!C:C,B685,Report!J:J)","v":0},0,0,{"$f":"COUNTIF(Report!C:C,B685)","v":0}]
[null,null,null,null,null,null,null,{"$f":"SUMIF(Report!C:C,B686,Report!J:J)","v":0},0,0,{"$f":"COUNTIF(Report!C:C,B686)","v":0}]
[null,null,null,null,null,null,null,{"$f":"SUMIF(Report!C:C,B687,Report!J:J)","v":0},0,0,{"$f":"COUNTIF(Report!C:C,B687)","v":0}]
[null,null,null,null,null,null,null,{"$f":"SUMIF(Report!C:C,B688,Report!J:J)","v":0},0,0,{"$f":"COUNTIF(Report!C:C,B688)","v":0}]
[null,null,null,null,null,null,null,{"$f":"SUMIF(Report!C:C,B689,Report!J:J)","v":0},0,0,{"$f":"COUNTIF(Report!C:C,B689)","v":0}]
[null,null,null,null,null,null,null,{"$f":"SUMIF(Report!C:C,B690,Report!J:J)","v":0},0,0,{"$f":"COUNTIF(Report!C:C,B690)","v":0}]
[null,null,null,null,null,null,null,{"$f":"SUMIF(Report!C:C,B691,Report!J:J)","v":0},0,0,{"$f":"COUNTIF(Report!C:C,B691)","v":0}]
[null,null,null,null,null,null,null,{"$f":"SUMIF(Report!C:C,B692,Report!J:J)","v":0},0,0,{"$f":"COUNTIF(Report!C:C,B692)","v":0}]
[null,null,null,null,null,null,null,{"$f":"SUMIF(Report!C:C,B693,Report!J:J)","v":0},0,0,{"$f":"COUNTIF(Report!C:C,B693)","v":0}]
[null,null,null,null,null,null,null,{"$f":"SUMIF(Report!C:C,B694,Report!J:J)","v":0},0,0,{"$f":"COUNTIF(Report!C:C,B694)","v":0}]
[null,null,null,null,null,null,null,{"$f":"SUMIF(Report!C:C,B695,Report!J:J)","v":0},0,0,{"$f":"COUNTIF(Report!C:C,B695)","v":0}]
[null,null,null,null,null,null,null,{"$f":"SUMIF(Report!C:C,B696,Report!J:J)","v":0},0,0,{"$f":"COUNTIF(Report!C:C,B696)","v":0}]
[null,null,null,null,null,null,null,{"$f":"SUMIF(Report!C:C,B697,Report!J:J)","v":0},0,0,{"$f":"COUNTIF(Report!C:C,B697)","v":0}]
[null,null,null,null,null,null,null,{"$f":"SUMIF(Report!C:C,B698,Report!J:J)","v":0},0,0,{"$f":"COUNTIF(Report!C:C,B698)","v":0}]
[null,null,null,null,null,null,null,{"$f":"SUMIF(Report!C:C,B699,Report!J:J)","v":0},0,0,{"$f":"COUNTIF(Report!C:C,B699)","v":0}]
[null,null,null,null,null,null,null,{"$f":"SUMIF(Report!C:C,B700,Report!J:J)","v":0},0,0,{"$f":"COUNTIF(Report!C:C,B700)","v":0}]
[null,null,null,null,null,null,null,{"$f":"SUMIF(Report!C:C,B701,Report!J:J)","v":0},0,0,{"$f":"COUNTIF(Report!C:C,B701)","v":0}]
[null,null,null,null,null,null,null,{"$f":"SUMIF(Report!C:C,B702,Report!J:J)","v":0},0,0,{"$f":"COUNTIF(Report!C:C,B702)","v":0}]
[null,null,null,null,null,null,null,{"$f":"SUMIF(Report!C:C,B703,Report!J:J)","v":0},0,0,{"$f":"COUNTIF(Report!C:C,B703)","v":0}]
[null,null,null,null,null,null,null,{"$f":"SUMIF(Report!C:C,B704,Report!J:J)","v":0},0,0,{"$f":"COUNTIF(Report!C:C,B704)","v":0}]
[null,null,null,null,null,null,null,{"$f":"SUMIF(Report!C:C,B705,Report!J:J)","v":0},0,0,{"$f":"COUNTIF(Report!C:C,B705)","v":0}]
[null,null,null,null,null,null,null,{"$f":"SUMIF(Report!C:C,B706,Report!J:J)","v":0},0,0,{"$f":"COUNTIF(Report!C:C,B706)","v":0}]
[null,null,null,null,null,null,null,{"$f":"SUMIF(Report!C:C,B707,Report!J:J)","v":0},{"$f":"IF($M$1=$L$1,H707*E707,+IF($M$1=$L$2,H707*F707,H707*G707))","v":0},{"$f":"IFERROR(I707/SUM($I$2:$I$2499),0)","v":0},{"$f":"COUNTIF(Report!C:C,B707)","v":0}]
[null,null,null,null,null,null,null,{"$f":"SUMIF(Report!C:C,B708,Report!J:J)","v":0},0,0,{"$f":"COUNTIF(Report!C:C,B708)","v":0}]
[null,null,null,null,null,null,null,{"$f":"SUMIF(Report!C:C,B709,Report!J:J)","v":0},0,0,{"$f":"COUNTIF(Report!C:C,B709)","v":0}]
[null,null,null,null,null,null,null,{"$f":"SUMIF(Report!C:C,B710,Report!J:J)","v":0},0,0,{"$f":"COUNTIF(Report!C:C,B710)","v":0}]
[null,null,null,null,null,null,null,{"$f":"SUMIF(Report!C:C,B711,Report!J:J)","v":0},0,0,{"$f":"COUNTIF(Report!C:C,B711)","v":0}]
[null,null,null,null,null,null,null,{"$f":"SUMIF(Report!C:C,B712,Report!J:J)","v":0},0,0,{"$f":"COUNTIF(Report!C:C,B712)","v":0}]
[null,null,null,null,null,null,null,{"$f":"SUMIF(Report!C:C,B713,Report!J:J)","v":0},0,0,{"$f":"COUNTIF(Report!C:C,B713)","v":0}]
[null,null,null,null,null,null,null,{"$f":"SUMIF(Report!C:C,B714,Report!J:J)","v":0},0,0,{"$f":"COUNTIF(Report!C:C,B714)","v":0}]
[null,null,null,null,null,null,null,{"$f":"SUMIF(Report!C:C,B715,Report!J:J)","v":0},0,0,{"$f":"COUNTIF(Report!C:C,B715)","v":0}]
[null,null,null,null,null,null,null,{"$f":"SUMIF(Report!C:C,B716,Report!J:J)","v":0},0,0,{"$f":"COUNTIF(Report!C:C,B716)","v":0}]
[null,null,null,null,null,null,null,{"$f":"SUMIF(Report!C:C,B717,Report!J:J)","v":0},0,0,{"$f":"COUNTIF(Report!C:C,B717)","v":0}]
[null,null,null,null,null,null,null,{"$f":"SUMIF(Report!C:C,B718,Report!J:J)","v":0},0,0,{"$f":"COUNTIF(Report!C:C,B718)","v":0}]
[null,null,null,null,null,null,null,{"$f":"SUMIF(Report!C:C,B719,Report!J:J)","v":0},0,0,{"$f":"COUNTIF(Report!C:C,B719)","v":0}]
[null,null,null,null,null,null,null,{"$f":"SUMIF(Report!C:C,B720,Report!J:J)","v":0},0,0,{"$f":"COUNTIF(Report!C:C,B720)","v":0}]
[null,null,null,null,null,null,null,{"$f":"SUMIF(Report!C:C,B721,Report!J:J)","v":0},0,0,{"$f":"COUNTIF(Report!C:C,B721)","v":0}]
[null,null,null,null,null,null,null,{"$f":"SUMIF(Report!C:C,B722,Report!J:J)","v":0},0,0,{"$f":"COUNTIF(Report!C:C,B722)","v":0}]
[null,null,null,null,null,null,null,{"$f":"SUMIF(Report!C:C,B723,Report!J:J)","v":0},0,0,{"$f":"COUNTIF(Report!C:C,B723)","v":0}]
[null,null,null,null,null,null,null,{"$f":"SUMIF(Report!C:C,B724,Report!J:J)","v":0},0,0,{"$f":"COUNTIF(Report!C:C,B724)","v":0}]
[null,null,null,null,null,null,null,{"$f":"SUMIF(Report!C:C,B725,Report!J:J)","v":0},0,0,{"$f":"COUNTIF(Report!C:C,B725)","v":0}]
[null,null,null,null,null,null,null,{"$f":"SUMIF(Report!C:C,B726,Report!J:J)","v":0},0,0,{"$f":"COUNTIF(Report!C:C,B726)","v":0}]
[null,null,null,null,null,null,null,{"$f":"SUMIF(Report!C:C,B727,Report!J:J)","v":0},0,0,{"$f":"COUNTIF(Report!C:C,B727)","v":0}]
[null,null,null,null,null,null,null,{"$f":"SUMIF(Report!C:C,B728,Report!J:J)","v":0},0,0,{"$f":"COUNTIF(Report!C:C,B728)","v":0}]
[null,null,null,null,null,null,null,{"$f":"SUMIF(Report!C:C,B729,Report!J:J)","v":0},0,0,{"$f":"COUNTIF(Report!C:C,B729)","v":0}]
[null,null,null,null,null,null,null,{"$f":"SUMIF(Report!C:C,B730,Report!J:J)","v":0},0,0,{"$f":"COUNTIF(Report!C:C,B730)","v":0}]
[null,null,null,null,null,null,null,{"$f":"SUMIF(Report!C:C,B731,Report!J:J)","v":0},0,0,{"$f":"COUNTIF(Report!C:C,B731)","v":0}]
[null,null,null,null,null,null,null,{"$f":"SUMIF(Report!C:C,B732,Report!J:J)","v":0},0,0,{"$f":"COUNTIF(Report!C:C,B732)","v":0}]
[null,null,null,null,null,null,null,{"$f":"SUMIF(Report!C:C,B733,Report!J:J)","v":0},0,0,{"$f":"COUNTIF(Report!C:C,B733)","v":0}]
[null,null,null,null,null,null,null,{"$f":"SUMIF(Report!C:C,B734,Report!J:J)","v":0},0,0,{"$f":"COUNTIF(Report!C:C,B734)","v":0}]
[null,null,null,null,null,null,null,{"$f":"SUMIF(Report!C:C,B735,Report!J:J)","v":0},0,0,{"$f":"COUNTIF(Report!C:C,B735)","v":0}]
[null,null,null,null,null,null,null,{"$f":"SUMIF(Report!C:C,B736,Report!J:J)","v":0},0,0,{"$f":"COUNTIF(Report!C:C,B736)","v":0}]
[null,null,null,null,null,null,null,{"$f":"SUMIF(Report!C:C,B737,Report!J:J)","v":0},0,0,{"$f":"COUNTIF(Report!C:C,B737)","v":0}]
[null,null,null,null,null,null,null,{"$f":"SUMIF(Report!C:C,B738,Report!J:J)","v":0},0,0,{"$f":"COUNTIF(Report!C:C,B738)","v":0}]
[null,null,null,null,null,null,null,{"$f":"SUMIF(Report!C:C,B739,Report!J:J)","v":0},0,0,{"$f":"COUNTIF(Report!C:C,B739)","v":0}]
[null,null,null,null,null,null,null,{"$f":"SUMIF(Report!C:C,B740,Report!J:J)","v":0},0,0,{"$f":"COUNTIF(Report!C:C,B740)","v":0}]
[null,null,null,null,null,null,null,{"$f":"SUMIF(Report!C:C,B741,Report!J:J)","v":0},0,0,{"$f":"COUNTIF(Report!C:C,B741)","v":0}]
[null,null,null,null,null,null,null,{"$f":"SUMIF(Report!C:C,B742,Report!J:J)","v":0},0,0,{"$f":"COUNTIF(Report!C:C,B742)","v":0}]
[null,null,null,null,null,null,null,{"$f":"SUMIF(Report!C:C,B743,Report!J:J)","v":0},0,0,{"$f":"COUNTIF(Report!C:C,B743)","v":0}]
[null,null,null,null,null,null,null,{"$f":"SUMIF(Report!C:C,B744,Report!J:J)","v":0},0,0,{"$f":"COUNTIF(Report!C:C,B744)","v":0}]
[null,null,null,null,null,null,null,{"$f":"SUMIF(Report!C:C,B745,Report!J:J)","v":0},0,0,{"$f":"COUNTIF(Report!C:C,B745)","v":0}]
[null,null,null,null,null,null,null,{"$f":"SUMIF(Report!C:C,B746,Report!J:J)","v":0},0,0,{"$f":"COUNTIF(Report!C:C,B746)","v":0}]
[null,null,null,null,null,null,null,{"$f":"SUMIF(Report!C:C,B747,Report!J:J)","v":0},0,0,{"$f":"COUNTIF(Report!C:C,B747)","v":0}]
[null,null,null,null,null,null,null,{"$f":"SUMIF(Report!C:C,B748,Report!J:J)","v":0},0,0,{"$f":"COUNTIF(Report!C:C,B748)","v":0}]
[null,null,null,null,null,null,null,{"$f":"SUMIF(Report!C:C,B749,Report!J:J)","v":0},0,0,{"$f":"COUNTIF(Report!C:C,B749)","v":0}]
[null,null,null,null,null,null,null,{"$f":"SUMIF(Report!C:C,B750,Report!J:J)","v":0},0,0,{"$f":"COUNTIF(Report!C:C,B750)","v":0}]
[null,null,null,null,null,null,null,{"$f":"SUMIF(Report!C:C,B751,Report!J:J)","v":0},0,0,{"$f":"COUNTIF(Report!C:C,B751)","v":0}]
[null,null,null,null,null,null,null,{"$f":"SUMIF(Report!C:C,B752,Report!J:J)","v":0},0,0,{"$f":"COUNTIF(Report!C:C,B752)","v":0}]
[null,null,null,null,null,null,null,{"$f":"SUMIF(Report!C:C,B753,Report!J:J)","v":0},0,0,{"$f":"COUNTIF(Report!C:C,B753)","v":0}]
[null,null,null,null,null,null,null,{"$f":"SUMIF(Report!C:C,B754,Report!J:J)","v":0},0,0,{"$f":"COUNTIF(Report!C:C,B754)","v":0}]
[null,null,null,null,null,null,null,{"$f":"SUMIF(Report!C:C,B755,Report!J:J)","v":0},0,0,{"$f":"COUNTIF(Report!C:C,B755)","v":0}]
[null,null,null,null,null,null,null,{"$f":"SUMIF(Report!C:C,B756,Report!J:J)","v":0},0,0,{"$f":"COUNTIF(Report!C:C,B756)","v":0}]
[null,null,null,null,null,null,null,{"$f":"SUMIF(Report!C:C,B757,Report!J:J)","v":0},0,0,{"$f":"COUNTIF(Report!C:C,B757)","v":0}]
[null,null,null,null,null,null,null,{"$f":"SUMIF(Report!C:C,B758,Report!J:J)","v":0},0,0,{"$f":"COUNTIF(Report!C:C,B758)","v":0}]
[null,null,null,null,null,null,null,{"$f":"SUMIF(Report!C:C,B759,Report!J:J)","v":0},0,0,{"$f":"COUNTIF(Report!C:C,B759)","v":0}]
[null,null,null,null,null,null,null,{"$f":"SUMIF(Report!C:C,B760,Report!J:J)","v":0},0,0,{"$f":"COUNTIF(Report!C:C,B760)","v":0}]
[null,null,null,null,null,null,null,{"$f":"SUMIF(Report!C:C,B761,Report!J:J)","v":0},0,0,{"$f":"COUNTIF(Report!C:C,B761)","v":0}]
[null,null,null,null,null,null,null,{"$f":"SUMIF(Report!C:C,B762,Report!J:J)","v":0},0,0,{"$f":"COUNTIF(Report!C:C,B762)","v":0}]
[null,null,null,null,null,null,null,{"$f":"SUMIF(Report!C:C,B763,Report!J:J)","v":0},0,0,{"$f":"COUNTIF(Report!C:C,B763)","v":0}]
[null,null,null,null,null,null,null,{"$f":"SUMIF(Report!C:C,B764,Report!J:J)","v":0},0,0,{"$f":"COUNTIF(Report!C:C,B764)","v":0}]
[null,null,null,null,null,null,null,{"$f":"SUMIF(Report!C:C,B765,Report!J:J)","v":0},0,0,{"$f":"COUNTIF(Report!C:C,B765)","v":0}]
[null,null,null,null,null,null,null,{"$f":"SUMIF(Report!C:C,B766,Report!J:J)","v":0},0,0,{"$f":"COUNTIF(Report!C:C,B766)","v":0}]
[null,null,null,null,null,null,null,{"$f":"SUMIF(Report!C:C,B767,Report!J:J)","v":0},0,0,{"$f":"COUNTIF(Report!C:C,B767)","v":0}]
[null,null,null,null,null,null,null,{"$f":"SUMIF(Report!C:C,B768,Report!J:J)","v":0},0,0,{"$f":"COUNTIF(Report!C:C,B768)","v":0}]
[null,null,null,null,null,null,null,{"$f":"SUMIF(Report!C:C,B769,Report!J:J)","v":0},0,0,{"$f":"COUNTIF(Report!C:C,B769)","v":0}]
[null,null,null,null,null,null,null,{"$f":"SUMIF(Report!C:C,B770,Report!J:J)","v":0},0,0,{"$f":"COUNTIF(Report!C:C,B770)","v":0}]
[null,null,null,null,null,null,null,{"$f":"SUMIF(Report!C:C,B771,Report!J:J)","v":0},{"$f":"IF($M$1=$L$1,H771*E771,+IF($M$1=$L$2,H771*F771,H771*G771))","v":0},{"$f":"IFERROR(I771/SUM($I$2:$I$2499),0)","v":0},{"$f":"COUNTIF(Report!C:C,B771)","v":0}]
[null,null,null,null,null,null,null,{"$f":"SUMIF(Report!C:C,B772,Report!J:J)","v":0},0,0,{"$f":"COUNTIF(Report!C:C,B772)","v":0}]
[null,null,null,null,null,null,null,{"$f":"SUMIF(Report!C:C,B773,Report!J:J)","v":0},0,0,{"$f":"COUNTIF(Report!C:C,B773)","v":0}]
[null,null,null,null,null,null,null,{"$f":"SUMIF(Report!C:C,B774,Report!J:J)","v":0},0,0,{"$f":"COUNTIF(Report!C:C,B774)","v":0}]
[null,null,null,null,null,null,null,{"$f":"SUMIF(Report!C:C,B775,Report!J:J)","v":0},0,0,{"$f":"COUNTIF(Report!C:C,B775)","v":0}]
[null,null,null,null,null,null,null,{"$f":"SUMIF(Report!C:C,B776,Report!J:J)","v":0},0,0,{"$f":"COUNTIF(Report!C:C,B776)","v":0}]
[null,null,null,null,null,null,null,{"$f":"SUMIF(Report!C:C,B777,Report!J:J)","v":0},0,0,{"$f":"COUNTIF(Report!C:C,B777)","v":0}]
[null,null,null,null,null,null,null,{"$f":"SUMIF(Report!C:C,B778,Report!J:J)","v":0},0,0,{"$f":"COUNTIF(Report!C:C,B778)","v":0}]
[null,null,null,null,null,null,null,{"$f":"SUMIF(Report!C:C,B779,Report!J:J)","v":0},0,0,{"$f":"COUNTIF(Report!C:C,B779)","v":0}]
[null,null,null,null,null,null,null,{"$f":"SUMIF(Report!C:C,B780,Report!J:J)","v":0},0,0,{"$f":"COUNTIF(Report!C:C,B780)","v":0}]
[null,null,null,null,null,null,null,{"$f":"SUMIF(Report!C:C,B781,Report!J:J)","v":0},0,0,{"$f":"COUNTIF(Report!C:C,B781)","v":0}]
[null,null,null,null,null,null,null,{"$f":"SUMIF(Report!C:C,B782,Report!J:J)","v":0},0,0,{"$f":"COUNTIF(Report!C:C,B782)","v":0}]
[null,null,null,null,null,null,null,{"$f":"SUMIF(Report!C:C,B783,Report!J:J)","v":0},0,0,{"$f":"COUNTIF(Report!C:C,B783)","v":0}]
[null,null,null,null,null,null,null,{"$f":"SUMIF(Report!C:C,B784,Report!J:J)","v":0},0,0,{"$f":"COUNTIF(Report!C:C,B784)","v":0}]
[null,null,null,null,null,null,null,{"$f":"SUMIF(Report!C:C,B785,Report!J:J)","v":0},0,0,{"$f":"COUNTIF(Report!C:C,B785)","v":0}]
[null,null,null,null,null,null,null,{"$f":"SUMIF(Report!C:C,B786,Report!J:J)","v":0},0,0,{"$f":"COUNTIF(Report!C:C,B786)","v":0}]
[null,null,null,null,null,null,null,{"$f":"SUMIF(Report!C:C,B787,Report!J:J)","v":0},0,0,{"$f":"COUNTIF(Report!C:C,B787)","v":0}]
[null,null,null,null,null,null,null,{"$f":"SUMIF(Report!C:C,B788,Report!J:J)","v":0},0,0,{"$f":"COUNTIF(Report!C:C,B788)","v":0}]
[null,null,null,null,null,null,null,{"$f":"SUMIF(Report!C:C,B789,Report!J:J)","v":0},0,0,{"$f":"COUNTIF(Report!C:C,B789)","v":0}]
[null,null,null,null,null,null,null,{"$f":"SUMIF(Report!C:C,B790,Report!J:J)","v":0},0,0,{"$f":"COUNTIF(Report!C:C,B790)","v":0}]
[null,null,null,null,null,null,null,{"$f":"SUMIF(Report!C:C,B791,Report!J:J)","v":0},0,0,{"$f":"COUNTIF(Report!C:C,B791)","v":0}]
[null,null,null,null,null,null,null,{"$f":"SUMIF(Report!C:C,B792,Report!J:J)","v":0},0,0,{"$f":"COUNTIF(Report!C:C,B792)","v":0}]
[null,null,null,null,null,null,null,{"$f":"SUMIF(Report!C:C,B793,Report!J:J)","v":0},0,0,{"$f":"COUNTIF(Report!C:C,B793)","v":0}]
[null,null,null,null,null,null,null,{"$f":"SUMIF(Report!C:C,B794,Report!J:J)","v":0},0,0,{"$f":"COUNTIF(Report!C:C,B794)","v":0}]
[null,null,null,null,null,null,null,{"$f":"SUMIF(Report!C:C,B795,Report!J:J)","v":0},0,0,{"$f":"COUNTIF(Report!C:C,B795)","v":0}]
[null,null,null,null,null,null,null,{"$f":"SUMIF(Report!C:C,B796,Report!J:J)","v":0},0,0,{"$f":"COUNTIF(Report!C:C,B796)","v":0}]
[null,null,null,null,null,null,null,{"$f":"SUMIF(Report!C:C,B797,Report!J:J)","v":0},0,0,{"$f":"COUNTIF(Report!C:C,B797)","v":0}]
[null,null,null,null,null,null,null,{"$f":"SUMIF(Report!C:C,B798,Report!J:J)","v":0},0,0,{"$f":"COUNTIF(Report!C:C,B798)","v":0}]
[null,null,null,null,null,null,null,{"$f":"SUMIF(Report!C:C,B799,Report!J:J)","v":0},0,0,{"$f":"COUNTIF(Report!C:C,B799)","v":0}]
[null,null,null,null,null,null,null,{"$f":"SUMIF(Report!C:C,B800,Report!J:J)","v":0},0,0,{"$f":"COUNTIF(Report!C:C,B800)","v":0}]
[null,null,null,null,null,null,null,{"$f":"SUMIF(Report!C:C,B801,Report!J:J)","v":0},0,0,{"$f":"COUNTIF(Report!C:C,B801)","v":0}]
[null,null,null,null,null,null,null,{"$f":"SUMIF(Report!C:C,B802,Report!J:J)","v":0},0,0,{"$f":"COUNTIF(Report!C:C,B802)","v":0}]
[null,null,null,null,null,null,null,{"$f":"SUMIF(Report!C:C,B803,Report!J:J)","v":0},0,0,{"$f":"COUNTIF(Report!C:C,B803)","v":0}]
[null,null,null,null,null,null,null,{"$f":"SUMIF(Report!C:C,B804,Report!J:J)","v":0},0,0,{"$f":"COUNTIF(Report!C:C,B804)","v":0}]
[null,null,null,null,null,null,null,{"$f":"SUMIF(Report!C:C,B805,Report!J:J)","v":0},0,0,{"$f":"COUNTIF(Report!C:C,B805)","v":0}]
[null,null,null,null,null,null,null,{"$f":"SUMIF(Report!C:C,B806,Report!J:J)","v":0},0,0,{"$f":"COUNTIF(Report!C:C,B806)","v":0}]
[null,null,null,null,null,null,null,{"$f":"SUMIF(Report!C:C,B807,Report!J:J)","v":0},0,0,{"$f":"COUNTIF(Report!C:C,B807)","v":0}]
[null,null,null,null,null,null,null,{"$f":"SUMIF(Report!C:C,B808,Report!J:J)","v":0},0,0,{"$f":"COUNTIF(Report!C:C,B808)","v":0}]
[null,null,null,null,null,null,null,{"$f":"SUMIF(Report!C:C,B809,Report!J:J)","v":0},0,0,{"$f":"COUNTIF(Report!C:C,B809)","v":0}]
[null,null,null,null,null,null,null,{"$f":"SUMIF(Report!C:C,B810,Report!J:J)","v":0},0,0,{"$f":"COUNTIF(Report!C:C,B810)","v":0}]
[null,null,null,null,null,null,null,{"$f":"SUMIF(Report!C:C,B811,Report!J:J)","v":0},0,0,{"$f":"COUNTIF(Report!C:C,B811)","v":0}]
[null,null,null,null,null,null,null,{"$f":"SUMIF(Report!C:C,B812,Report!J:J)","v":0},0,0,{"$f":"COUNTIF(Report!C:C,B812)","v":0}]
[null,null,null,null,null,null,null,{"$f":"SUMIF(Report!C:C,B813,Report!J:J)","v":0},0,0,{"$f":"COUNTIF(Report!C:C,B813)","v":0}]
[null,null,null,null,null,null,null,{"$f":"SUMIF(Report!C:C,B814,Report!J:J)","v":0},0,0,{"$f":"COUNTIF(Report!C:C,B814)","v":0}]
[null,null,null,null,null,null,null,{"$f":"SUMIF(Report!C:C,B815,Report!J:J)","v":0},0,0,{"$f":"COUNTIF(Report!C:C,B815)","v":0}]
[null,null,null,null,null,null,null,{"$f":"SUMIF(Report!C:C,B816,Report!J:J)","v":0},0,0,{"$f":"COUNTIF(Report!C:C,B816)","v":0}]
[null,null,null,null,null,null,null,{"$f":"SUMIF(Report!C:C,B817,Report!J:J)","v":0},0,0,{"$f":"COUNTIF(Report!C:C,B817)","v":0}]
[null,null,null,null,null,null,null,{"$f":"SUMIF(Report!C:C,B818,Report!J:J)","v":0},0,0,{"$f":"COUNTIF(Report!C:C,B818)","v":0}]
[null,null,null,null,null,null,null,{"$f":"SUMIF(Report!C:C,B819,Report!J:J)","v":0},0,0,{"$f":"COUNTIF(Report!C:C,B819)","v":0}]
[null,null,null,null,null,null,null,{"$f":"SUMIF(Report!C:C,B820,Report!J:J)","v":0},0,0,{"$f":"COUNTIF(Report!C:C,B820)","v":0}]
[null,null,null,null,null,null,null,{"$f":"SUMIF(Report!C:C,B821,Report!J:J)","v":0},0,0,{"$f":"COUNTIF(Report!C:C,B821)","v":0}]
[null,null,null,null,null,null,null,{"$f":"SUMIF(Report!C:C,B822,Report!J:J)","v":0},0,0,{"$f":"COUNTIF(Report!C:C,B822)","v":0}]
[null,null,null,null,null,null,null,{"$f":"SUMIF(Report!C:C,B823,Report!J:J)","v":0},0,0,{"$f":"COUNTIF(Report!C:C,B823)","v":0}]
[null,null,null,null,null,null,null,{"$f":"SUMIF(Report!C:C,B824,Report!J:J)","v":0},0,0,{"$f":"COUNTIF(Report!C:C,B824)","v":0}]
[null,null,null,null,null,null,null,{"$f":"SUMIF(Report!C:C,B825,Report!J:J)","v":0},0,0,{"$f":"COUNTIF(Report!C:C,B825)","v":0}]
[null,null,null,null,null,null,null,{"$f":"SUMIF(Report!C:C,B826,Report!J:J)","v":0},0,0,{"$f":"COUNTIF(Report!C:C,B826)","v":0}]
[null,null,null,null,null,null,null,{"$f":"SUMIF(Report!C:C,B827,Report!J:J)","v":0},0,0,{"$f":"COUNTIF(Report!C:C,B827)","v":0}]
[null,null,null,null,null,null,null,{"$f":"SUMIF(Report!C:C,B828,Report!J:J)","v":0},0,0,{"$f":"COUNTIF(Report!C:C,B828)","v":0}]
[null,null,null,null,null,null,null,{"$f":"SUMIF(Report!C:C,B829,Report!J:J)","v":0},0,0,{"$f":"COUNTIF(Report!C:C,B829)","v":0}]
[null,null,null,null,null,null,null,{"$f":"SUMIF(Report!C:C,B830,Report!J:J)","v":0},0,0,{"$f":"COUNTIF(Report!C:C,B830)","v":0}]
[null,null,null,null,null,null,null,{"$f":"SUMIF(Report!C:C,B831,Report!J:J)","v":0},0,0,{"$f":"COUNTIF(Report!C:C,B831)","v":0}]
[null,null,null,null,null,null,null,{"$f":"SUMIF(Report!C:C,B832,Report!J:J)","v":0},0,0,{"$f":"COUNTIF(Report!C:C,B832)","v":0}]
[null,null,null,null,null,null,null,{"$f":"SUMIF(Report!C:C,B833,Report!J:J)","v":0},0,0,{"$f":"COUNTIF(Report!C:C,B833)","v":0}]
[null,null,null,null,null,null,null,{"$f":"SUMIF(Report!C:C,B834,Report!J:J)","v":0},0,0,{"$f":"COUNTIF(Report!C:C,B834)","v":0}]
[null,null,null,null,null,null,null,{"$f":"SUMIF(Report!C:C,B835,Report!J:J)","v":0},{"$f":"IF($M$1=$L$1,H835*E835,+IF($M$1=$L$2,H835*F835,H835*G835))","v":0},{"$f":"IFERROR(I835/SUM($I$2:$I$2499),0)","v":0},{"$f":"COUNTIF(Report!C:C,B835)","v":0}]
[null,null,null,null,null,null,null,{"$f":"SUMIF(Report!C:C,B836,Report!J:J)","v":0},0,0,{"$f":"COUNTIF(Report!C:C,B836)","v":0}]
[null,null,null,null,null,null,null,{"$f":"SUMIF(Report!C:C,B837,Report!J:J)","v":0},0,0,{"$f":"COUNTIF(Report!C:C,B837)","v":0}]
[null,null,null,null,null,null,null,{"$f":"SUMIF(Report!C:C,B838,Report!J:J)","v":0},0,0,{"$f":"COUNTIF(Report!C:C,B838)","v":0}]
[null,null,null,null,null,null,null,{"$f":"SUMIF(Report!C:C,B839,Report!J:J)","v":0},0,0,{"$f":"COUNTIF(Report!C:C,B839)","v":0}]
[null,null,null,null,null,null,null,{"$f":"SUMIF(Report!C:C,B840,Report!J:J)","v":0},0,0,{"$f":"COUNTIF(Report!C:C,B840)","v":0}]
[null,null,null,null,null,null,null,{"$f":"SUMIF(Report!C:C,B841,Report!J:J)","v":0},0,0,{"$f":"COUNTIF(Report!C:C,B841)","v":0}]
[null,null,null,null,null,null,null,{"$f":"SUMIF(Report!C:C,B842,Report!J:J)","v":0},0,0,{"$f":"COUNTIF(Report!C:C,B842)","v":0}]
[null,null,null,null,null,null,null,{"$f":"SUMIF(Report!C:C,B843,Report!J:J)","v":0},0,0,{"$f":"COUNTIF(Report!C:C,B843)","v":0}]
[null,null,null,null,null,null,null,{"$f":"SUMIF(Report!C:C,B844,Report!J:J)","v":0},0,0,{"$f":"COUNTIF(Report!C:C,B844)","v":0}]
[null,null,null,null,null,null,null,{"$f":"SUMIF(Report!C:C,B845,Report!J:J)","v":0},0,0,{"$f":"COUNTIF(Report!C:C,B845)","v":0}]
[null,null,null,null,null,null,null,{"$f":"SUMIF(Report!C:C,B846,Report!J:J)","v":0},0,0,{"$f":"COUNTIF(Report!C:C,B846)","v":0}]
[null,null,null,null,null,null,null,{"$f":"SUMIF(Report!C:C,B847,Report!J:J)","v":0},0,0,{"$f":"COUNTIF(Report!C:C,B847)","v":0}]
[null,null,null,null,null,null,null,{"$f":"SUMIF(Report!C:C,B848,Report!J:J)","v":0},0,0,{"$f":"COUNTIF(Report!C:C,B848)","v":0}]
[null,null,null,null,null,null,null,{"$f":"SUMIF(Report!C:C,B849,Report!J:J)","v":0},0,0,{"$f":"COUNTIF(Report!C:C,B849)","v":0}]
[null,null,null,null,null,null,null,{"$f":"SUMIF(Report!C:C,B850,Report!J:J)","v":0},0,0,{"$f":"COUNTIF(Report!C:C,B850)","v":0}]
[null,null,null,null,null,null,null,{"$f":"SUMIF(Report!C:C,B851,Report!J:J)","v":0},0,0,{"$f":"COUNTIF(Report!C:C,B851)","v":0}]
[null,null,null,null,null,null,null,{"$f":"SUMIF(Report!C:C,B852,Report!J:J)","v":0},0,0,{"$f":"COUNTIF(Report!C:C,B852)","v":0}]
[null,null,null,null,null,null,null,{"$f":"SUMIF(Report!C:C,B853,Report!J:J)","v":0},0,0,{"$f":"COUNTIF(Report!C:C,B853)","v":0}]
[null,null,null,null,null,null,null,{"$f":"SUMIF(Report!C:C,B854,Report!J:J)","v":0},0,0,{"$f":"COUNTIF(Report!C:C,B854)","v":0}]
[null,null,null,null,null,null,null,{"$f":"SUMIF(Report!C:C,B855,Report!J:J)","v":0},0,0,{"$f":"COUNTIF(Report!C:C,B855)","v":0}]
[null,null,null,null,null,null,null,{"$f":"SUMIF(Report!C:C,B856,Report!J:J)","v":0},0,0,{"$f":"COUNTIF(Report!C:C,B856)","v":0}]
[null,null,null,null,null,null,null,{"$f":"SUMIF(Report!C:C,B857,Report!J:J)","v":0},0,0,{"$f":"COUNTIF(Report!C:C,B857)","v":0}]
[null,null,null,null,null,null,null,{"$f":"SUMIF(Report!C:C,B858,Report!J:J)","v":0},0,0,{"$f":"COUNTIF(Report!C:C,B858)","v":0}]
[null,null,null,null,null,null,null,{"$f":"SUMIF(Report!C:C,B859,Report!J:J)","v":0},0,0,{"$f":"COUNTIF(Report!C:C,B859)","v":0}]
[null,null,null,null,null,null,null,{"$f":"SUMIF(Report!C:C,B860,Report!J:J)","v":0},0,0,{"$f":"COUNTIF(Report!C:C,B860)","v":0}]
[null,null,null,null,null,null,null,{"$f":"SUMIF(Report!C:C,B861,Report!J:J)","v":0},0,0,{"$f":"COUNTIF(Report!C:C,B861)","v":0}]
[null,null,null,null,null,null,null,{"$f":"SUMIF(Report!C:C,B862,Report!J:J)","v":0},0,0,{"$f":"COUNTIF(Report!C:C,B862)","v":0}]
[null,null,null,null,null,null,null,{"$f":"SUMIF(Report!C:C,B863,Report!J:J)","v":0},0,0,{"$f":"COUNTIF(Report!C:C,B863)","v":0}]
[null,null,null,null,null,null,null,{"$f":"SUMIF(Report!C:C,B864,Report!J:J)","v":0},0,0,{"$f":"COUNTIF(Report!C:C,B864)","v":0}]
[null,null,null,null,null,null,null,{"$f":"SUMIF(Report!C:C,B865,Report!J:J)","v":0},0,0,{"$f":"COUNTIF(Report!C:C,B865)","v":0}]
[null,null,null,null,null,null,null,{"$f":"SUMIF(Report!C:C,B866,Report!J:J)","v":0},0,0,{"$f":"COUNTIF(Report!C:C,B866)","v":0}]
[null,null,null,null,null,null,null,{"$f":"SUMIF(Report!C:C,B867,Report!J:J)","v":0},0,0,{"$f":"COUNTIF(Report!C:C,B867)","v":0}]
[null,null,null,null,null,null,null,{"$f":"SUMIF(Report!C:C,B868,Report!J:J)","v":0},0,0,{"$f":"COUNTIF(Report!C:C,B868)","v":0}]
[null,null,null,null,null,null,null,{"$f":"SUMIF(Report!C:C,B869,Report!J:J)","v":0},0,0,{"$f":"COUNTIF(Report!C:C,B869)","v":0}]
[null,null,null,null,null,null,null,{"$f":"SUMIF(Report!C:C,B870,Report!J:J)","v":0},0,0,{"$f":"COUNTIF(Report!C:C,B870)","v":0}]
[null,null,null,null,null,null,null,{"$f":"SUMIF(Report!C:C,B871,Report!J:J)","v":0},0,0,{"$f":"COUNTIF(Report!C:C,B871)","v":0}]
[null,null,null,null,null,null,null,{"$f":"SUMIF(Report!C:C,B872,Report!J:J)","v":0},0,0,{"$f":"COUNTIF(Report!C:C,B872)","v":0}]
[null,null,null,null,null,null,null,{"$f":"SUMIF(Report!C:C,B873,Report!J:J)","v":0},0,0,{"$f":"COUNTIF(Report!C:C,B873)","v":0}]
[null,null,null,null,null,null,null,{"$f":"SUMIF(Report!C:C,B874,Report!J:J)","v":0},0,0,{"$f":"COUNTIF(Report!C:C,B874)","v":0}]
[null,null,null,null,null,null,null,{"$f":"SUMIF(Report!C:C,B875,Report!J:J)","v":0},0,0,{"$f":"COUNTIF(Report!C:C,B875)","v":0}]
[null,null,null,null,null,null,null,{"$f":"SUMIF(Report!C:C,B876,Report!J:J)","v":0},0,0,{"$f":"COUNTIF(Report!C:C,B876)","v":0}]
[null,null,null,null,null,null,null,{"$f":"SUMIF(Report!C:C,B877,Report!J:J)","v":0},0,0,{"$f":"COUNTIF(Report!C:C,B877)","v":0}]
[null,null,null,null,null,null,null,{"$f":"SUMIF(Report!C:C,B878,Report!J:J)","v":0},0,0,{"$f":"COUNTIF(Report!C:C,B878)","v":0}]
[null,null,null,null,null,null,null,{"$f":"SUMIF(Report!C:C,B879,Report!J:J)","v":0},0,0,{"$f":"COUNTIF(Report!C:C,B879)","v":0}]
[null,null,null,null,null,null,null,{"$f":"SUMIF(Report!C:C,B880,Report!J:J)","v":0},0,0,{"$f":"COUNTIF(Report!C:C,B880)","v":0}]
[null,null,null,null,null,null,null,{"$f":"SUMIF(Report!C:C,B881,Report!J:J)","v":0},0,0,{"$f":"COUNTIF(Report!C:C,B881)","v":0}]
[null,null,null,null,null,null,null,{"$f":"SUMIF(Report!C:C,B882,Report!J:J)","v":0},0,0,{"$f":"COUNTIF(Report!C:C,B882)","v":0}]
[null,null,null,null,null,null,null,{"$f":"SUMIF(Report!C:C,B883,Report!J:J)","v":0},0,0,{"$f":"COUNTIF(Report!C:C,B883)","v":0}]
[null,null,null,null,null,null,null,{"$f":"SUMIF(Report!C:C,B884,Report!J:J)","v":0},0,0,{"$f":"COUNTIF(Report!C:C,B884)","v":0}]
[null,null,null,null,null,null,null,{"$f":"SUMIF(Report!C:C,B885,Report!J:J)","v":0},0,0,{"$f":"COUNTIF(Report!C:C,B885)","v":0}]
[null,null,null,null,null,null,null,{"$f":"SUMIF(Report!C:C,B886,Report!J:J)","v":0},0,0,{"$f":"COUNTIF(Report!C:C,B886)","v":0}]
[null,null,null,null,null,null,null,{"$f":"SUMIF(Report!C:C,B887,Report!J:J)","v":0},0,0,{"$f":"COUNTIF(Report!C:C,B887)","v":0}]
[null,null,null,null,null,null,null,{"$f":"SUMIF(Report!C:C,B888,Report!J:J)","v":0},0,0,{"$f":"COUNTIF(Report!C:C,B888)","v":0}]
[null,null,null,null,null,null,null,{"$f":"SUMIF(Report!C:C,B889,Report!J:J)","v":0},0,0,{"$f":"COUNTIF(Report!C:C,B889)","v":0}]
[null,null,null,null,null,null,null,{"$f":"SUMIF(Report!C:C,B890,Report!J:J)","v":0},0,0,{"$f":"COUNTIF(Report!C:C,B890)","v":0}]
[null,null,null,null,null,null,null,{"$f":"SUMIF(Report!C:C,B891,Report!J:J)","v":0},0,0,{"$f":"COUNTIF(Report!C:C,B891)","v":0}]
[null,null,null,null,null,null,null,{"$f":"SUMIF(Report!C:C,B892,Report!J:J)","v":0},0,0,{"$f":"COUNTIF(Report!C:C,B892)","v":0}]
[null,null,null,null,null,null,null,{"$f":"SUMIF(Report!C:C,B893,Report!J:J)","v":0},0,0,{"$f":"COUNTIF(Report!C:C,B893)","v":0}]
[null,null,null,null,null,null,null,{"$f":"SUMIF(Report!C:C,B894,Report!J:J)","v":0},0,0,{"$f":"COUNTIF(Report!C:C,B894)","v":0}]
[null,null,null,null,null,null,null,{"$f":"SUMIF(Report!C:C,B895,Report!J:J)","v":0},0,0,{"$f":"COUNTIF(Report!C:C,B895)","v":0}]
[null,null,null,null,null,null,null,{"$f":"SUMIF(Report!C:C,B896,Report!J:J)","v":0},0,0,{"$f":"COUNTIF(Report!C:C,B896)","v":0}]
[null,null,null,null,null,null,null,{"$f":"SUMIF(Report!C:C,B897,Report!J:J)","v":0},0,0,{"$f":"COUNTIF(Report!C:C,B897)","v":0}]
[null,null,null,null,null,null,null,{"$f":"SUMIF(Report!C:C,B898,Report!J:J)","v":0},0,0,{"$f":"COUNTIF(Report!C:C,B898)","v":0}]
[null,null,null,null,null,null,null,{"$f":"SUMIF(Report!C:C,B899,Report!J:J)","v":0},{"$f":"IF($M$1=$L$1,H899*E899,+IF($M$1=$L$2,H899*F899,H899*G899))","v":0},{"$f":"IFERROR(I899/SUM($I$2:$I$2499),0)","v":0},{"$f":"COUNTIF(Report!C:C,B899)","v":0}]
[null,null,null,null,null,null,null,{"$f":"SUMIF(Report!C:C,B900,Report!J:J)","v":0},0,0,{"$f":"COUNTIF(Report!C:C,B900)","v":0}]
[null,null,null,null,null,null,null,{"$f":"SUMIF(Report!C:C,B901,Report!J:J)","v":0},0,0,{"$f":"COUNTIF(Report!C:C,B901)","v":0}]
[null,null,null,null,null,null,null,{"$f":"SUMIF(Report!C:C,B902,Report!J:J)","v":0},0,0,{"$f":"COUNTIF(Report!C:C,B902)","v":0}]
[null,null,null,null,null,null,null,{"$f":"SUMIF(Report!C:C,B903,Report!J:J)","v":0},0,0,{"$f":"COUNTIF(Report!C:C,B903)","v":0}]
[null,null,null,null,null,null,null,{"$f":"SUMIF(Report!C:C,B904,Report!J:J)","v":0},0,0,{"$f":"COUNTIF(Report!C:C,B904)","v":0}]
[null,null,null,null,null,null,null,{"$f":"SUMIF(Report!C:C,B905,Report!J:J)","v":0},0,0,{"$f":"COUNTIF(Report!C:C,B905)","v":0}]
[null,null,null,null,null,null,null,{"$f":"SUMIF(Report!C:C,B906,Report!J:J)","v":0},0,0,{"$f":"COUNTIF(Report!C:C,B906)","v":0}]
[null,null,null,null,null,null,null,{"$f":"SUMIF(Report!C:C,B907,Report!J:J)","v":0},0,0,{"$f":"COUNTIF(Report!C:C,B907)","v":0}]
[null,null,null,null,null,null,null,{"$f":"SUMIF(Report!C:C,B908,Report!J:J)","v":0},0,0,{"$f":"COUNTIF(Report!C:C,B908)","v":0}]
[null,null,null,null,null,null,null,{"$f":"SUMIF(Report!C:C,B909,Report!J:J)","v":0},0,0,{"$f":"COUNTIF(Report!C:C,B909)","v":0}]
[null,null,null,null,null,null,null,{"$f":"SUMIF(Report!C:C,B910,Report!J:J)","v":0},0,0,{"$f":"COUNTIF(Report!C:C,B910)","v":0}]
[null,null,null,null,null,null,null,{"$f":"SUMIF(Report!C:C,B911,Report!J:J)","v":0},0,0,{"$f":"COUNTIF(Report!C:C,B911)","v":0}]
[null,null,null,null,null,null,null,{"$f":"SUMIF(Report!C:C,B912,Report!J:J)","v":0},0,0,{"$f":"COUNTIF(Report!C:C,B912)","v":0}]
[null,null,null,null,null,null,null,{"$f":"SUMIF(Report!C:C,B913,Report!J:J)","v":0},0,0,{"$f":"COUNTIF(Report!C:C,B913)","v":0}]
[null,null,null,null,null,null,null,{"$f":"SUMIF(Report!C:C,B914,Report!J:J)","v":0},0,0,{"$f":"COUNTIF(Report!C:C,B914)","v":0}]
[null,null,null,null,null,null,null,{"$f":"SUMIF(Report!C:C,B915,Report!J:J)","v":0},0,0,{"$f":"COUNTIF(Report!C:C,B915)","v":0}]
[null,null,null,null,null,null,null,{"$f":"SUMIF(Report!C:C,B916,Report!J:J)","v":0},0,0,{"$f":"COUNTIF(Report!C:C,B916)","v":0}]
[null,null,null,null,null,null,null,{"$f":"SUMIF(Report!C:C,B917,Report!J:J)","v":0},0,0,{"$f":"COUNTIF(Report!C:C,B917)","v":0}]
[null,null,null,null,null,null,null,{"$f":"SUMIF(Report!C:C,B918,Report!J:J)","v":0},0,0,{"$f":"COUNTIF(Report!C:C,B918)","v":0}]
[null,null,null,null,null,null,null,{"$f":"SUMIF(Report!C:C,B919,Report!J:J)","v":0},0,0,{"$f":"COUNTIF(Report!C:C,B919)","v":0}]
[null,null,null,null,null,null,null,{"$f":"SUMIF(Report!C:C,B920,Report!J:J)","v":0},0,0,{"$f":"COUNTIF(Report!C:C,B920)","v":0}]
[null,null,null,null,null,null,null,{"$f":"SUMIF(Report!C:C,B921,Report!J:J)","v":0},0,0,{"$f":"COUNTIF(Report!C:C,B921)","v":0}]
[null,null,null,null,null,null,null,{"$f":"SUMIF(Report!C:C,B922,Report!J:J)","v":0},0,0,{"$f":"COUNTIF(Report!C:C,B922)","v":0}]
[null,null,null,null,null,null,null,{"$f":"SUMIF(Report!C:C,B923,Report!J:J)","v":0},0,0,{"$f":"COUNTIF(Report!C:C,B923)","v":0}]
[null,null,null,null,null,null,null,{"$f":"SUMIF(Report!C:C,B924,Report!J:J)","v":0},0,0,{"$f":"COUNTIF(Report!C:C,B924)","v":0}]
[null,null,null,null,null,null,null,{"$f":"SUMIF(Report!C:C,B925,Report!J:J)","v":0},0,0,{"$f":"COUNTIF(Report!C:C,B925)","v":0}]
[null,null,null,null,null,null,null,{"$f":"SUMIF(Report!C:C,B926,Report!J:J)","v":0},0,0,{"$f":"COUNTIF(Report!C:C,B926)","v":0}]
[null,null,null,null,null,null,null,{"$f":"SUMIF(Report!C:C,B927,Report!J:J)","v":0},0,0,{"$f":"COUNTIF(Report!C:C,B927)","v":0}]
[null,null,null,null,null,null,null,{"$f":"SUMIF(Report!C:C,B928,Report!J:J)","v":0},0,0,{"$f":"COUNTIF(Report!C:C,B928)","v":0}]
[null,null,null,null,null,null,null,{"$f":"SUMIF(Report!C:C,B929,Report!J:J)","v":0},0,0,{"$f":"COUNTIF(Report!C:C,B929)","v":0}]
[null,null,null,null,null,null,null,{"$f":"SUMIF(Report!C:C,B930,Report!J:J)","v":0},0,0,{"$f":"COUNTIF(Report!C:C,B930)","v":0}]
[null,null,null,null,null,null,null,{"$f":"SUMIF(Report!C:C,B931,Report!J:J)","v":0},0,0,{"$f":"COUNTIF(Report!C:C,B931)","v":0}]
[null,null,null,null,null,null,null,{"$f":"SUMIF(Report!C:C,B932,Report!J:J)","v":0},0,0,{"$f":"COUNTIF(Report!C:C,B932)","v":0}]
[null,null,null,null,null,null,null,{"$f":"SUMIF(Report!C:C,B933,Report!J:J)","v":0},0,0,{"$f":"COUNTIF(Report!C:C,B933)","v":0}]
[null,null,null,null,null,null,null,{"$f":"SUMIF(Report!C:C,B934,Report!J:J)","v":0},0,0,{"$f":"COUNTIF(Report!C:C,B934)","v":0}]
[null,null,null,null,null,null,null,{"$f":"SUMIF(Report!C:C,B935,Report!J:J)","v":0},0,0,{"$f":"COUNTIF(Report!C:C,B935)","v":0}]
[null,null,null,null,null,null,null,{"$f":"SUMIF(Report!C:C,B936,Report!J:J)","v":0},0,0,{"$f":"COUNTIF(Report!C:C,B936)","v":0}]
[null,null,null,null,null,null,null,{"$f":"SUMIF(Report!C:C,B937,Report!J:J)","v":0},0,0,{"$f":"COUNTIF(Report!C:C,B937)","v":0}]
[null,null,null,null,null,null,null,{"$f":"SUMIF(Report!C:C,B938,Report!J:J)","v":0},0,0,{"$f":"COUNTIF(Report!C:C,B938)","v":0}]
[null,null,null,null,null,null,null,{"$f":"SUMIF(Report!C:C,B939,Report!J:J)","v":0},0,0,{"$f":"COUNTIF(Report!C:C,B939)","v":0}]
[null,null,null,null,null,null,null,{"$f":"SUMIF(Report!C:C,B940,Report!J:J)","v":0},0,0,{"$f":"COUNTIF(Report!C:C,B940)","v":0}]
[null,null,null,null,null,null,null,{"$f":"SUMIF(Report!C:C,B941,Report!J:J)","v":0},0,0,{"$f":"COUNTIF(Report!C:C,B941)","v":0}]
[null,null,null,null,null,null,null,{"$f":"SUMIF(Report!C:C,B942,Report!J:J)","v":0},0,0,{"$f":"COUNTIF(Report!C:C,B942)","v":0}]
[null,null,null,null,null,null,null,{"$f":"SUMIF(Report!C:C,B943,Report!J:J)","v":0},0,0,{"$f":"COUNTIF(Report!C:C,B943)","v":0}]
[null,null,null,null,null,null,null,{"$f":"SUMIF(Report!C:C,B944,Report!J:J)","v":0},0,0,{"$f":"COUNTIF(Report!C:C,B944)","v":0}]
[null,null,null,null,null,null,null,{"$f":"SUMIF(Report!C:C,B945,Report!J:J)","v":0},0,0,{"$f":"COUNTIF(Report!C:C,B945)","v":0}]
[null,null,null,null,null,null,null,{"$f":"SUMIF(Report!C:C,B946,Report!J:J)","v":0},0,0,{"$f":"COUNTIF(Report!C:C,B946)","v":0}]
[null,null,null,null,null,null,null,{"$f":"SUMIF(Report!C:C,B947,Report!J:J)","v":0},0,0,{"$f":"COUNTIF(Report!C:C,B947)","v":0}]
[null,null,null,null,null,null,null,{"$f":"SUMIF(Report!C:C,B948,Report!J:J)","v":0},0,0,{"$f":"COUNTIF(Report!C:C,B948)","v":0}]
[null,null,null,null,null,null,null,{"$f":"SUMIF(Report!C:C,B949,Report!J:J)","v":0},0,0,{"$f":"COUNTIF(Report!C:C,B949)","v":0}]
[null,null,null,null,null,null,null,{"$f":"SUMIF(Report!C:C,B950,Report!J:J)","v":0},0,0,{"$f":"COUNTIF(Report!C:C,B950)","v":0}]
[null,null,null,null,null,null,null,{"$f":"SUMIF(Report!C:C,B951,Report!J:J)","v":0},0,0,{"$f":"COUNTIF(Report!C:C,B951)","v":0}]
[null,null,null,null,null,null,null,{"$f":"SUMIF(Report!C:C,B952,Report!J:J)","v":0},0,0,{"$f":"COUNTIF(Report!C:C,B952)","v":0}]
[null,null,null,null,null,null,null,{"$f":"SUMIF(Report!C:C,B953,Report!J:J)","v":0},0,0,{"$f":"COUNTIF(Report!C:C,B953)","v":0}]
[null,null,null,null,null,null,null,{"$f":"SUMIF(Report!C:C,B954,Report!J:J)","v":0},0,0,{"$f":"COUNTIF(Report!C:C,B954)","v":0}]
[null,null,null,null,null,null,null,{"$f":"SUMIF(Report!C:C,B955,Report!J:J)","v":0},0,0,{"$f":"COUNTIF(Report!C:C,B955)","v":0}]
[null,null,null,null,null,null,null,{"$f":"SUMIF(Report!C:C,B956,Report!J:J)","v":0},0,0,{"$f":"COUNTIF(Report!C:C,B956)","v":0}]
[null,null,null,null,null,null,null,{"$f":"SUMIF(Report!C:C,B957,Report!J:J)","v":0},0,0,{"$f":"COUNTIF(Report!C:C,B957)","v":0}]
[null,null,null,null,null,null,null,{"$f":"SUMIF(Report!C:C,B958,Report!J:J)","v":0},0,0,{"$f":"COUNTIF(Report!C:C,B958)","v":0}]
[null,null,null,null,null,null,null,{"$f":"SUMIF(Report!C:C,B959,Report!J:J)","v":0},0,0,{"$f":"COUNTIF(Report!C:C,B959)","v":0}]
[null,null,null,null,null,null,null,{"$f":"SUMIF(Report!C:C,B960,Report!J:J)","v":0},0,0,{"$f":"COUNTIF(Report!C:C,B960)","v":0}]
[null,null,null,null,null,null,null,{"$f":"SUMIF(Report!C:C,B961,Report!J:J)","v":0},0,0,{"$f":"COUNTIF(Report!C:C,B961)","v":0}]
[null,null,null,null,null,null,null,{"$f":"SUMIF(Report!C:C,B962,Report!J:J)","v":0},0,0,{"$f":"COUNTIF(Report!C:C,B962)","v":0}]
[null,null,null,null,null,null,null,{"$f":"SUMIF(Report!C:C,B963,Report!J:J)","v":0},{"$f":"IF($M$1=$L$1,H963*E963,+IF($M$1=$L$2,H963*F963,H963*G963))","v":0},{"$f":"IFERROR(I963/SUM($I$2:$I$2499),0)","v":0},{"$f":"COUNTIF(Report!C:C,B963)","v":0}]
[null,null,null,null,null,null,null,{"$f":"SUMIF(Report!C:C,B964,Report!J:J)","v":0},0,0,{"$f":"COUNTIF(Report!C:C,B964)","v":0}]
[null,null,null,null,null,null,null,{"$f":"SUMIF(Report!C:C,B965,Report!J:J)","v":0},0,0,{"$f":"COUNTIF(Report!C:C,B965)","v":0}]
[null,null,null,null,null,null,null,{"$f":"SUMIF(Report!C:C,B966,Report!J:J)","v":0},0,0,{"$f":"COUNTIF(Report!C:C,B966)","v":0}]
[null,null,null,null,null,null,null,{"$f":"SUMIF(Report!C:C,B967,Report!J:J)","v":0},0,0,{"$f":"COUNTIF(Report!C:C,B967)","v":0}]
[null,null,null,null,null,null,null,{"$f":"SUMIF(Report!C:C,B968,Report!J:J)","v":0},0,0,{"$f":"COUNTIF(Report!C:C,B968)","v":0}]
[null,null,null,null,null,null,null,{"$f":"SUMIF(Report!C:C,B969,Report!J:J)","v":0},0,0,{"$f":"COUNTIF(Report!C:C,B969)","v":0}]
[null,null,null,null,null,null,null,{"$f":"SUMIF(Report!C:C,B970,Report!J:J)","v":0},0,0,{"$f":"COUNTIF(Report!C:C,B970)","v":0}]
[null,null,null,null,null,null,null,{"$f":"SUMIF(Report!C:C,B971,Report!J:J)","v":0},0,0,{"$f":"COUNTIF(Report!C:C,B971)","v":0}]
[null,null,null,null,null,null,null,{"$f":"SUMIF(Report!C:C,B972,Report!J:J)","v":0},0,0,{"$f":"COUNTIF(Report!C:C,B972)","v":0}]
[null,null,null,null,null,null,null,{"$f":"SUMIF(Report!C:C,B973,Report!J:J)","v":0},0,0,{"$f":"COUNTIF(Report!C:C,B973)","v":0}]
[null,null,null,null,null,null,null,{"$f":"SUMIF(Report!C:C,B974,Report!J:J)","v":0},0,0,{"$f":"COUNTIF(Report!C:C,B974)","v":0}]
[null,null,null,null,null,null,null,{"$f":"SUMIF(Report!C:C,B975,Report!J:J)","v":0},0,0,{"$f":"COUNTIF(Report!C:C,B975)","v":0}]
[null,null,null,null,null,null,null,{"$f":"SUMIF(Report!C:C,B976,Report!J:J)","v":0},0,0,{"$f":"COUNTIF(Report!C:C,B976)","v":0}]
[null,null,null,null,null,null,null,{"$f":"SUMIF(Report!C:C,B977,Report!J:J)","v":0},0,0,{"$f":"COUNTIF(Report!C:C,B977)","v":0}]
[null,null,null,null,null,null,null,{"$f":"SUMIF(Report!C:C,B978,Report!J:J)","v":0},0,0,{"$f":"COUNTIF(Report!C:C,B978)","v":0}]
[null,null,null,null,null,null,null,{"$f":"SUMIF(Report!C:C,B979,Report!J:J)","v":0},0,0,{"$f":"COUNTIF(Report!C:C,B979)","v":0}]
[null,null,null,null,null,null,null,{"$f":"SUMIF(Report!C:C,B980,Report!J:J)","v":0},0,0,{"$f":"COUNTIF(Report!C:C,B980)","v":0}]
[null,null,null,null,null,null,null,{"$f":"SUMIF(Report!C:C,B981,Report!J:J)","v":0},0,0,{"$f":"COUNTIF(Report!C:C,B981)","v":0}]
[null,null,null,null,null,null,null,{"$f":"SUMIF(Report!C:C,B982,Report!J:J)","v":0},0,0,{"$f":"COUNTIF(Report!C:C,B982)","v":0}]
[null,null,null,null,null,null,null,{"$f":"SUMIF(Report!C:C,B983,Report!J:J)","v":0},0,0,{"$f":"COUNTIF(Report!C:C,B983)","v":0}]
[null,null,null,null,null,null,null,{"$f":"SUMIF(Report!C:C,B984,Report!J:J)","v":0},0,0,{"$f":"COUNTIF(Report!C:C,B984)","v":0}]
[null,null,null,null,null,null,null,{"$f":"SUMIF(Report!C:C,B985,Report!J:J)","v":0},0,0,{"$f":"COUNTIF(Report!C:C,B985)","v":0}]
[null,null,null,null,null,null,null,{"$f":"SUMIF(Report!C:C,B986,Report!J:J)","v":0},0,0,{"$f":"COUNTIF(Report!C:C,B986)","v":0}]
[null,null,null,null,null,null,null,{"$f":"SUMIF(Report!C:C,B987,Report!J:J)","v":0},0,0,{"$f":"COUNTIF(Report!C:C,B987)","v":0}]
[null,null,null,null,null,null,null,{"$f":"SUMIF(Report!C:C,B988,Report!J:J)","v":0},0,0,{"$f":"COUNTIF(Report!C:C,B988)","v":0}]
[null,null,null,null,null,null,null,{"$f":"SUMIF(Report!C:C,B989,Report!J:J)","v":0},0,0,{"$f":"COUNTIF(Report!C:C,B989)","v":0}]
[null,null,null,null,null,null,null,{"$f":"SUMIF(Report!C:C,B990,Report!J:J)","v":0},0,0,{"$f":"COUNTIF(Report!C:C,B990)","v":0}]
[null,null,null,null,null,null,null,{"$f":"SUMIF(Report!C:C,B991,Report!J:J)","v":0},0,0,{"$f":"COUNTIF(Report!C:C,B991)","v":0}]
[null,null,null,null,null,null,null,{"$f":"SUMIF(Report!C:C,B992,Report!J:J)","v":0},0,0,{"$f":"COUNTIF(Report!C:C,B992)","v":0}]
[null,null,null,null,null,null,null,{"$f":"SUMIF(Report!C:C,B993,Report!J:J)","v":0},0,0,{"$f":"COUNTIF(Report!C:C,B993)","v":0}]
[null,null,null,null,null,null,null,{"$f":"SUMIF(Report!C:C,B994,Report!J:J)","v":0},0,0,{"$f":"COUNTIF(Report!C:C,B994)","v":0}]
[null,null,null,null,null,null,null,{"$f":"SUMIF(Report!C:C,B995,Report!J:J)","v":0},0,0,{"$f":"COUNTIF(Report!C:C,B995)","v":0}]
[null,null,null,null,null,null,null,{"$f":"SUMIF(Report!C:C,B996,Report!J:J)","v":0},0,0,{"$f":"COUNTIF(Report!C:C,B996)","v":0}]
[null,null,null,null,null,null,null,{"$f":"SUMIF(Report!C:C,B997,Report!J:J)","v":0},0,0,{"$f":"COUNTIF(Report!C:C,B997)","v":0}]
[null,null,null,null,null,null,null,{"$f":"SUMIF(Report!C:C,B998,Report!J:J)","v":0},0,0,{"$f":"COUNTIF(Report!C:C,B998)","v":0}]
[null,null,null,null,null,null,null,{"$f":"SUMIF(Report!C:C,B999,Report!J:J)","v":0},0,0,{"$f":"COUNTIF(Report!C:C,B999)","v":0}]
[null,null,null,null,null,null,null,{"$f":"SUMIF(Report!C:C,B1000,Report!J:J)","v":0},0,0,{"$f":"COUNTIF(Report!C:C,B1000)","v":0}]
[null,null,null,null,null,null,null,{"$f":"SUMIF(Report!C:C,B1001,Report!J:J)","v":0},0,0,{"$f":"COUNTIF(Report!C:C,B1001)","v":0}]
[null,null,null,null,null,null,null,{"$f":"SUMIF(Report!C:C,B1002,Report!J:J)","v":0},0,0,{"$f":"COUNTIF(Report!C:C,B1002)","v":0}]
[null,null,null,null,null,null,null,{"$f":"SUMIF(Report!C:C,B1003,Report!J:J)","v":0},0,0,{"$f":"COUNTIF(Report!C:C,B1003)","v":0}]
[null,null,null,null,null,null,null,{"$f":"SUMIF(Report!C:C,B1004,Report!J:J)","v":0},0,0,{"$f":"COUNTIF(Report!C:C,B1004)","v":0}]
[null,null,null,null,null,null,null,{"$f":"SUMIF(Report!C:C,B1005,Report!J:J)","v":0},0,0,{"$f":"COUNTIF(Report!C:C,B1005)","v":0}]
[null,null,null,null,null,null,null,{"$f":"SUMIF(Report!C:C,B1006,Report!J:J)","v":0},0,0,{"$f":"COUNTIF(Report!C:C,B1006)","v":0}]
[null,null,null,null,null,null,null,{"$f":"SUMIF(Report!C:C,B1007,Report!J:J)","v":0},0,0,{"$f":"COUNTIF(Report!C:C,B1007)","v":0}]
[null,null,null,null,null,null,null,{"$f":"SUMIF(Report!C:C,B1008,Report!J:J)","v":0},0,0,{"$f":"COUNTIF(Report!C:C,B1008)","v":0}]
[null,null,null,null,null,null,null,{"$f":"SUMIF(Report!C:C,B1009,Report!J:J)","v":0},0,0,{"$f":"COUNTIF(Report!C:C,B1009)","v":0}]
[null,null,null,null,null,null,null,{"$f":"SUMIF(Report!C:C,B1010,Report!J:J)","v":0},0,0,{"$f":"COUNTIF(Report!C:C,B1010)","v":0}]
[null,null,null,null,null,null,null,{"$f":"SUMIF(Report!C:C,B1011,Report!J:J)","v":0},0,0,{"$f":"COUNTIF(Report!C:C,B1011)","v":0}]
[null,null,null,null,null,null,null,{"$f":"SUMIF(Report!C:C,B1012,Report!J:J)","v":0},0,0,{"$f":"COUNTIF(Report!C:C,B1012)","v":0}]
[null,null,null,null,null,null,null,{"$f":"SUMIF(Report!C:C,B1013,Report!J:J)","v":0},0,0,{"$f":"COUNTIF(Report!C:C,B1013)","v":0}]
[null,null,null,null,null,null,null,{"$f":"SUMIF(Report!C:C,B1014,Report!J:J)","v":0},0,0,{"$f":"COUNTIF(Report!C:C,B1014)","v":0}]
[null,null,null,null,null,null,null,{"$f":"SUMIF(Report!C:C,B1015,Report!J:J)","v":0},0,0,{"$f":"COUNTIF(Report!C:C,B1015)","v":0}]
[null,null,null,null,null,null,null,{"$f":"SUMIF(Report!C:C,B1016,Report!J:J)","v":0},{"$f":"IF($M$1=$L$1,H1016*E1016,+IF($M$1=$L$2,H1016*F1016,H1016*G1016))","v":0},0,{"$f":"COUNTIF(Report!C:C,B1016)","v":0}]
[null,null,null,null,null,null,null,{"$f":"SUMIF(Report!C:C,B1017,Report!J:J)","v":0},{"$f":"IF($M$1=$L$1,H1017*E1017,+IF($M$1=$L$2,H1017*F1017,H1017*G1017))","v":0},0,{"$f":"COUNTIF(Report!C:C,B1017)","v":0}]
[null,null,null,null,null,null,null,{"$f":"SUMIF(Report!C:C,B1018,Report!J:J)","v":0},0,0,{"$f":"COUNTIF(Report!C:C,B1018)","v":0}]
[null,null,null,null,null,null,null,{"$f":"SUMIF(Report!C:C,B1019,Report!J:J)","v":0},0,0,{"$f":"COUNTIF(Report!C:C,B1019)","v":0}]
[null,null,null,null,null,null,null,{"$f":"SUMIF(Report!C:C,B1020,Report!J:J)","v":0},0,0,{"$f":"COUNTIF(Report!C:C,B1020)","v":0}]
[null,null,null,null,null,null,null,{"$f":"SUMIF(Report!C:C,B1021,Report!J:J)","v":0},0,0,{"$f":"COUNTIF(Report!C:C,B1021)","v":0}]
[null,null,null,null,null,null,null,{"$f":"SUMIF(Report!C:C,B1022,Report!J:J)","v":0},0,0,{"$f":"COUNTIF(Report!C:C,B1022)","v":0}]
[null,null,null,null,null,null,null,null,0,0,{"$f":"COUNTIF(Report!C:C,B1023)","v":0}]
[null,null,null,null,null,null,null,null,0,0]
[null,null,null,null,null,null,null,null,0,0]
[null,null,null,null,null,null,null,null,0,0]
[null,null,null,null,null,null,null,null,0,{"$f":"IFERROR(I1027/SUM($I$2:$I$2499),0)","v":0}]
[null,null,null,null,null,null,null,null,0,0]
[null,null,null,null,null,null,null,null,0,0]
[null,null,null,null,null,null,null,null,0,0]
[null,null,null,null,null,null,null,null,0,0]
[null,null,null,null,null,null,null,null,0,0]
[null,null,null,null,null,null,null,null,0,0]
[null,null,null,null,null,null,null,null,0,0]
[null,null,null,null,null,null,null,null,0,0]
[null,null,null,null,null,null,null,null,0,0]
[null,null,null,null,null,null,null,null,0,0]
[null,null,null,null,null,null,null,null,0,0]
[null,null,null,null,null,null,null,null,0,0]
[null,null,null,null,null,null,null,null,0,0]
[null,null,null,null,null,null,null,null,0,0]
[null,null,null,null,null,null,null,null,0,0]
[null,null,null,null,null,null,null,null,0,0]
[null,null,null,null,null,null,null,null,0,0]
[null,null,null,null,null,null,null,null,0,0]
[null,null,null,null,null,null,null,null,0,0]
[null,null,null,null,null,null,null,null,0,0]
[null,null,null,null,null,null,null,null,0,0]
[null,null,null,null,null,null,null,null,0,0]
[null,null,null,null,null,null,null,null,0,0]
[null,null,null,null,null,null,null,null,0,0]
[null,null,null,null,null,null,null,null,0,0]
[null,null,null,null,null,null,null,null,0,0]
[null,null,null,null,null,null,null,null,0,0]
[null,null,null,null,null,null,null,null,0,0]
[null,null,null,null,null,null,null,null,0,0]
[null,null,null,null,null,null,null,null,0,0]
[null,null,null,null,null,null,null,null,0,0]
[null,null,null,null,null,null,null,null,0,0]
[null,null,null,null,null,null,null,null,0,0]
[null,null,null,null,null,null,null,null,0,0]
[null,null,null,null,null,null,null,null,0,0]
[null,null,null,null,null,null,null,null,0,0]
[null,null,null,null,null,null,null,null,0,0]
[null,null,null,null,null,null,null,null,0,0]
[null,null,null,null,null,null,null,null,0,0]
[null,null,null,null,null,null,null,null,0,0]
[null,null,null,null,null,null,null,null,0,0]
[null,null,null,null,null,null,null,null,0,0]
[null,null,null,null,null,null,null,null,0,0]
[null,null,null,null,null,null,null,null,0,0]
[null,null,null,null,null,null,null,null,0,0]
[null,null,null,null,null,null,null,null,0,0]
[null,null,null,null,null,null,null,null,0,0]
[null,null,null,null,null,null,null,null,0,0]
[null,null,null,null,null,null,null,null,0,0]
[null,null,null,null,null,null,null,null,0,0]
[null,null,null,null,null,null,null,null,0,0]
[null,null,null,null,null,null,null,null,0,0]
[null,null,null,null,null,null,null,null,0,0]
[null,null,null,null,null,null,null,null,{"$f":"IF($M$1=$L$1,H1081*E1081,+IF($M$1=$L$2,H1081*F1081,H1081*G1081))","v":0},0]
[null,null,null,null,null,null,null,null,0,0]
[null,null,null,null,null,null,null,null,0,0]
[null,null,null,null,null,null,null,null,0,0]
[null,null,null,null,null,null,null,null,0,0]
[null,null,null,null,null,null,null,null,0,0]
[null,null,null,null,null,null,null,null,0,0]
[null,null,null,null,null,null,null,null,0,0]
[null,null,null,null,null,null,null,null,0,0]
[null,null,null,null,null,null,null,null,0,0]
[null,null,null,null,null,null,null,null,0,{"$f":"IFERROR(I1091/SUM($I$2:$I$2499),0)","v":0}]
[null,null,null,null,null,null,null,null,0,0]
[null,null,null,null,null,null,null,null,0,0]
[null,null,null,null,null,null,null,null,0,0]
[null,null,null,null,null,null,null,null,0,0]
[null,null,null,null,null,null,null,null,0,0]
[null,null,null,null,null,null,null,null,0,0]
[null,null,null,null,null,null,null,null,0,0]
[null,null,null,null,null,null,null,null,0,0]
[null,null,null,null,null,null,null,null,0,0]
[null,null,null,null,null,null,null,null,0,0]
[null,null,null,null,null,null,null,null,0,0]
[null,null,null,null,null,null,null,null,0,0]
[null,null,null,null,null,null,null,null,0,0]
[null,null,null,null,null,null,null,null,0,0]
[null,null,null,null,null,null,null,null,0,0]
[null,null,null,null,null,null,null,null,0,0]
[null,null,null,null,null,null,null,null,0,0]
[null,null,null,null,null,null,null,null,0,0]
[null,null,null,null,null,null,null,null,0,0]
[null,null,null,null,null,null,null,null,0,0]
[null,null,null,null,null,null,null,null,0,0]
[null,null,null,null,null,null,null,null,0,0]
[null,null,null,null,null,null,null,null,0,0]
[null,null,null,null,null,null,null,null,0,0]
[null,null,null,null,null,null,null,null,0,0]
[null,null,null,null,null,null,null,null,0,0]
[null,null,null,null,null,null,null,null,0,0]
[null,null,null,null,null,null,null,null,0,0]
[null,null,null,null,null,null,null,null,0,0]
[null,null,null,null,null,null,null,null,0,0]
[null,null,null,null,null,null,null,null,0,0]
[null,null,null,null,null,null,null,null,0,0]
[null,null,null,null,null,null,null,null,0,0]
[null,null,null,null,null,null,null,null,0,0]
[null,null,null,null,null,null,null,null,0,0]
[null,null,null,null,null,null,null,null,0,0]
[null,null,null,null,null,null,null,null,0,0]
[null,null,null,null,null,null,null,null,0,0]
[null,null,null,null,null,null,null,null,0,0]
[null,null,null,null,null,null,null,null,0,0]
[null,null,null,null,null,null,null,null,0,0]
[null,null,null,null,null,null,null,null,0,0]
[null,null,null,null,null,null,null,null,0,0]
[null,null,null,null,null,null,null,null,0,0]
[null,null,null,null,null,null,null,null,0,0]
[null,null,null,null,null,null,null,null,0,0]
[null,null,null,null,null,null,null,null,0,0]
[null,null,null,null,null,null,null,null,0,0]
[null,null,null,null,null,null,null,null,0,0]
[null,null,null,null,null,null,null,null,0,0]
[null,null,null,null,null,null,null,null,0,0]
[null,null,null,null,null,null,null,null,0,0]
[null,null,null,null,null,null,null,null,0,0]
[null,null,null,null,null,null,null,null,{"$f":"IF($M$1=$L$1,H1145*E1145,+IF($M$1=$L$2,H1145*F1145,H1145*G1145))","v":0},0]
[null,null,null,null,null,null,null,null,0,0]
[null,null,null,null,null,null,null,null,0,0]
[null,null,null,null,null,null,null,null,0,0]
[null,null,null,null,null,null,null,null,0,0]
[null,null,null,null,null,null,null,null,0,0]
[null,null,null,null,null,null,null,null,0,0]
[null,null,null,null,null,null,null,null,0,0]
[null,null,null,null,null,null,null,null,0,0]
[null,null,null,null,null,null,null,null,0,0]
[null,null,null,null,null,null,null,null,0,{"$f":"IFERROR(I1155/SUM($I$2:$I$2499),0)","v":0}]
[null,null,null,null,null,null,null,null,0,0]
[null,null,null,null,null,null,null,null,0,0]
[null,null,null,null,null,null,null,null,0,0]
[null,null,null,null,null,null,null,null,0,0]
[null,null,null,null,null,null,null,null,0,0]
[null,null,null,null,null,null,null,null,0,0]
[null,null,null,null,null,null,null,null,0,0]
[null,null,null,null,null,null,null,null,0,0]
[null,null,null,null,null,null,null,null,0,0]
[null,null,null,null,null,null,null,null,0,0]
[null,null,null,null,null,null,null,null,0,0]
[null,null,null,null,null,null,null,null,0,0]
[null,null,null,null,null,null,null,null,0,0]
[null,null,null,null,null,null,null,null,0,0]
[null,null,null,null,null,null,null,null,0,0]
[null,null,null,null,null,null,null,null,0,0]
[null,null,null,null,null,null,null,null,0,0]
[null,null,null,null,null,null,null,null,0,0]
[null,null,null,null,null,null,null,null,0,0]
[null,null,null,null,null,null,null,null,0,0]
[null,null,null,null,null,null,null,null,0,0]
[null,null,null,null,null,null,null,null,0,0]
[null,null,null,null,null,null,null,null,0,0]
[null,null,null,null,null,null,null,null,0,0]
[null,null,null,null,null,null,null,null,0,0]
[null,null,null,null,null,null,null,null,0,0]
[null,null,null,null,null,null,null,null,0,0]
[null,null,null,null,null,null,null,null,0,0]
[null,null,null,null,null,null,null,null,0,0]
[null,null,null,null,null,null,null,null,0,0]
[null,null,null,null,null,null,null,null,0,0]
[null,null,null,null,null,null,null,null,0,0]
[null,null,null,null,null,null,null,null,0,0]
[null,null,null,null,null,null,null,null,0,0]
[null,null,null,null,null,null,null,null,0,0]
[null,null,null,null,null,null,null,null,0,0]
[null,null,null,null,null,null,null,null,0,0]
[null,null,null,null,null,null,null,null,0,0]
[null,null,null,null,null,null,null,null,0,0]
[null,null,null,null,null,null,null,null,0,0]
[null,null,null,null,null,null,null,null,0,0]
[null,null,null,null,null,null,null,null,0,0]
[null,null,null,null,null,null,null,null,0,0]
[null,null,null,null,null,null,null,null,0,0]
[null,null,null,null,null,null,null,null,0,0]
[null,null,null,null,null,null,null,null,0,0]
[null,null,null,null,null,null,null,null,0,0]
[null,null,null,null,null,null,null,null,0,0]
[null,null,null,null,null,null,null,null,0,0]
[null,null,null,null,null,null,null,null,0,0]
[null,null,null,null,null,null,null,null,0,0]
[null,null,null,null,null,null,null,null,0,0]
[null,null,null,null,null,null,null,null,0,0]
[null,null,null,null,null,null,null,null,{"$f":"IF($M$1=$L$1,H1209*E1209,+IF($M$1=$L$2,H1209*F1209,H1209*G1209))","v":0},0]
[null,null,null,null,null,null,null,null,0,0]
[null,null,null,null,null,null,null,null,0,0]
[null,null,null,null,null,null,null,null,0,0]
[null,null,null,null,null,null,null,null,0,0]
[null,null,null,null,null,null,null,null,0,0]
[null,null,null,null,null,null,null,null,0,0]
[null,null,null,null,null,null,null,null,0,0]
[null,null,null,null,null,null,null,null,0,0]
[null,null,null,null,null,null,null,null,0,0]
[null,null,null,null,null,null,null,null,0,{"$f":"IFERROR(I1219/SUM($I$2:$I$2499),0)","v":0}]
[null,null,null,null,null,null,null,null,0,0]
[null,null,null,null,null,null,null,null,0,0]
[null,null,null,null,null,null,null,null,0,0]
[null,null,null,null,null,null,null,null,0,0]
[null,null,null,null,null,null,null,null,0,0]
[null,null,null,null,null,null,null,null,0,0]
[null,null,null,null,null,null,null,null,0,0]
[null,null,null,null,null,null,null,null,0,0]
[null,null,null,null,null,null,null,null,0,0]
[null,null,null,null,null,null,null,null,0,0]
[null,null,null,null,null,null,null,null,0,0]
[null,null,null,null,null,null,null,null,0,0]
[null,null,null,null,null,null,null,null,0,0]
[null,null,null,null,null,null,null,null,0,0]
[null,null,null,null,null,null,null,null,0,0]
[null,null,null,null,null,null,null,null,0,0]
[null,null,null,null,null,null,null,null,0,0]
[null,null,null,null,null,null,null,null,0,0]
[null,null,null,null,null,null,null,null,0,0]
[null,null,null,null,null,null,null,null,0,0]
[null,null,null,null,null,null,null,null,0,0]
[null,null,null,null,null,null,null,null,0,0]
[null,null,null,null,null,null,null,null,0,0]
[null,null,null,null,null,null,null,null,0,0]
[null,null,null,null,null,null,null,null,0,0]
[null,null,null,null,null,null,null,null,0,0]
[null,null,null,null,null,null,null,null,0,0]
[null,null,null,null,null,null,null,null,0,0]
[null,null,null,null,null,null,null,null,0,0]
[null,null,null,null,null,null,null,null,0,0]
[null,null,null,null,null,null,null,null,0,0]
[null,null,null,null,null,null,null,null,0,0]
[null,null,null,null,null,null,null,null,0,0]
[null,null,null,null,null,null,null,null,0,0]
[null,null,null,null,null,null,null,null,0,0]
[null,null,null,null,null,null,null,null,0,0]
[null,null,null,null,null,null,null,null,0,0]
[null,null,null,null,null,null,null,null,0,0]
[null,null,null,null,null,null,null,null,0,0]
[null,null,null,null,null,null,null,null,0,0]
[null,null,null,null,null,null,null,null,0,0]
[null,null,null,null,null,null,null,null,0,0]
[null,null,null,null,null,null,null,null,0,0]
[null,null,null,null,null,null,null,null,0,0]
[null,null,null,null,null,null,null,null,0,0]
[null,null,null,null,null,null,null,null,0,0]
[null,null,null,null,null,null,null,null,0,0]
[null,null,null,null,null,null,null,null,0,0]
[null,null,null,null,null,null,null,null,0,0]
[null,null,null,null,null,null,null,null,0,0]
[null,null,null,null,null,null,null,null,0,0]
[null,null,null,null,null,null,null,null,0,0]
[null,null,null,null,null,null,null,null,0,0]
[null,null,null,null,null,null,null,null,{"$f":"IF($M$1=$L$1,H1273*E1273,+IF($M$1=$L$2,H1273*F1273,H1273*G1273))","v":0},0]
[null,null,null,null,null,null,null,null,0,0]
[null,null,null,null,null,null,null,null,0,0]
[null,null,null,null,null,null,null,null,0,0]
[null,null,null,null,null,null,null,null,0,0]
[null,null,null,null,null,null,null,null,0,0]
[null,null,null,null,null,null,null,null,0,0]
[null,null,null,null,null,null,null,null,0,0]
[null,null,null,null,null,null,null,null,0,0]
[null,null,null,null,null,null,null,null,0,0]
[null,null,null,null,null,null,null,null,0,{"$f":"IFERROR(I1283/SUM($I$2:$I$2499),0)","v":0}]
[null,null,null,null,null,null,null,null,0,0]
[null,null,null,null,null,null,null,null,0,0]
[null,null,null,null,null,null,null,null,0,0]
[null,null,null,null,null,null,null,null,0,0]
[null,null,null,null,null,null,null,null,0,0]
[null,null,null,null,null,null,null,null,0,0]
[null,null,null,null,null,null,null,null,0,0]
[null,null,null,null,null,null,null,null,0,0]
[null,null,null,null,null,null,null,null,0,0]
[null,null,null,null,null,null,null,null,0,0]
[null,null,null,null,null,null,null,null,0,0]
[null,null,null,null,null,null,null,null,0,0]
[null,null,null,null,null,null,null,null,0,0]
[null,null,null,null,null,null,null,null,0,0]
[null,null,null,null,null,null,null,null,0,0]
[null,null,null,null,null,null,null,null,0,0]
[null,null,null,null,null,null,null,null,0,0]
[null,null,null,null,null,null,null,null,0,0]
[null,null,null,null,null,null,null,null,0,0]
[null,null,null,null,null,null,null,null,0,0]
[null,null,null,null,null,null,null,null,0,0]
[null,null,null,null,null,null,null,null,0,0]
[null,null,null,null,null,null,null,null,0,0]
[null,null,null,null,null,null,null,null,0,0]
[null,null,null,null,null,null,null,null,0,0]
[null,null,null,null,null,null,null,null,0,0]
[null,null,null,null,null,null,null,null,0,0]
[null,null,null,null,null,null,null,null,0,0]
[null,null,null,null,null,null,null,null,0,0]
[null,null,null,null,null,null,null,null,0,0]
[null,null,null,null,null,null,null,null,0,0]
[null,null,null,null,null,null,null,null,0,0]
[null,null,null,null,null,null,null,null,0,0]
[null,null,null,null,null,null,null,null,0,0]
[null,null,null,null,null,null,null,null,0,0]
[null,null,null,null,null,null,null,null,0,0]
[null,null,null,null,null,null,null,null,0,0]
[null,null,null,null,null,null,null,null,0,0]
[null,null,null,null,null,null,null,null,0,0]
[null,null,null,null,null,null,null,null,0,0]
[null,null,null,null,null,null,null,null,0,0]
[null,null,null,null,null,null,null,null,0,0]
[null,null,null,null,null,null,null,null,0,0]
[null,null,null,null,null,null,null,null,0,0]
[null,null,null,null,null,null,null,null,0,0]
[null,null,null,null,null,null,null,null,0,0]
[null,null,null,null,null,null,null,null,0,0]
[null,null,null,null,null,null,null,null,0,0]
[null,null,null,null,null,null,null,null,0,0]
[null,null,null,null,null,null,null,null,0,0]
[null,null,null,null,null,null,null,null,0,0]
[null,null,null,null,null,null,null,null,0,0]
[null,null,null,null,null,null,null,null,0,0]
[null,null,null,null,null,null,null,null,{"$f":"IF($M$1=$L$1,H1337*E1337,+IF($M$1=$L$2,H1337*F1337,H1337*G1337))","v":0},0]
[null,null,null,null,null,null,null,null,0,0]
[null,null,null,null,null,null,null,null,0,0]
[null,null,null,null,null,null,null,null,0,0]
[null,null,null,null,null,null,null,null,0,0]
[null,null,null,null,null,null,null,null,0,0]
[null,null,null,null,null,null,null,null,0,0]
[null,null,null,null,null,null,null,null,0,0]
[null,null,null,null,null,null,null,null,0,0]
[null,null,null,null,null,null,null,null,0,0]
[null,null,null,null,null,null,null,null,0,{"$f":"IFERROR(I1347/SUM($I$2:$I$2499),0)","v":0}]
[null,null,null,null,null,null,null,null,0,0]
[null,null,null,null,null,null,null,null,0,0]
[null,null,null,null,null,null,null,null,0,0]
[null,null,null,null,null,null,null,null,0,0]
[null,null,null,null,null,null,null,null,0,0]
[null,null,null,null,null,null,null,null,0,0]
[null,null,null,null,null,null,null,null,0,0]
[null,null,null,null,null,null,null,null,0,0]
[null,null,null,null,null,null,null,null,0,0]
[null,null,null,null,null,null,null,null,0,0]
[null,null,null,null,null,null,null,null,0,0]
[null,null,null,null,null,null,null,null,0,0]
[null,null,null,null,null,null,null,null,0,0]
[null,null,null,null,null,null,null,null,0,0]
[null,null,null,null,null,null,null,null,0,0]
[null,null,null,null,null,null,null,null,0,0]
[null,null,null,null,null,null,null,null,0,0]
[null,null,null,null,null,null,null,null,0,0]
[null,null,null,null,null,null,null,null,0,0]
[null,null,null,null,null,null,null,null,0,0]
[null,null,null,null,null,null,null,null,0,0]
[null,null,null,null,null,null,null,null,0,0]
[null,null,null,null,null,null,null,null,0,0]
[null,null,null,null,null,null,null,null,0,0]
[null,null,null,null,null,null,null,null,0,0]
[null,null,null,null,null,null,null,null,0,0]
[null,null,null,null,null,null,null,null,0,0]
[null,null,null,null,null,null,null,null,0,0]
[null,null,null,null,null,null,null,null,0,0]
[null,null,null,null,null,null,null,null,0,0]
[null,null,null,null,null,null,null,null,0,0]
[null,null,null,null,null,null,null,null,0,0]
[null,null,null,null,null,null,null,null,0,0]
[null,null,null,null,null,null,null,null,0,0]
[null,null,null,null,null,null,null,null,0,0]
[null,null,null,null,null,null,null,null,0,0]
[null,null,null,null,null,null,null,null,0,0]
[null,null,null,null,null,null,null,null,0,0]
[null,null,null,null,null,null,null,null,0,0]
[null,null,null,null,null,null,null,null,0,0]
[null,null,null,null,null,null,null,null,0,0]
[null,null,null,null,null,null,null,null,0,0]
[null,null,null,null,null,null,null,null,0,0]
[null,null,null,null,null,null,null,null,0,0]
[null,null,null,null,null,null,null,null,0,0]
[null,null,null,null,null,null,null,null,0,0]
[null,null,null,null,null,null,null,null,0,0]
[null,null,null,null,null,null,null,null,0,0]
[null,null,null,null,null,null,null,null,0,0]
[null,null,null,null,null,null,null,null,0,0]
[null,null,null,null,null,null,null,null,0,0]
[null,null,null,null,null,null,null,null,0,0]
[null,null,null,null,null,null,null,null,0,0]
[null,null,null,null,null,null,null,null,{"$f":"IF($M$1=$L$1,H1401*E1401,+IF($M$1=$L$2,H1401*F1401,H1401*G1401))","v":0},0]
[null,null,null,null,null,null,null,null,0,0]
[null,null,null,null,null,null,null,null,0,0]
[null,null,null,null,null,null,null,null,0,0]
[null,null,null,null,null,null,null,null,0,0]
[null,null,null,null,null,null,null,null,0,0]
[null,null,null,null,null,null,null,null,0,0]
[null,null,null,null,null,null,null,null,0,0]
[null,null,null,null,null,null,null,null,0,0]
[null,null,null,null,null,null,null,null,0,0]
[null,null,null,null,null,null,null,null,0,{"$f":"IFERROR(I1411/SUM($I$2:$I$2499),0)","v":0}]
[null,null,null,null,null,null,null,null,0,0]
[null,null,null,null,null,null,null,null,0,0]
[null,null,null,null,null,null,null,null,0,0]
[null,null,null,null,null,null,null,null,0,0]
[null,null,null,null,null,null,null,null,0,0]
[null,null,null,null,null,null,null,null,0,0]
[null,null,null,null,null,null,null,null,0,0]
[null,null,null,null,null,null,null,null,0,0]
[null,null,null,null,null,null,null,null,0,0]
[null,null,null,null,null,null,null,null,0,0]
[null,null,null,null,null,null,null,null,0,0]
[null,null,null,null,null,null,null,null,0,0]
[null,null,null,null,null,null,null,null,0,0]
[null,null,null,null,null,null,null,null,0,0]
[null,null,null,null,null,null,null,null,0,0]
[null,null,null,null,null,null,null,null,0,0]
[null,null,null,null,null,null,null,null,0,0]
[null,null,null,null,null,null,null,null,0,0]
[null,null,null,null,null,null,null,null,0,0]
[null,null,null,null,null,null,null,null,0,0]
[null,null,null,null,null,null,null,null,0,0]
[null,null,null,null,null,null,null,null,0,0]
[null,null,null,null,null,null,null,null,0,0]
[null,null,null,null,null,null,null,null,0,0]
[null,null,null,null,null,null,null,null,0,0]
[null,null,null,null,null,null,null,null,0,0]
[null,null,null,null,null,null,null,null,0,0]
[null,null,null,null,null,null,null,null,0,0]
[null,null,null,null,null,null,null,null,0,0]
[null,null,null,null,null,null,null,null,0,0]
[null,null,null,null,null,null,null,null,0,0]
[null,null,null,null,null,null,null,null,0,0]
[null,null,null,null,null,null,null,null,0,0]
[null,null,null,null,null,null,null,null,0,0]
[null,null,null,null,null,null,null,null,0,0]
[null,null,null,null,null,null,null,null,0,0]
[null,null,null,null,null,null,null,null,0,0]
[null,null,null,null,null,null,null,null,0,0]
[null,null,null,null,null,null,null,null,0,0]
[null,null,null,null,null,null,null,null,0,0]
[null,null,null,null,null,null,null,null,0,0]
[null,null,null,null,null,null,null,null,0,0]
[null,null,null,null,null,null,null,null,0,0]
[null,null,null,null,null,null,null,null,0,0]
[null,null,null,null,null,null,null,null,0,0]
[null,null,null,null,null,null,null,null,0,0]
[null,null,null,null,null,null,null,null,0,0]
[null,null,null,null,null,null,null,null,0,0]
[null,null,null,null,null,null,null,null,0,0]
[null,null,null,null,null,null,null,null,0,0]
[null,null,null,null,null,null,null,null,0,0]
[null,null,null,null,null,null,null,null,0,0]
[null,null,null,null,null,null,null,null,0,0]
[null,null,null,null,null,null,null,null,{"$f":"IF($M$1=$L$1,H1465*E1465,+IF($M$1=$L$2,H1465*F1465,H1465*G1465))","v":0},0]
[null,null,null,null,null,null,null,null,0,0]
[null,null,null,null,null,null,null,null,0,0]
[null,null,null,null,null,null,null,null,0,0]
[null,null,null,null,null,null,null,null,0,0]
[null,null,null,null,null,null,null,null,0,0]
[null,null,null,null,null,null,null,null,0,0]
[null,null,null,null,null,null,null,null,0,0]
[null,null,null,null,null,null,null,null,0,0]
[null,null,null,null,null,null,null,null,0,0]
[null,null,null,null,null,null,null,null,0,{"$f":"IFERROR(I1475/SUM($I$2:$I$2499),0)","v":0}]
[null,null,null,null,null,null,null,null,0,0]
[null,null,null,null,null,null,null,null,0,0]
[null,null,null,null,null,null,null,null,0,0]
[null,null,null,null,null,null,null,null,0,0]
[null,null,null,null,null,null,null,null,0,0]
[null,null,null,null,null,null,null,null,0,0]
[null,null,null,null,null,null,null,null,0,0]
[null,null,null,null,null,null,null,null,0,0]
[null,null,null,null,null,null,null,null,0,0]
[null,null,null,null,null,null,null,null,0,0]
[null,null,null,null,null,null,null,null,0,0]
[null,null,null,null,null,null,null,null,0,0]
[null,null,null,null,null,null,null,null,0,0]
[null,null,null,null,null,null,null,null,0,0]
[null,null,null,null,null,null,null,null,0,0]
[null,null,null,null,null,null,null,null,0,0]
[null,null,null,null,null,null,null,null,0,0]
[null,null,null,null,null,null,null,null,0,0]
[null,null,null,null,null,null,null,null,0,0]
[null,null,null,null,null,null,null,null,0,0]
[null,null,null,null,null,null,null,null,0,0]
[null,null,null,null,null,null,null,null,0,0]
[null,null,null,null,null,null,null,null,0,0]
[null,null,null,null,null,null,null,null,0,0]
[null,null,null,null,null,null,null,null,null,0]
[]
[]
[]
[]
[]
[]
[]
[]
[]
[]
[]
[]
[]
[]
[]
[]
[]
[]
[]
[]
[]
[]
[]
[]
[]
[]
[]
[]
[]
[]
[]
[]
[]
[]
[]
[]
[]
[]
[]
[]
[]
[]
[]
[]
[]
[]
[]
[]
[]
[]
[]
[]
[]
[]
[]
[]
[]
[]
[]
[]
[]
[]
[]
[]
[]
[]
[]
[]
[]
[]
[]
[]
[]
[]
[]
[]
[]
[]
[]
[]
[]
[]
[]
[]
[]
[]
[]
[]
[]
[]
[]
[]
[]
[]
[]
[]
[]
[]
[]
[]
[]
[]
[]
[]
[]
[]
[]
[]
[]
[]
[]
[]
[]
[]
[]
[]
[]
[]
[]
[]
[]
[]
[]
[]
[]
[]
[]
[]
[]
[]
[]
[]
[]
[]
[]
[]
[]
[]
[]
[]
[]
[]
[]
[]
[]
[]
[]
[]
[]
[]
[]
[]
[]
[]
[]
[]
[]
[]
[]
[]
[]
[]
[]
[]
[]
[]
[]
[]
[]
[]
[]
[]
[]
[]
[]
[]
[]
[]
[]
[]
[]
[]
[]
[]
[]
[]
[]
[]
[]
[]
[]
[]
[]
[]
[]
[]
[]
[]
[]
[]
[]
[]
[]
[]
[]
[]
[]
[]
[]
[]
[]
[]
[]
[]
[]
[]
[]
[]
[]
[]
[]
[]
[]
[]
[]
[]
[]
[]
[]
[]
[]
[]
[]
[]
[]
[]
[]
[]
[]
[]
[]
[]
[]
[]
[]
[]
[]
[]
[]
[]
[]
[]
[]
[]
[]
[]
[]
[]
[]
[]
[]
[]
[]
[]
[]
[]
[]
[]
[]
[]
[]
[]
[]
[]
[]
[]
[]
[]
[]
[]
[]
[]
[]
[]
[]
[]
[]
[]
[]
[]
[]
[]
[]
[]
[]
[]
[]
[]
[]
[]
[]
[]
[]
[]
[]
[]
[]
[]
[]
[]
[]
[]
[]
[]
[]
[]
[]
[]
[]
[]
[]
[]
[]
[]
[]
[]
[]
[]
[]
[]
[]
[]
[]
[]
[]
[]
[]
[]
[]
[]
[]
[]
[]
[]
[]
[]
[]
[]
[]
[]
[]
[]
[]
[]
[]
[]
[]
[]
[]
[]
[]
[]
[]
[]
[]
[]
[]
[]
[]
[]
[]
[]
[]
[]
[]
[]
[]
[]
[]
[]
[]
[]
[]
[]
[]
[]
[]
[]
[]
[]
[]
[]
[]
[]
[]
[]
[]
[]
[]
[]
[]
[]
[]
[]
[]
[]
[]
[]
[]
[]
[]
[]
[]
[]
[]
[]
[]
[]
[]
[]
[]
[]
[]
[]
[]
[]
[]
[]
[]
[]
[]
[]
[]
[]
[]
[]
[]
[]
[]
[]
[]
[]
[]
[]
[]
[]
[]
[]
[]
[]
[]
[]
[]
[]
[]
[]
[]
[]
[]
[]
[]
[]
[]
[]
[]
[]
[]
[]
[]
[]
[]
[]
[]
[]
[]
[]
[]
[]
[]
[]
[]
[]
[]
[]
[]
[]
[]
[]
[]
[]
[]
[]
[]
[]
[]
[]
[]
[]
[]
[]
[]
[]
[]
[]
[]
[]
[]
[]
[]
[]
[]
[]
[]
[]
[]
[]
[]
[]
[]
[]
[]
[]
[]
[]
[]
[]
[]
[]
[]
[]
[]
[]
[]
[]
[]
[]
[]
[]
[]
[]
[]
[]
[]
[]
[]
[]
[]
[]
[]
[]
[]
[]
[]
[]
[]
[]
[]
[]
[]
[]
[]
[]
[]
[]
[]
[]
[]
[]
[]
[]
[]
[]
[]
[]
[]
[]
[]
[]
[]
[]
[]
[]
[]
[]
[]
[]
[]
[]
[]
[]
[]
[]
[]
[]
[]
[]
[]
[]
[]
[]
[]
[]
[]
[]
[]
[]
[]
[]
[]
[]
[]
[]
[]
[]
[]
[]
[]
[]
[]
[]
[]
[]
[]
[]
[]
[]
[]
[]
[]
[]
[]
[]
[]
[]
[]
[]
[]
[]
[]
[]
[]
[]
[]
[]
[]
[]
[]
[]
[]
[]
[]
[]
[]
[]
[]
[]
[]
[]
[]
[]
[]
[]
[]
[]
[]
[]
[]
[]
[]
[]
[]
[]
[]
[]
[]
[]
[]
[]
[]
[]
[]
[]
[]
[]
[]
[]
[]
[]
[]
[]
[]
[]
[]
[]
[]
[]
[]
[]
[]
[]
[]
[]
[]
[]
[]
[]
[]
[]
[]
[]
[]
[]
[]
[]
[]
[]
[]
[]
[]
[]
[]
[]
[]
[]
[]
[]
[]
[]
[]
[]
[]
[]
[]
[]
[]
[]
[]
[]
[]
[]
[]
[]
[]
[]
[]
[]
[]
[]
[]
[]
[]
[]
[]
[]
[]
[]
[]
[]
[]
[]
[]
[]
[]
[]
[]
[]
[]
[]
[]
[]
[]
[]
[]
[]
[]
[]
[]
[]
[]
[]
[]
[]
[]
[]
[]
[]
[]
[]
[]
[]
[]
[]
[]
[]
[]
[]
[]
[]
[]
[]
[]
[]
[]
[]
[]
[]
[]
[]
[]
[]
[]
[]
[]
[]
[]
[]
[]
[]
[]
[]
[]
[]
[]
[]
[]
[]
[]
[]
[]
[]
[]
[]
[]
[]
[]
[]
[]
[]
[]
[]
[]
[]
[]
[]
[]
[]
[]
[]
[]
[]
[]
[]
[]
[]
[]
[]
[]
[]
[]
[]
[]
[]
[]
[]
[]
[]
[]
[]
[]
[]
[]
[]
[]
[]
[]
[]
[]
[]
[]
[]
[]
[]
[]
[]
[]
[]
[]
[]
[]
[]
[]
[]
[]
[]
[]
[]
[]
[]
[]
[]
[]
[]
[]
[]
[]
[]
[]
[]
[]
[]
[]
[]
[]
[]
[]
[]
[]
[]
[]
[]
[]
[]
[]
[]
[]
[]
[]
[]
[]
[]
[]
[]
[]
[]
[]
[]
[]
[]
[]
[]
[]
[]
[]
[]
[]
[]
[]
[]
[]
[]
[]
[]
[]
[]
[]
[]
[]
[]
[]
[]
[]
[]
[]
[]
[]
[]
[]
[]
[]
[]
[]
[]
[]
[]
[]
[]
[]
[]
[]
[]
[]
[]
[]
[]
[]
[]
[]
[]
[]
[]
[]
[]
[]
[]
[]
[]
[]
[]
[]
[]
[]
[]
[]
[]
[]
[]
[]
[]
[]
[]
[]
[]
[]
[]
[]
[]
[]
[]
[]
[]
[]
[]
[]
[]
[]
[]
[]
[]
[]
[]
[]
[]
[]
[]
[]
[]
[]
[]
[]
[]
[]
[]
[]
[]
[]
[]
[]
[]
[]
[]
[]
[]
[]
[]
[]
[]
[]
[]
[]
[]
[]
[]
[]
[]
[]
[]
[]
[]
[]
[]
[]
[]
[]
[]
[]
[]
[]
[]
[]
[]
[]
[]
[]
[]
[]
[]
[]
[]
[]
[]
[]
[]
[]
[]
[]
[]
[]
[]
[]
[]
[]
[]
[]
[]
[]
[]
[]
[]
[]
[]
[]
[]
[]
[]
[]
[]
[]
[]
[]
[]
[]
[]
[]
[]
[]
[]
[]
[]
[]
[]
[]
[]
[]
[]
[]
[]
[]
[]
[]
[]
[]
[]
[]
[]
[]
[]
[]
[]
[]
[]
[]
[]
[]
[]
[]
[]
[]
[]
[]
[]
[]
[]
[]
[]
[]
[]
[]
[]
[]
[]
[]
[]
[]
[]
[]
[]
[]
[]
[]
[]
[]
[]
[]
[]
[]
[]
[]
[]
[]
[]
[]
[]
[]
[]
[]
[]
[]
[]
[]
[]
[]
[]
[]
[]
[]
[]
[]
[]
[]
[]
[]
[]
[]
[]
[]
[]
[]
[]
[]
[]
[]
[]
[]
[]
[]
[]
[]
[]
[]
[]
[]
[]
[]
[]
[]
[]
[]
[]
[]
[]
[]
[]
[]
[]
[]
[]
[]
[]
[]
[]
[]
[]
[]
[]
[]
[]
[]
[]
[]
[]
[]
[]
[]
[]
[]
[]
[]
[]
[]
[]
[]
[]
[]
[]
[]
[]
[]
[null,null,0]

{"sheet":"Report","index":6,"n_rows":31,"n_cols":10,"rows_kept":31,"cut":false,"hidden":true,"merged":[[28,1,28,2],[28,4,28,7],[29,1,29,2],[29,4,29,7],[0,1,0,8],[1,1,1,8],[2,5,2,8],[3,5,3,8],[2,1,2,4],[3,1,3,4],[23,1,23,3],[23,6,23,7],[26,1,26,3],[26,6,26,7],[27,1,27,3],[27,4,27,7],[16,1,16,3],[16,4,18,8],[5,1,5,3],[5,4,7,8],[10,1,10,3],[10,6,10,7],[11,1,11,3],[11,4,11,7],[12,1,12,2],[12,4,12,7],[13,1,13,2],[13,4,13,7]]}
[null,"«جدول 5 . تجزیه بهای اقلام کار»"]
[null,{"$f":"'D2'!B1","v":"نسخه نمایشی فهرست بهای واحد پایه رشته ابنیه رسته ساختمان سال 97"}]
[null,{"$f":"IF(Help!E19<>\"\",\"نام پروژه :  \"&Help!E19,\"\")","v":"نام پروژه :  پروژه نمونه"},null,null,null,{"$f":"IF(Help!E20<>\"\",\"نام دستگاه اجرايي :  \"&Help!E20,\"\")","v":"نام دستگاه اجرايي :  کارفرمای نمونه"}]
[null,{"$f":"IF(Help!E22<>\"\",\"نام پیمانکار :  \"&Help!E22,\"\")","v":"نام پیمانکار :  پیمانکار نمونه"},null,null,null,{"$f":"IF(Help!E21<>\"\",\"نام مهندس مشاور :  \"&Help!E21,\"\")","v":"نام مهندس مشاور :  مشاور نمونه"}]
[null," فصل 1 . عملیات تخریب",null,null,null,null,null,null," نسخه نمایشی"]
[null,"شرح ردیف : ",null,null," بوته کني در زمينهاي پوشيده شده از بوته و خارج کردن ريشه‌هاي آن از محل عمليات.",null,null,null,null,212.08199999999999]
[null,"شمـاره رديف آنـاليــز :   010101",null,null,null,null,null,null,null,212.08199999999999]
[null,"واحـد :   مترمربع",null," مقدار :            20",null,null,null,null,null,20]
[null,"رديف","کد عامل","ماشين آلات 2","واحد","مقیاس1","مقدار/مقیاس","بهای واحد عامل","بهاي کل"]
[null,1,25010902,"گریدر به قدرت حدود180 اسب بخار باراننده","دستگاه-ساعت",1,5.0000000000000001E-4,424164,212.08199999999999,0.01]
[null,"درصد وزنی",null,null,1,null,"جمع ماشين آلات ",null,212.08199999999999]
[null," شماره رديف يا رديفهاي معادل :                    010101",null,null,"بهای واحد کار:",null,null,null,212.08199999999999]
[null," بهای واحد رديف :",null,215,"مقايسه پيشنهاد نسبت به برآورد (درصد)  ±",null,null,null,-1.357E-2]
[null," بهای کل کار:",null,4300,"بهای کل کار:",null,null,null,4241.6399999999994]
[null,"پ"]
[null," فصل 1 . عملیات تخریب",null,null,null,null,null,null," نسخه نمایشی"]
[null,"شرح ردیف : ",null,null," کندن و يا بريدن و در صورت لزوم ريشه کن کردن درخت از هر نوع، در صورتي که محيط تنه درخت در سطح زمين تا 15 سانتي متر باشد، به ازاي هر 5 سانتي متر محيط تنه (کسر 5 سانتي متر به تناسب محاسبه مي‌شود) و حمل آن به خارج محل عمليات.",null,null,null,null,10316.091999999999]
[null,"شمـاره رديف آنـاليــز :   010102",null,null,null,null,null,null,null,10316.091999999999]
[null,"واحـد :   اصله",null," مقدار :            20",null,null,null,null,null,20]
[null,"رديف","کد عامل","نيروي انساني","واحد","مقیاس1","مقدار/مقیاس","بهای واحد عامل","بهاي کل"]
[null,1,14010102,"كارگر ساده","نفر- ساعت",1,0.105,57013,5986.3649999999998,2.1]
[null,2,14120101,"نجار در و پنجره ساز درجه یک","نفر ساعت",1,1.0500000000000001E-2,99236,1041.9780000000001,0.21000000000000002]
[null,3,14120401,"کمک نجار","نفر - ساعت",1,5.2999999999999999E-2,60297,3195.741,1.06]
[null,"درصد وزنی",null,null,0.99109999999999998,null,"جمع نيروي انساني",null,10224.083999999999]
[null,"رديف","کد عامل","ماشين آلات 2","واحد","مقیاس1","مقدار/مقیاس","بهای واحد عامل","بهاي کل"]
[null,1,28060203,"اره بنزینی متحرک چوب","دستگاه ساعت",1,5.2999999999999999E-2,1736,92.007999999999996,1.06]
[null,"درصد وزنی",null,null,8.8999999999999999E-3,null,"جمع ماشين آلات ",null,92.007999999999996]
[null," شماره رديف يا رديفهاي معادل :                    010102",null,null,"بهای واحد کار:",null,null,null,10316.091999999999]
[null," بهای واحد رديف :",null,10300,"مقايسه پيشنهاد نسبت به برآورد (درصد)  ±",null,null,null,1.56E-3]
[null," بهای کل کار:",null,206000,"بهای کل کار:",null,null,null,206321.83999999997]
[null,"پ"]

{"sheet":"desk","index":7,"n_rows":11,"n_cols":6,"rows_kept":11,"cut":false,"hidden":true,"merged":[]}
[null,null,{"$f":"COUNTA(B:B)","v":4}]
[]
[]
[]
[]
[]
[null,null,null,null,null,"برنامه آناليز و پيشنهاد قيمت دانــــــا\nنويسنده برنامه : اميد شيخـــا"]
[null,"050202",null,null,null,"HTTP://WWW.KELASEFAN.COM"]
[null,"050101",null,null,null,"Email: Kelasefan@gmail.com"]
[null,"030101"]
[null,"020102"]